BEGIN:VCALENDAR
VERSION:2.0
PRODID:-//Minnesota Corn Growers Association - ECPv6.15.20//NONSGML v1.0//EN
CALSCALE:GREGORIAN
METHOD:PUBLISH
X-WR-CALNAME:Minnesota Corn Growers Association
X-ORIGINAL-URL:https://www.mncorn.org
X-WR-CALDESC:Events for Minnesota Corn Growers Association
REFRESH-INTERVAL;VALUE=DURATION:PT1H
X-Robots-Tag:noindex
X-PUBLISHED-TTL:PT1H
BEGIN:VTIMEZONE
TZID:America/Chicago
BEGIN:DAYLIGHT
TZOFFSETFROM:-0600
TZOFFSETTO:-0500
TZNAME:CDT
DTSTART:20230312T080000
END:DAYLIGHT
BEGIN:STANDARD
TZOFFSETFROM:-0500
TZOFFSETTO:-0600
TZNAME:CST
DTSTART:20231105T070000
END:STANDARD
BEGIN:DAYLIGHT
TZOFFSETFROM:-0600
TZOFFSETTO:-0500
TZNAME:CDT
DTSTART:20240310T080000
END:DAYLIGHT
BEGIN:STANDARD
TZOFFSETFROM:-0500
TZOFFSETTO:-0600
TZNAME:CST
DTSTART:20241103T070000
END:STANDARD
BEGIN:DAYLIGHT
TZOFFSETFROM:-0600
TZOFFSETTO:-0500
TZNAME:CDT
DTSTART:20250309T080000
END:DAYLIGHT
BEGIN:STANDARD
TZOFFSETFROM:-0500
TZOFFSETTO:-0600
TZNAME:CST
DTSTART:20251102T070000
END:STANDARD
END:VTIMEZONE
BEGIN:VEVENT
DTSTART;TZID=America/Chicago:20240126T170000
DTEND;TZID=America/Chicago:20240126T170000
DTSTAMP:20260425T233823
CREATED:20231204T185613Z
LAST-MODIFIED:20231204T185613Z
UID:26528-1706288400-1706288400@www.mncorn.org
SUMMARY:Meeker County Corn Growers 2024 Annual Banquet
DESCRIPTION:Friday\, January 26\, 2024 \n5:00pm Social Hour \n6:00pm Dinner followed by our annual meeting \n\n  \nLocation\nLitchfield Eagles Club\n389 CSAH 34 S\nLitchfield\, MN 55355 \n  \n\nJoin us for an evening of fun\, food\, conversation\, door prizes\, and more!
URL:https://www.mncorn.org/single-event/meeker-county-corn-growers-2024-annual-banquet/
LOCATION:Litchfield Eagles Club\, 389 CSAH 34 S\, Litchfield\, MN\, 55355
CATEGORIES:County Events
END:VEVENT
BEGIN:VEVENT
DTSTART;TZID=America/Chicago:20240126T170000
DTEND;TZID=America/Chicago:20240126T170000
DTSTAMP:20260425T233823
CREATED:20231204T185613Z
LAST-MODIFIED:20231204T185613Z
UID:29905-1706288400-1706288400@www.mncorn.org
SUMMARY:Meeker County Corn Growers 2024 Annual Banquet
DESCRIPTION:Friday\, January 26\, 2024 \n5:00pm Social Hour \n6:00pm Dinner followed by our annual meeting \n\n  \nLocation\nLitchfield Eagles Club\n389 CSAH 34 S\nLitchfield\, MN 55355 \n  \n\nJoin us for an evening of fun\, food\, conversation\, door prizes\, and more!
URL:https://www.mncorn.org/single-event/meeker-county-corn-growers-2024-annual-banquet-2/
LOCATION:Litchfield Eagles Club\, 389 CSAH 34 S\, Litchfield\, MN\, 55355
CATEGORIES:County Events
END:VEVENT
END:VCALENDAR