BEGIN:VCALENDAR
VERSION:2.0
PRODID:-//Minnesota Corn Growers Association - ECPv6.15.20//NONSGML v1.0//EN
CALSCALE:GREGORIAN
METHOD:PUBLISH
X-WR-CALNAME:Minnesota Corn Growers Association
X-ORIGINAL-URL:https://www.mncorn.org
X-WR-CALDESC:Events for Minnesota Corn Growers Association
REFRESH-INTERVAL;VALUE=DURATION:PT1H
X-Robots-Tag:noindex
X-PUBLISHED-TTL:PT1H
BEGIN:VTIMEZONE
TZID:America/Chicago
BEGIN:DAYLIGHT
TZOFFSETFROM:-0600
TZOFFSETTO:-0500
TZNAME:CDT
DTSTART:20230312T080000
END:DAYLIGHT
BEGIN:STANDARD
TZOFFSETFROM:-0500
TZOFFSETTO:-0600
TZNAME:CST
DTSTART:20231105T070000
END:STANDARD
BEGIN:DAYLIGHT
TZOFFSETFROM:-0600
TZOFFSETTO:-0500
TZNAME:CDT
DTSTART:20240310T080000
END:DAYLIGHT
BEGIN:STANDARD
TZOFFSETFROM:-0500
TZOFFSETTO:-0600
TZNAME:CST
DTSTART:20241103T070000
END:STANDARD
BEGIN:DAYLIGHT
TZOFFSETFROM:-0600
TZOFFSETTO:-0500
TZNAME:CDT
DTSTART:20250309T080000
END:DAYLIGHT
BEGIN:STANDARD
TZOFFSETFROM:-0500
TZOFFSETTO:-0600
TZNAME:CST
DTSTART:20251102T070000
END:STANDARD
END:VTIMEZONE
BEGIN:VEVENT
DTSTART;TZID=America/Chicago:20240127T173000
DTEND;TZID=America/Chicago:20240127T173000
DTSTAMP:20260425T233821
CREATED:20231116T191007Z
LAST-MODIFIED:20231116T191007Z
UID:29901-1706376600-1706376600@www.mncorn.org
SUMMARY:McLeod County Corn & Soybean Growers Annual Meeting Banquet
DESCRIPTION:Date: January 27 \nTime: 5:30pm \nLocation: Glencoe City Center \n  \nSpeaker: John Kriesel
URL:https://www.mncorn.org/single-event/mcleod-county-corn-growers-annual-meeting-banquet-2/
LOCATION:Glencoe City Center\, 1107 11th St E\, Glencoe\, MN\, 55336
CATEGORIES:County Events
END:VEVENT
BEGIN:VEVENT
DTSTART;TZID=America/Chicago:20240127T173000
DTEND;TZID=America/Chicago:20240127T173000
DTSTAMP:20260425T233821
CREATED:20231116T191007Z
LAST-MODIFIED:20240116T161852Z
UID:26420-1706376600-1706376600@www.mncorn.org
SUMMARY:McLeod County Corn & Soybean Growers Annual Meeting Banquet
DESCRIPTION:Date: January 27 \nTime: 5:30pm \nLocation: Glencoe City Center \n  \nSpeaker: John Kriesel
URL:https://www.mncorn.org/single-event/mcleod-county-corn-growers-annual-meeting-banquet/
LOCATION:Glencoe City Center\, 1107 11th St E\, Glencoe\, MN\, 55336
CATEGORIES:County Events
END:VEVENT
END:VCALENDAR