BEGIN:VCALENDAR
VERSION:2.0
PRODID:-//Minnesota Corn Growers Association - ECPv6.15.20//NONSGML v1.0//EN
CALSCALE:GREGORIAN
METHOD:PUBLISH
X-ORIGINAL-URL:https://www.mncorn.org
X-WR-CALDESC:Events for Minnesota Corn Growers Association
REFRESH-INTERVAL;VALUE=DURATION:PT1H
X-Robots-Tag:noindex
X-PUBLISHED-TTL:PT1H
BEGIN:VTIMEZONE
TZID:America/Chicago
BEGIN:DAYLIGHT
TZOFFSETFROM:-0600
TZOFFSETTO:-0500
TZNAME:CDT
DTSTART:20230312T080000
END:DAYLIGHT
BEGIN:STANDARD
TZOFFSETFROM:-0500
TZOFFSETTO:-0600
TZNAME:CST
DTSTART:20231105T070000
END:STANDARD
BEGIN:DAYLIGHT
TZOFFSETFROM:-0600
TZOFFSETTO:-0500
TZNAME:CDT
DTSTART:20240310T080000
END:DAYLIGHT
BEGIN:STANDARD
TZOFFSETFROM:-0500
TZOFFSETTO:-0600
TZNAME:CST
DTSTART:20241103T070000
END:STANDARD
BEGIN:DAYLIGHT
TZOFFSETFROM:-0600
TZOFFSETTO:-0500
TZNAME:CDT
DTSTART:20250309T080000
END:DAYLIGHT
BEGIN:STANDARD
TZOFFSETFROM:-0500
TZOFFSETTO:-0600
TZNAME:CST
DTSTART:20251102T070000
END:STANDARD
END:VTIMEZONE
BEGIN:VEVENT
DTSTART;TZID=America/Chicago:20240606T110000
DTEND;TZID=America/Chicago:20240606T130000
DTSTAMP:20260425T101639
CREATED:20240605T173706Z
LAST-MODIFIED:20240605T173706Z
UID:27456-1717671600-1717678800@www.mncorn.org
SUMMARY:Renville County Fuel Event
DESCRIPTION:The Renville County Corn and Soybean Growers are hosting a fuel promotion event! \n  \nDate: June 6th \nTime: 11:00-1:00pm \nLocation: Renville Cenex \n712 Park Ave E\, Renville \n  \nRenville County Fuel Event 2024 (2)
URL:https://www.mncorn.org/single-event/renville-county-fuel-event/
LOCATION:Home
CATEGORIES:County Events
END:VEVENT
BEGIN:VEVENT
DTSTART;TZID=America/Chicago:20240606T170000
DTEND;TZID=America/Chicago:20240606T200000
DTSTAMP:20260425T101639
CREATED:20240605T174353Z
LAST-MODIFIED:20240605T174353Z
UID:29938-1717693200-1717704000@www.mncorn.org
SUMMARY:Benton/Sherburne County Corn Growers Association 2024 Member Picnic
DESCRIPTION:Join the Benton/Sherburne County Corn Growers at their first ever member picnic! \n  \nDate: Thursday\, June 6th \nTime: 5:00-8:00pm \nLocation: Goenner Park \n7684 1st Ave W \nClear Lake\, MN \n  \nBenton Sherburne Member Picnic 2024 (3)
URL:https://www.mncorn.org/single-event/benton-sherburne-county-corn-growers-association-2024-member-picnic/
LOCATION:Home
CATEGORIES:County Events
END:VEVENT
END:VCALENDAR