BEGIN:VCALENDAR
VERSION:2.0
PRODID:-//Minnesota Corn Growers Association - ECPv6.15.20//NONSGML v1.0//EN
CALSCALE:GREGORIAN
METHOD:PUBLISH
X-WR-CALNAME:Minnesota Corn Growers Association
X-ORIGINAL-URL:https://www.mncorn.org
X-WR-CALDESC:Events for Minnesota Corn Growers Association
REFRESH-INTERVAL;VALUE=DURATION:PT1H
X-Robots-Tag:noindex
X-PUBLISHED-TTL:PT1H
BEGIN:VTIMEZONE
TZID:America/Chicago
BEGIN:DAYLIGHT
TZOFFSETFROM:-0600
TZOFFSETTO:-0500
TZNAME:CDT
DTSTART:20230312T080000
END:DAYLIGHT
BEGIN:STANDARD
TZOFFSETFROM:-0500
TZOFFSETTO:-0600
TZNAME:CST
DTSTART:20231105T070000
END:STANDARD
BEGIN:DAYLIGHT
TZOFFSETFROM:-0600
TZOFFSETTO:-0500
TZNAME:CDT
DTSTART:20240310T080000
END:DAYLIGHT
BEGIN:STANDARD
TZOFFSETFROM:-0500
TZOFFSETTO:-0600
TZNAME:CST
DTSTART:20241103T070000
END:STANDARD
BEGIN:DAYLIGHT
TZOFFSETFROM:-0600
TZOFFSETTO:-0500
TZNAME:CDT
DTSTART:20250309T080000
END:DAYLIGHT
BEGIN:STANDARD
TZOFFSETFROM:-0500
TZOFFSETTO:-0600
TZNAME:CST
DTSTART:20251102T070000
END:STANDARD
END:VTIMEZONE
BEGIN:VEVENT
DTSTART;TZID=America/Chicago:20240618T173000
DTEND;TZID=America/Chicago:20240618T173000
DTSTAMP:20260425T101558
CREATED:20240605T172932Z
LAST-MODIFIED:20240605T172932Z
UID:29937-1718731800-1718731800@www.mncorn.org
SUMMARY:Faribault County Corn & Soybean Growers Annual Meeting
DESCRIPTION:Join the Faribault County Corn & Soybean Growers at their Annual Meeting! \n  \nDate: Tuesday\, June 18th \n  \nLocation: Margaret’s Pub \n54 Main Street\, \nEaston\, MN \n  \nTime: 5:30pm Silent Auction \n6:00pm Meal & Program \nSpeaker to follow meal \n  \nFaribault postcard
URL:https://www.mncorn.org/single-event/faribault-county-corn-soybean-growers-annual-meeting/
LOCATION:Margaret’s Pub\, 54 Main Street\, Easton\, Minnesota\, 56025
CATEGORIES:County Events
END:VEVENT
END:VCALENDAR