BEGIN:VCALENDAR
VERSION:2.0
PRODID:-//Minnesota Corn Growers Association - ECPv6.15.20//NONSGML v1.0//EN
CALSCALE:GREGORIAN
METHOD:PUBLISH
X-ORIGINAL-URL:https://www.mncorn.org
X-WR-CALDESC:Events for Minnesota Corn Growers Association
REFRESH-INTERVAL;VALUE=DURATION:PT1H
X-Robots-Tag:noindex
X-PUBLISHED-TTL:PT1H
BEGIN:VTIMEZONE
TZID:America/Chicago
BEGIN:DAYLIGHT
TZOFFSETFROM:-0600
TZOFFSETTO:-0500
TZNAME:CDT
DTSTART:20230312T080000
END:DAYLIGHT
BEGIN:STANDARD
TZOFFSETFROM:-0500
TZOFFSETTO:-0600
TZNAME:CST
DTSTART:20231105T070000
END:STANDARD
BEGIN:DAYLIGHT
TZOFFSETFROM:-0600
TZOFFSETTO:-0500
TZNAME:CDT
DTSTART:20240310T080000
END:DAYLIGHT
BEGIN:STANDARD
TZOFFSETFROM:-0500
TZOFFSETTO:-0600
TZNAME:CST
DTSTART:20241103T070000
END:STANDARD
BEGIN:DAYLIGHT
TZOFFSETFROM:-0600
TZOFFSETTO:-0500
TZNAME:CDT
DTSTART:20250309T080000
END:DAYLIGHT
BEGIN:STANDARD
TZOFFSETFROM:-0500
TZOFFSETTO:-0600
TZNAME:CST
DTSTART:20251102T070000
END:STANDARD
END:VTIMEZONE
BEGIN:VEVENT
DTSTART;VALUE=DATE:20240626
DTEND;VALUE=DATE:20240627
DTSTAMP:20260425T101635
CREATED:20240604T150437Z
LAST-MODIFIED:20240604T150437Z
UID:29936-1719360000-1719446399@www.mncorn.org
SUMMARY:MCGA/MCRPC Jt. Board Meeting
DESCRIPTION:Read the agenda for the meeting here.
URL:https://www.mncorn.org/single-event/mcga-mcrpc-jt-board-meeting-13-2/
LOCATION:MCGA Office\, Burnsville\, MN\, 500 E Travelers Trail\, Suite 600\, Burnsville\, MN\, 55337\, United States
CATEGORIES:MCGA Events
END:VEVENT
BEGIN:VEVENT
DTSTART;VALUE=DATE:20240626
DTEND;VALUE=DATE:20240627
DTSTAMP:20260425T101635
CREATED:20240605T175608Z
LAST-MODIFIED:20240605T175608Z
UID:29939-1719360000-1719446399@www.mncorn.org
SUMMARY:Nicollet/Sibley County Corn & Soybean Growers Golf Outing
DESCRIPTION:Join the Nicollet/Sibley County Corn & Soybean Growers for their Annual Golf Event! \n  \nDate: Wednesday\, June 26th \nLocation: Winthrop Golf Course \n  \nThree rounds with tee times of 10:00am\, 1:00pm and 3:00pM\nCome for as many rounds as you’d like!\nCost includes cart and meals:\nOne Round – $35\, Two Rounds – $60\, Three Rounds – $75 \n  \nPre-registration requested by Friday June 21st \nWalk-In Registration accepted \nScan the QR Code on the PDF or visit\nhttps://z.umn.edu/24CobsPodsGolf \n  \nNicollet Sibley County Golf Postcard 2024
URL:https://www.mncorn.org/single-event/nicollet-sibley-county-corn-soybean-growers-golf-outing-2/
LOCATION:Winthrop Golf Club\, 55155 300th St\, Winthrop\, 55396\, United States
CATEGORIES:County Events
END:VEVENT
BEGIN:VEVENT
DTSTART;TZID=America/Chicago:20240626T100000
DTEND;TZID=America/Chicago:20240626T170000
DTSTAMP:20260425T101635
CREATED:20240620T172339Z
LAST-MODIFIED:20240620T172339Z
UID:29018-1719396000-1719421200@www.mncorn.org
SUMMARY:Nicollet/Sibley County Corn & Soybean Growers Golf Outing
DESCRIPTION:Join the Nicollet/Sibley County Corn & Soybean Growers for their Annual Golf Event! \nThree rounds with tee times of 10 a.m.\, 1 p.m. and 3 p.m. \nCost includes cart and meals. Register for as many rounds as you’d like.\nOne Round – $35\, Two Rounds – $60\, Three Rounds – $75 \nWalk-In Registration accepted\, but pre-registration is preferred by June 21 at https://z.umn.edu/24CobsPodsGolf.
URL:https://www.mncorn.org/single-event/nicollet-sibley-county-corn-soybean-growers-golf-outing/
LOCATION:Winthrop Golf Course – 55155 300th St\, Winthrop\, MN 55396\, United States
END:VEVENT
END:VCALENDAR