BEGIN:VCALENDAR
VERSION:2.0
PRODID:-//Minnesota Corn Growers Association - ECPv6.15.20//NONSGML v1.0//EN
CALSCALE:GREGORIAN
METHOD:PUBLISH
X-WR-CALNAME:Minnesota Corn Growers Association
X-ORIGINAL-URL:https://www.mncorn.org
X-WR-CALDESC:Events for Minnesota Corn Growers Association
REFRESH-INTERVAL;VALUE=DURATION:PT1H
X-Robots-Tag:noindex
X-PUBLISHED-TTL:PT1H
BEGIN:VTIMEZONE
TZID:America/Chicago
BEGIN:DAYLIGHT
TZOFFSETFROM:-0600
TZOFFSETTO:-0500
TZNAME:CDT
DTSTART:20230312T080000
END:DAYLIGHT
BEGIN:STANDARD
TZOFFSETFROM:-0500
TZOFFSETTO:-0600
TZNAME:CST
DTSTART:20231105T070000
END:STANDARD
BEGIN:DAYLIGHT
TZOFFSETFROM:-0600
TZOFFSETTO:-0500
TZNAME:CDT
DTSTART:20240310T080000
END:DAYLIGHT
BEGIN:STANDARD
TZOFFSETFROM:-0500
TZOFFSETTO:-0600
TZNAME:CST
DTSTART:20241103T070000
END:STANDARD
BEGIN:DAYLIGHT
TZOFFSETFROM:-0600
TZOFFSETTO:-0500
TZNAME:CDT
DTSTART:20250309T080000
END:DAYLIGHT
BEGIN:STANDARD
TZOFFSETFROM:-0500
TZOFFSETTO:-0600
TZNAME:CST
DTSTART:20251102T070000
END:STANDARD
END:VTIMEZONE
BEGIN:VEVENT
DTSTART;TZID=America/Chicago:20240718T140000
DTEND;TZID=America/Chicago:20240718T190000
DTSTAMP:20260425T085626
CREATED:20240625T210147Z
LAST-MODIFIED:20240625T210147Z
UID:29946-1721311200-1721329200@www.mncorn.org
SUMMARY:Pipestone County Corn & Soybean Growers Golf Outing
DESCRIPTION:The Pipestone County Corn & Soybean Growers are holding a golf outing on July 18 at the Pipestone Country Club! \n  \nDate: Thursday\, July 18 \nLocation: Pipestone Country Club \n1003 8th Ave SE\, Pipestone\, MN 56164 \nTime: 2:00pm Tee-Off \n5:00-7:00pm Steak Supper \n  \nCall or text Matt Haraldson at 507-820-0284 for golf\, supper or both by July 16th \n 
URL:https://www.mncorn.org/single-event/pipestone-county-corn-soybean-growers-golf-outing/
LOCATION:Pipestone Country Club\, 1003 8th Ave SE\, Pipestone\, MN\, 56164
CATEGORIES:County Events
END:VEVENT
END:VCALENDAR