BEGIN:VCALENDAR
VERSION:2.0
PRODID:-//Minnesota Corn Growers Association - ECPv6.15.20//NONSGML v1.0//EN
CALSCALE:GREGORIAN
METHOD:PUBLISH
X-ORIGINAL-URL:https://www.mncorn.org
X-WR-CALDESC:Events for Minnesota Corn Growers Association
REFRESH-INTERVAL;VALUE=DURATION:PT1H
X-Robots-Tag:noindex
X-PUBLISHED-TTL:PT1H
BEGIN:VTIMEZONE
TZID:America/Chicago
BEGIN:DAYLIGHT
TZOFFSETFROM:-0600
TZOFFSETTO:-0500
TZNAME:CDT
DTSTART:20230312T080000
END:DAYLIGHT
BEGIN:STANDARD
TZOFFSETFROM:-0500
TZOFFSETTO:-0600
TZNAME:CST
DTSTART:20231105T070000
END:STANDARD
BEGIN:DAYLIGHT
TZOFFSETFROM:-0600
TZOFFSETTO:-0500
TZNAME:CDT
DTSTART:20240310T080000
END:DAYLIGHT
BEGIN:STANDARD
TZOFFSETFROM:-0500
TZOFFSETTO:-0600
TZNAME:CST
DTSTART:20241103T070000
END:STANDARD
BEGIN:DAYLIGHT
TZOFFSETFROM:-0600
TZOFFSETTO:-0500
TZNAME:CDT
DTSTART:20250309T080000
END:DAYLIGHT
BEGIN:STANDARD
TZOFFSETFROM:-0500
TZOFFSETTO:-0600
TZNAME:CST
DTSTART:20251102T070000
END:STANDARD
END:VTIMEZONE
BEGIN:VEVENT
DTSTART;VALUE=DATE:20240822
DTEND;VALUE=DATE:20240903
DTSTAMP:20260425T073313
CREATED:20240607T144135Z
LAST-MODIFIED:20240607T144135Z
UID:29941-1724284800-1725321599@www.mncorn.org
SUMMARY:Minnesota State Fair
DESCRIPTION:
URL:https://www.mncorn.org/single-event/minnesota-state-fair-2-2/
CATEGORIES:General Public Events
END:VEVENT
BEGIN:VEVENT
DTSTART;TZID=America/Chicago:20240822T090000
DTEND;TZID=America/Chicago:20240822T150000
DTSTAMP:20260425T073313
CREATED:20240726T191031Z
LAST-MODIFIED:20240726T191104Z
UID:30717-1724317200-1724338800@www.mncorn.org
SUMMARY:2024 Minnesota Drainage & Conservation Summit
DESCRIPTION:You can RSVP for the summit here.
URL:https://www.mncorn.org/single-event/2024-minnesota-drainage-conservation-summit/
LOCATION:Nordick Farms\, 2675 250th Street\, Rothsay\, Minnesota\, 56579
CATEGORIES:Educational/Learning Opportunities
END:VEVENT
BEGIN:VEVENT
DTSTART;TZID=America/Chicago:20240822T170000
DTEND;TZID=America/Chicago:20240822T200000
DTSTAMP:20260425T073313
CREATED:20240729T170630Z
LAST-MODIFIED:20240729T170630Z
UID:30748-1724346000-1724356800@www.mncorn.org
SUMMARY:Meeker County Corn Growers Membership Picnic
DESCRIPTION:The Meeker County Corn Growers 2024 Member Picnic is on Thursday\, August 22 from 5:00-8:00pm at the Meeker County Fairgrounds in Litchfield! Join us for porkchops and great conversation! \n  \nMeeker Porkchop Picnic 2024 \n  \n 
URL:https://www.mncorn.org/single-event/meeker-county-corn-growers-membership-picnic/
LOCATION:Meeker County Fairgrounds\, 1230 N Armstrong Ave\, Litchfield\, Minnesota\, 55355
CATEGORIES:County Events
END:VEVENT
END:VCALENDAR