BEGIN:VCALENDAR
VERSION:2.0
PRODID:-//Minnesota Corn Growers Association - ECPv6.15.20//NONSGML v1.0//EN
CALSCALE:GREGORIAN
METHOD:PUBLISH
X-WR-CALNAME:Minnesota Corn Growers Association
X-ORIGINAL-URL:https://www.mncorn.org
X-WR-CALDESC:Events for Minnesota Corn Growers Association
REFRESH-INTERVAL;VALUE=DURATION:PT1H
X-Robots-Tag:noindex
X-PUBLISHED-TTL:PT1H
BEGIN:VTIMEZONE
TZID:America/Chicago
BEGIN:DAYLIGHT
TZOFFSETFROM:-0600
TZOFFSETTO:-0500
TZNAME:CDT
DTSTART:20230312T080000
END:DAYLIGHT
BEGIN:STANDARD
TZOFFSETFROM:-0500
TZOFFSETTO:-0600
TZNAME:CST
DTSTART:20231105T070000
END:STANDARD
BEGIN:DAYLIGHT
TZOFFSETFROM:-0600
TZOFFSETTO:-0500
TZNAME:CDT
DTSTART:20240310T080000
END:DAYLIGHT
BEGIN:STANDARD
TZOFFSETFROM:-0500
TZOFFSETTO:-0600
TZNAME:CST
DTSTART:20241103T070000
END:STANDARD
BEGIN:DAYLIGHT
TZOFFSETFROM:-0600
TZOFFSETTO:-0500
TZNAME:CDT
DTSTART:20250309T080000
END:DAYLIGHT
BEGIN:STANDARD
TZOFFSETFROM:-0500
TZOFFSETTO:-0600
TZNAME:CST
DTSTART:20251102T070000
END:STANDARD
END:VTIMEZONE
BEGIN:VEVENT
DTSTART;TZID=America/Chicago:20240903T170000
DTEND;TZID=America/Chicago:20240903T170000
DTSTAMP:20260425T061234
CREATED:20240827T182058Z
LAST-MODIFIED:20240827T182058Z
UID:31058-1725382800-1725382800@www.mncorn.org
SUMMARY:Olmsted-Wabasha County Corn & Soybean Growers Plot Day
DESCRIPTION:Join the Olmsted-Wabasha County Corn & Soybean growers at their plot day on Tuesday\, September 3rd! \n  \nTime: Registration starts at 5:00pm\, dinner will be served at 5:30pm \n  \nLocation: \nFrom Elgin\, take County 25 west to 305th street \nPlot is located 1.5 miles north on the east side of the road
URL:https://www.mncorn.org/single-event/olmsted-wabasha-county-corn-soybean-growers-plot-day-3/
CATEGORIES:County Events
END:VEVENT
END:VCALENDAR