BEGIN:VCALENDAR
VERSION:2.0
PRODID:-//Minnesota Corn Growers Association - ECPv6.15.20//NONSGML v1.0//EN
CALSCALE:GREGORIAN
METHOD:PUBLISH
X-WR-CALNAME:Minnesota Corn Growers Association
X-ORIGINAL-URL:https://www.mncorn.org
X-WR-CALDESC:Events for Minnesota Corn Growers Association
REFRESH-INTERVAL;VALUE=DURATION:PT1H
X-Robots-Tag:noindex
X-PUBLISHED-TTL:PT1H
BEGIN:VTIMEZONE
TZID:America/Chicago
BEGIN:DAYLIGHT
TZOFFSETFROM:-0600
TZOFFSETTO:-0500
TZNAME:CDT
DTSTART:20230312T080000
END:DAYLIGHT
BEGIN:STANDARD
TZOFFSETFROM:-0500
TZOFFSETTO:-0600
TZNAME:CST
DTSTART:20231105T070000
END:STANDARD
BEGIN:DAYLIGHT
TZOFFSETFROM:-0600
TZOFFSETTO:-0500
TZNAME:CDT
DTSTART:20240310T080000
END:DAYLIGHT
BEGIN:STANDARD
TZOFFSETFROM:-0500
TZOFFSETTO:-0600
TZNAME:CST
DTSTART:20241103T070000
END:STANDARD
BEGIN:DAYLIGHT
TZOFFSETFROM:-0600
TZOFFSETTO:-0500
TZNAME:CDT
DTSTART:20250309T080000
END:DAYLIGHT
BEGIN:STANDARD
TZOFFSETFROM:-0500
TZOFFSETTO:-0600
TZNAME:CST
DTSTART:20251102T070000
END:STANDARD
END:VTIMEZONE
BEGIN:VEVENT
DTSTART;TZID=America/Chicago:20240906T150000
DTEND;TZID=America/Chicago:20240906T170000
DTSTAMP:20260425T061236
CREATED:20240903T212712Z
LAST-MODIFIED:20240903T212712Z
UID:31154-1725634800-1725642000@www.mncorn.org
SUMMARY:Lac Qui Parle County Corn & Soybean Growers Fuel Event
DESCRIPTION:The Lac Qui Parle County Corn & Soybean Growers are hosting a fuel event on Friday\, September 6th from 3:00-5:00pm at the Lac Qui Parle Co-op Oil! \n  \nAddress: 127 8th Ave. S\, Madison \n  \nPromotion: $0.85 off/gal of E85!
URL:https://www.mncorn.org/single-event/lac-qui-parle-county-corn-soybean-growers-fuel-event/
LOCATION:Lac Qui Parle Co-op Oil\, 127 8th Ave S\, Madison\, MN\, 56256\, United States
CATEGORIES:County Events
END:VEVENT
END:VCALENDAR