BEGIN:VCALENDAR
VERSION:2.0
PRODID:-//Minnesota Corn Growers Association - ECPv6.15.20//NONSGML v1.0//EN
CALSCALE:GREGORIAN
METHOD:PUBLISH
X-ORIGINAL-URL:https://www.mncorn.org
X-WR-CALDESC:Events for Minnesota Corn Growers Association
REFRESH-INTERVAL;VALUE=DURATION:PT1H
X-Robots-Tag:noindex
X-PUBLISHED-TTL:PT1H
BEGIN:VTIMEZONE
TZID:America/Chicago
BEGIN:DAYLIGHT
TZOFFSETFROM:-0600
TZOFFSETTO:-0500
TZNAME:CDT
DTSTART:20230312T080000
END:DAYLIGHT
BEGIN:STANDARD
TZOFFSETFROM:-0500
TZOFFSETTO:-0600
TZNAME:CST
DTSTART:20231105T070000
END:STANDARD
BEGIN:DAYLIGHT
TZOFFSETFROM:-0600
TZOFFSETTO:-0500
TZNAME:CDT
DTSTART:20240310T080000
END:DAYLIGHT
BEGIN:STANDARD
TZOFFSETFROM:-0500
TZOFFSETTO:-0600
TZNAME:CST
DTSTART:20241103T070000
END:STANDARD
BEGIN:DAYLIGHT
TZOFFSETFROM:-0600
TZOFFSETTO:-0500
TZNAME:CDT
DTSTART:20250309T080000
END:DAYLIGHT
BEGIN:STANDARD
TZOFFSETFROM:-0500
TZOFFSETTO:-0600
TZNAME:CST
DTSTART:20251102T070000
END:STANDARD
END:VTIMEZONE
BEGIN:VEVENT
DTSTART;TZID=America/Chicago:20240913T150000
DTEND;TZID=America/Chicago:20240913T180000
DTSTAMP:20260425T061346
CREATED:20240827T183645Z
LAST-MODIFIED:20240827T183645Z
UID:31064-1726239600-1726250400@www.mncorn.org
SUMMARY:Todd County Corn & Soybean Growers Fuel Event
DESCRIPTION:Stop by Coborn’s and Little Dukes in Long Prairie on Friday\, September 13th for a corn grocery giveaway and fuel event! The corn grocery giveaway runs from 3:00-5:00pm or until gone in Coborn’s. The fuel event will be from 4:00-6:00pm at Little Duke’s. \n  \nCoborn’s Address: \n645 Lake St S\, Long Prairie\, MN 56347 \n  \nDiscounts Offered: \nE-15 – $1.15 off/ gal\nE-30 – $1.30 off/gal\nE-85 – $0.85/gal\nBiodiesel – $1.20 off/gal \n  \nTodd County Station Event Poster Fall 2024 (1)
URL:https://www.mncorn.org/single-event/todd-county-corn-soybean-growers-fuel-event-3/
LOCATION:Coborn’s Long Prairie\, 645 Lake St S\, Long Prairie\, MN\, 56347
CATEGORIES:County Events
END:VEVENT
END:VCALENDAR