BEGIN:VCALENDAR
VERSION:2.0
PRODID:-//Minnesota Corn Growers Association - ECPv6.15.20//NONSGML v1.0//EN
CALSCALE:GREGORIAN
METHOD:PUBLISH
X-ORIGINAL-URL:https://www.mncorn.org
X-WR-CALDESC:Events for Minnesota Corn Growers Association
REFRESH-INTERVAL;VALUE=DURATION:PT1H
X-Robots-Tag:noindex
X-PUBLISHED-TTL:PT1H
BEGIN:VTIMEZONE
TZID:America/Chicago
BEGIN:DAYLIGHT
TZOFFSETFROM:-0600
TZOFFSETTO:-0500
TZNAME:CDT
DTSTART:20230312T080000
END:DAYLIGHT
BEGIN:STANDARD
TZOFFSETFROM:-0500
TZOFFSETTO:-0600
TZNAME:CST
DTSTART:20231105T070000
END:STANDARD
BEGIN:DAYLIGHT
TZOFFSETFROM:-0600
TZOFFSETTO:-0500
TZNAME:CDT
DTSTART:20240310T080000
END:DAYLIGHT
BEGIN:STANDARD
TZOFFSETFROM:-0500
TZOFFSETTO:-0600
TZNAME:CST
DTSTART:20241103T070000
END:STANDARD
BEGIN:DAYLIGHT
TZOFFSETFROM:-0600
TZOFFSETTO:-0500
TZNAME:CDT
DTSTART:20250309T080000
END:DAYLIGHT
BEGIN:STANDARD
TZOFFSETFROM:-0500
TZOFFSETTO:-0600
TZNAME:CST
DTSTART:20251102T070000
END:STANDARD
END:VTIMEZONE
BEGIN:VEVENT
DTSTART;TZID=America/Chicago:20240917T170000
DTEND;TZID=America/Chicago:20240917T170000
DTSTAMP:20260425T061327
CREATED:20240829T185132Z
LAST-MODIFIED:20240829T185759Z
UID:31105-1726592400-1726592400@www.mncorn.org
SUMMARY:Steele County Corn & Soybean Growers Annual Meeting
DESCRIPTION:Join the Steele County Corn & Soybean growers at their annual meeting on Tuesday\, September 17th! \n  \nLocation: Mineral Springs Brewery \n111 N Walnut Ave Owatonna\, MN 55060 \n  \nTimes: \n5:00pm – Social Hour \n5:30pm – Brewery Tour \n6:00pm – Dinner (Sponsored by Matejcek’s Imp) \n6:45pm – Annual Meeting \n  \n*RSVP by September 13th by calling/texting Matt Heers to ensure your free meal and beverage. 507-475-1015 \n  \n*Each Person in attendance will receive one Free Beverage (Sponsored by Hodgman Drainage) \n  \n*For every person in attendance Steele County Corn and Soybean Growers will be donating $10 to Steele County FFA Chapters. \n  \nSteele co an mtg fy25
URL:https://www.mncorn.org/single-event/steele-county-corn-soybean-growers-annual-meeting-2/
LOCATION:Mineral Springs Brewery\, 111 Walnut Ave N\, Owatonna\, MN\, 55060\, United States
CATEGORIES:County Events
END:VEVENT
END:VCALENDAR