BEGIN:VCALENDAR
VERSION:2.0
PRODID:-//Minnesota Corn Growers Association - ECPv6.15.20//NONSGML v1.0//EN
CALSCALE:GREGORIAN
METHOD:PUBLISH
X-WR-CALNAME:Minnesota Corn Growers Association
X-ORIGINAL-URL:https://www.mncorn.org
X-WR-CALDESC:Events for Minnesota Corn Growers Association
REFRESH-INTERVAL;VALUE=DURATION:PT1H
X-Robots-Tag:noindex
X-PUBLISHED-TTL:PT1H
BEGIN:VTIMEZONE
TZID:America/Chicago
BEGIN:DAYLIGHT
TZOFFSETFROM:-0600
TZOFFSETTO:-0500
TZNAME:CDT
DTSTART:20240310T080000
END:DAYLIGHT
BEGIN:STANDARD
TZOFFSETFROM:-0500
TZOFFSETTO:-0600
TZNAME:CST
DTSTART:20241103T070000
END:STANDARD
BEGIN:DAYLIGHT
TZOFFSETFROM:-0600
TZOFFSETTO:-0500
TZNAME:CDT
DTSTART:20250309T080000
END:DAYLIGHT
BEGIN:STANDARD
TZOFFSETFROM:-0500
TZOFFSETTO:-0600
TZNAME:CST
DTSTART:20251102T070000
END:STANDARD
BEGIN:DAYLIGHT
TZOFFSETFROM:-0600
TZOFFSETTO:-0500
TZNAME:CDT
DTSTART:20260308T080000
END:DAYLIGHT
BEGIN:STANDARD
TZOFFSETFROM:-0500
TZOFFSETTO:-0600
TZNAME:CST
DTSTART:20261101T070000
END:STANDARD
END:VTIMEZONE
BEGIN:VEVENT
DTSTART;TZID=America/Chicago:20250304T173000
DTEND;TZID=America/Chicago:20250304T173000
DTSTAMP:20260424T215603
CREATED:20250225T203908Z
LAST-MODIFIED:20250225T203908Z
UID:32502-1741109400-1741109400@www.mncorn.org
SUMMARY:Yellow Medicine Corn & Soybean Growers Annual Meeting
DESCRIPTION:Join the Yellow Medicine Corn & Soybean Growers at their annual meeting on Tuesday\, March 4! \n  \nLocation: P K Egans Family Restaurant\n115 St Olaf Ave N\, Canby\, MN 56220 \n  \nSchedule: 5:30 p.m. Social\n6:00 p.m. Supper followed by annual meeting and speaker\, Brad Anderson \n  \nAbout Brad: \nBrad grew up on a farm 1 mile east of Clarkfield\, MN. He graduated\nfrom NDSU with a bachelor’s degree in agronomy and farmed before\ngetting a master’s degree in ag economics at the University of\nMinnesota.\nHe then went to Washington DC\, where he served on the staffs of\nCongressman Vin Weber and Senator Rudy Boschwitz. After his\ntime on Capitol Hill\, Brad joined USDA as a feed grain analyst for\nASCS where he contributed to USDA’s monthly supply and demand\nreports.\nBrad worked for Informa (formerly Sparks\, now S&P Global)\, Global\nAg (a Memphis-based CTA) and Bunge at its headquarters in White\nPlains\, NY. For the past 5 years\, Brad has been a crop analyst for\nCargill based in the Wayzata\, MN headquarters. He works with a\ngroup that forecasts U.S. corn\, soybean and wheat crops. \n  \nYM 25 Annual Postcard 8.5×5.5
URL:https://www.mncorn.org/single-event/yellow-medicine-corn-soybean-growers-annual-meeting/
LOCATION:P K Egans Family Restaurant\, 115 St Olaf Ave N\, Canby\, 56220
CATEGORIES:County Events
END:VEVENT
END:VCALENDAR