BEGIN:VCALENDAR
VERSION:2.0
PRODID:-//Minnesota Corn Growers Association - ECPv6.15.20//NONSGML v1.0//EN
CALSCALE:GREGORIAN
METHOD:PUBLISH
X-WR-CALNAME:Minnesota Corn Growers Association
X-ORIGINAL-URL:https://www.mncorn.org
X-WR-CALDESC:Events for Minnesota Corn Growers Association
REFRESH-INTERVAL;VALUE=DURATION:PT1H
X-Robots-Tag:noindex
X-PUBLISHED-TTL:PT1H
BEGIN:VTIMEZONE
TZID:America/Chicago
BEGIN:DAYLIGHT
TZOFFSETFROM:-0600
TZOFFSETTO:-0500
TZNAME:CDT
DTSTART:20240310T080000
END:DAYLIGHT
BEGIN:STANDARD
TZOFFSETFROM:-0500
TZOFFSETTO:-0600
TZNAME:CST
DTSTART:20241103T070000
END:STANDARD
BEGIN:DAYLIGHT
TZOFFSETFROM:-0600
TZOFFSETTO:-0500
TZNAME:CDT
DTSTART:20250309T080000
END:DAYLIGHT
BEGIN:STANDARD
TZOFFSETFROM:-0500
TZOFFSETTO:-0600
TZNAME:CST
DTSTART:20251102T070000
END:STANDARD
BEGIN:DAYLIGHT
TZOFFSETFROM:-0600
TZOFFSETTO:-0500
TZNAME:CDT
DTSTART:20260308T080000
END:DAYLIGHT
BEGIN:STANDARD
TZOFFSETFROM:-0500
TZOFFSETTO:-0600
TZNAME:CST
DTSTART:20261101T070000
END:STANDARD
END:VTIMEZONE
BEGIN:VEVENT
DTSTART;TZID=America/Chicago:20250311T110000
DTEND;TZID=America/Chicago:20250311T130000
DTSTAMP:20260424T215623
CREATED:20250218T153504Z
LAST-MODIFIED:20250218T153504Z
UID:32428-1741690800-1741698000@www.mncorn.org
SUMMARY:Wright/Hennepin County Corn Growers Annual Meeting
DESCRIPTION:The Wright/Hennepin County Corn Growers are holding their 2025 annual meeting on Tuesday\, March 11 at 11:00am with lunch to follow. Hope to see you there! \n  \nLocation: Howard Lake Legion \n616 7th Ave\, Howard Lake\, MN \n  \nSpeaker:  Megan Roberts – Economic Analyst \nMegan serves stakeholders through high-quality relevant learning experiences and data-driven decision making. Her interdisciplinary research interests include agribusiness economics\, farm policy\, and adult learning. \n 
URL:https://www.mncorn.org/single-event/wright-hennepin-county-corn-growers-annual-meeting-3/
LOCATION:Howard Lake Legion\, 616 7th Ave\, Howard Lake\, MN\, 55349
CATEGORIES:County Events
END:VEVENT
END:VCALENDAR