BEGIN:VCALENDAR
VERSION:2.0
PRODID:-//Minnesota Corn Growers Association - ECPv6.15.20//NONSGML v1.0//EN
CALSCALE:GREGORIAN
METHOD:PUBLISH
X-ORIGINAL-URL:https://www.mncorn.org
X-WR-CALDESC:Events for Minnesota Corn Growers Association
REFRESH-INTERVAL;VALUE=DURATION:PT1H
X-Robots-Tag:noindex
X-PUBLISHED-TTL:PT1H
BEGIN:VTIMEZONE
TZID:America/Chicago
BEGIN:DAYLIGHT
TZOFFSETFROM:-0600
TZOFFSETTO:-0500
TZNAME:CDT
DTSTART:20240310T080000
END:DAYLIGHT
BEGIN:STANDARD
TZOFFSETFROM:-0500
TZOFFSETTO:-0600
TZNAME:CST
DTSTART:20241103T070000
END:STANDARD
BEGIN:DAYLIGHT
TZOFFSETFROM:-0600
TZOFFSETTO:-0500
TZNAME:CDT
DTSTART:20250309T080000
END:DAYLIGHT
BEGIN:STANDARD
TZOFFSETFROM:-0500
TZOFFSETTO:-0600
TZNAME:CST
DTSTART:20251102T070000
END:STANDARD
BEGIN:DAYLIGHT
TZOFFSETFROM:-0600
TZOFFSETTO:-0500
TZNAME:CDT
DTSTART:20260308T080000
END:DAYLIGHT
BEGIN:STANDARD
TZOFFSETFROM:-0500
TZOFFSETTO:-0600
TZNAME:CST
DTSTART:20261101T070000
END:STANDARD
END:VTIMEZONE
BEGIN:VEVENT
DTSTART;TZID=America/Chicago:20250317T170000
DTEND;TZID=America/Chicago:20250317T170000
DTSTAMP:20260424T215619
CREATED:20250109T185104Z
LAST-MODIFIED:20250219T165830Z
UID:32101-1742230800-1742230800@www.mncorn.org
SUMMARY:Renville County Corn & Soybean Growers Annual Meeting
DESCRIPTION:Join the Renville County Corn & Soybean Growers at their annual meeting on Monday\, March 17th at Max’s Grill in Olivia! Free admission for Renville County Corn & Soybean Growers. \n  \nSchedule: 5:00pm Social \n6:00pm Meal \n7:00pm Entertainment – The BASICS \n  \nLocation: Max’s Grill \n2425 W Lincoln Ave \nOlivia\, MN 56277 \n  \nRSVP by March 12th to Doug Toreen: 320-579-0103 \n  \nRenville FY25 Annual Postcard
URL:https://www.mncorn.org/single-event/renville-county-corn-soybean-growers-annual-meeting-3/
LOCATION:Max’s Grill\, 2425 W Lincoln Ave\, Olivia\, MN\, 56277
CATEGORIES:County Events
END:VEVENT
END:VCALENDAR