BEGIN:VCALENDAR
VERSION:2.0
PRODID:-//Minnesota Corn Growers Association - ECPv6.15.20//NONSGML v1.0//EN
CALSCALE:GREGORIAN
METHOD:PUBLISH
X-WR-CALNAME:Minnesota Corn Growers Association
X-ORIGINAL-URL:https://www.mncorn.org
X-WR-CALDESC:Events for Minnesota Corn Growers Association
REFRESH-INTERVAL;VALUE=DURATION:PT1H
X-Robots-Tag:noindex
X-PUBLISHED-TTL:PT1H
BEGIN:VTIMEZONE
TZID:America/Chicago
BEGIN:DAYLIGHT
TZOFFSETFROM:-0600
TZOFFSETTO:-0500
TZNAME:CDT
DTSTART:20240310T080000
END:DAYLIGHT
BEGIN:STANDARD
TZOFFSETFROM:-0500
TZOFFSETTO:-0600
TZNAME:CST
DTSTART:20241103T070000
END:STANDARD
BEGIN:DAYLIGHT
TZOFFSETFROM:-0600
TZOFFSETTO:-0500
TZNAME:CDT
DTSTART:20250309T080000
END:DAYLIGHT
BEGIN:STANDARD
TZOFFSETFROM:-0500
TZOFFSETTO:-0600
TZNAME:CST
DTSTART:20251102T070000
END:STANDARD
BEGIN:DAYLIGHT
TZOFFSETFROM:-0600
TZOFFSETTO:-0500
TZNAME:CDT
DTSTART:20260308T080000
END:DAYLIGHT
BEGIN:STANDARD
TZOFFSETFROM:-0500
TZOFFSETTO:-0600
TZNAME:CST
DTSTART:20261101T070000
END:STANDARD
END:VTIMEZONE
BEGIN:VEVENT
DTSTART;TZID=America/Chicago:20250815T090000
DTEND;TZID=America/Chicago:20250815T090000
DTSTAMP:20260424T112708
CREATED:20250624T152654Z
LAST-MODIFIED:20250624T152654Z
UID:33386-1755248400-1755248400@www.mncorn.org
SUMMARY:Stearns County Corn Growers 26th Annual Golf Tournament
DESCRIPTION:Join the Stearns County Corn Growers for their 26th Annual Golf Tournament on Friday\, August 15th! 4-person scramble – Cash prizes for the 1st place team\, 2nd & 3rd place is a draw \n  \nLocation: Lynx National Golf Course \n40204 Primrose Ln\, Sauk Centre\, MN 56378 \n  \nSchedule: \n9:15-10:15am Check In \n10:30am Tee Off
URL:https://www.mncorn.org/single-event/stearns-county-corn-growers-26th-annual-golf-tournament/
LOCATION:Lynx National Golf Course\, Sauk Centre\, 40204 Primrose Lane\, Sauk Centre\, MN\, 56378\, United States
CATEGORIES:County Events
END:VEVENT
BEGIN:VEVENT
DTSTART;TZID=America/Chicago:20250815T090000
DTEND;TZID=America/Chicago:20250815T090000
DTSTAMP:20260424T112708
CREATED:20250722T180739Z
LAST-MODIFIED:20250722T180739Z
UID:33518-1755248400-1755248400@www.mncorn.org
SUMMARY:Dodge County Corn & Soybean Growers Cobs & Pods Golf Tournament
DESCRIPTION:Join the Dodge County Corn & Soybean Growers at their Cobs & Pods Golf Tournament on August 15th at the Oaks Golf Club! \n  \nLocation: Oaks Golf Club \n73671 170th Ave\, Hayfield\, MN 55940 \n  \nSchedule: 9:00am registration \n10:00am shotgun start \nNoon lunch on the go \n  \n18 Hole – 4 Person Scramble  – $100 per Golfer \nPre-register via text to Tyler Anderson at 507-316-4218 \nWalk-in registrations welcome! \nCash or check is preferred payment method \n  \n2025 Dodge Cobs & Pods Golf Tournament
URL:https://www.mncorn.org/single-event/dodge-county-corn-soybean-growers-cobs-pods-golf-tournament/
LOCATION:The Oaks Golf Club\, 73671 170th Ave\, Hayfield\, MN\, 55940
CATEGORIES:County Events
END:VEVENT
END:VCALENDAR