BEGIN:VCALENDAR
VERSION:2.0
PRODID:-//Minnesota Corn Growers Association - ECPv6.15.20//NONSGML v1.0//EN
CALSCALE:GREGORIAN
METHOD:PUBLISH
X-WR-CALNAME:Minnesota Corn Growers Association
X-ORIGINAL-URL:https://www.mncorn.org
X-WR-CALDESC:Events for Minnesota Corn Growers Association
REFRESH-INTERVAL;VALUE=DURATION:PT1H
X-Robots-Tag:noindex
X-PUBLISHED-TTL:PT1H
BEGIN:VTIMEZONE
TZID:America/Chicago
BEGIN:DAYLIGHT
TZOFFSETFROM:-0600
TZOFFSETTO:-0500
TZNAME:CDT
DTSTART:20240310T080000
END:DAYLIGHT
BEGIN:STANDARD
TZOFFSETFROM:-0500
TZOFFSETTO:-0600
TZNAME:CST
DTSTART:20241103T070000
END:STANDARD
BEGIN:DAYLIGHT
TZOFFSETFROM:-0600
TZOFFSETTO:-0500
TZNAME:CDT
DTSTART:20250309T080000
END:DAYLIGHT
BEGIN:STANDARD
TZOFFSETFROM:-0500
TZOFFSETTO:-0600
TZNAME:CST
DTSTART:20251102T070000
END:STANDARD
BEGIN:DAYLIGHT
TZOFFSETFROM:-0600
TZOFFSETTO:-0500
TZNAME:CDT
DTSTART:20260308T080000
END:DAYLIGHT
BEGIN:STANDARD
TZOFFSETFROM:-0500
TZOFFSETTO:-0600
TZNAME:CST
DTSTART:20261101T070000
END:STANDARD
END:VTIMEZONE
BEGIN:VEVENT
DTSTART;TZID=America/Chicago:20251209T083000
DTEND;TZID=America/Chicago:20251209T083000
DTSTAMP:20260424T062457
CREATED:20251027T153535Z
LAST-MODIFIED:20251112T163154Z
UID:34105-1765269000-1765269000@www.mncorn.org
SUMMARY:Renville County Corn & Soybean Growers Winter Breakfast
DESCRIPTION:The Renville County Corn & Soybean Growers are holding a winter breakfast on December 9 at Max’s Grill. Enjoy a meal\, connect with local farmers and hear from engaging speakers sharing insights on the year ahead. We hope to see you there! \n  \nDate: Tuesday\, December 9 \nSchedule: Breakfast at 8:30am – Speakers to follow \nLocation: Max’s Grill \n2425 W Lincoln Ave\, Olivia \n  \nSpeakers: \nDave Nicolai & Matt Pfarr – Extension Educators\, Crops \nCurt Burns – Agronomist\, CB Agronomics \nT/Sgt Sabrina Skold – State Patrol Trooper \nAlex Trunnel – Public Policy Manager\, Minnesota Corn \nSergio Cabello Leiva\, PhD – Director of Research\, Ag Management Solutions \n  \nRenville Winter Breakfast 2025 (3)
URL:https://www.mncorn.org/single-event/renville-county-corn-soybean-growers-winter-breakfast/
LOCATION:Max’s Bar and Grill\, 2425 W Lincoln Ave\, Olivia\, MN\, 56277\, United States
CATEGORIES:County Events
END:VEVENT
END:VCALENDAR