BEGIN:VCALENDAR
VERSION:2.0
PRODID:-//Minnesota Corn Growers Association - ECPv6.15.20//NONSGML v1.0//EN
CALSCALE:GREGORIAN
METHOD:PUBLISH
X-ORIGINAL-URL:https://www.mncorn.org
X-WR-CALDESC:Events for Minnesota Corn Growers Association
REFRESH-INTERVAL;VALUE=DURATION:PT1H
X-Robots-Tag:noindex
X-PUBLISHED-TTL:PT1H
BEGIN:VTIMEZONE
TZID:America/Chicago
BEGIN:DAYLIGHT
TZOFFSETFROM:-0600
TZOFFSETTO:-0500
TZNAME:CDT
DTSTART:20250309T080000
END:DAYLIGHT
BEGIN:STANDARD
TZOFFSETFROM:-0500
TZOFFSETTO:-0600
TZNAME:CST
DTSTART:20251102T070000
END:STANDARD
BEGIN:DAYLIGHT
TZOFFSETFROM:-0600
TZOFFSETTO:-0500
TZNAME:CDT
DTSTART:20260308T080000
END:DAYLIGHT
BEGIN:STANDARD
TZOFFSETFROM:-0500
TZOFFSETTO:-0600
TZNAME:CST
DTSTART:20261101T070000
END:STANDARD
BEGIN:DAYLIGHT
TZOFFSETFROM:-0600
TZOFFSETTO:-0500
TZNAME:CDT
DTSTART:20270314T080000
END:DAYLIGHT
BEGIN:STANDARD
TZOFFSETFROM:-0500
TZOFFSETTO:-0600
TZNAME:CST
DTSTART:20271107T070000
END:STANDARD
END:VTIMEZONE
BEGIN:VEVENT
DTSTART;TZID=America/Chicago:20260207T173000
DTEND;TZID=America/Chicago:20260207T173000
DTSTAMP:20260424T050109
CREATED:20251110T194537Z
LAST-MODIFIED:20260127T194443Z
UID:34319-1770485400-1770485400@www.mncorn.org
SUMMARY:Lincoln County Corn & Soybean Growers Annual Meeting
DESCRIPTION:The Lincoln County Corn & Soybean Growers are holding their annual meeting on February 7 at the Ivanhoe VFW starting at 5:30pm. We hope to see you there! \n  \nLocation: Ivanhoe VFW \n116 E Saxon St\, Ivanhoe\, MN
URL:https://www.mncorn.org/single-event/lincoln-county-corn-soybean-growers-annual-meeting-2/
LOCATION:Ivanhoe VFW\, 116 E Saxon St\, Ivanhoe\, 56142\, United States
CATEGORIES:County Events
END:VEVENT
END:VCALENDAR