BEGIN:VCALENDAR
VERSION:2.0
PRODID:-//Minnesota Corn Growers Association - ECPv6.15.20//NONSGML v1.0//EN
CALSCALE:GREGORIAN
METHOD:PUBLISH
X-ORIGINAL-URL:https://www.mncorn.org
X-WR-CALDESC:Events for Minnesota Corn Growers Association
REFRESH-INTERVAL;VALUE=DURATION:PT1H
X-Robots-Tag:noindex
X-PUBLISHED-TTL:PT1H
BEGIN:VTIMEZONE
TZID:America/Chicago
BEGIN:DAYLIGHT
TZOFFSETFROM:-0600
TZOFFSETTO:-0500
TZNAME:CDT
DTSTART:20250309T080000
END:DAYLIGHT
BEGIN:STANDARD
TZOFFSETFROM:-0500
TZOFFSETTO:-0600
TZNAME:CST
DTSTART:20251102T070000
END:STANDARD
BEGIN:DAYLIGHT
TZOFFSETFROM:-0600
TZOFFSETTO:-0500
TZNAME:CDT
DTSTART:20260308T080000
END:DAYLIGHT
BEGIN:STANDARD
TZOFFSETFROM:-0500
TZOFFSETTO:-0600
TZNAME:CST
DTSTART:20261101T070000
END:STANDARD
BEGIN:DAYLIGHT
TZOFFSETFROM:-0600
TZOFFSETTO:-0500
TZNAME:CDT
DTSTART:20270314T080000
END:DAYLIGHT
BEGIN:STANDARD
TZOFFSETFROM:-0500
TZOFFSETTO:-0600
TZNAME:CST
DTSTART:20271107T070000
END:STANDARD
END:VTIMEZONE
BEGIN:VEVENT
DTSTART;TZID=America/Chicago:20260212T170000
DTEND;TZID=America/Chicago:20260212T170000
DTSTAMP:20260424T050140
CREATED:20260211T162011Z
LAST-MODIFIED:20260211T162011Z
UID:35137-1770915600-1770915600@www.mncorn.org
SUMMARY:Pennington/Red Lake Corn & Soybean Growers Annual Meeting
DESCRIPTION:Join the Pennington/Red Lake Corn & Soybean Growers at their annual meeting on February 12th at 5:00pm at Piggy BBQ in Thief River Falls. Hear updates from the corn and soybean growers associations\, and enjoy supper on us. We hope to see you there! \n  \nLocation: Piggy BBQ \n123 3rd St E 2nd Floor\, Thief River Falls\, MN 56701
URL:https://www.mncorn.org/single-event/pennington-red-lake-corn-soybean-growers-annual-meeting/
LOCATION:Piggy BBQ\, 123 3rd St E 2nd Floor\, Thief River Falls\, MN\, 56701
CATEGORIES:County Events
END:VEVENT
END:VCALENDAR