BEGIN:VCALENDAR
VERSION:2.0
PRODID:-//Minnesota Corn Growers Association - ECPv6.15.20//NONSGML v1.0//EN
CALSCALE:GREGORIAN
METHOD:PUBLISH
X-WR-CALNAME:Minnesota Corn Growers Association
X-ORIGINAL-URL:https://www.mncorn.org
X-WR-CALDESC:Events for Minnesota Corn Growers Association
REFRESH-INTERVAL;VALUE=DURATION:PT1H
X-Robots-Tag:noindex
X-PUBLISHED-TTL:PT1H
BEGIN:VTIMEZONE
TZID:America/Chicago
BEGIN:DAYLIGHT
TZOFFSETFROM:-0600
TZOFFSETTO:-0500
TZNAME:CDT
DTSTART:20250309T080000
END:DAYLIGHT
BEGIN:STANDARD
TZOFFSETFROM:-0500
TZOFFSETTO:-0600
TZNAME:CST
DTSTART:20251102T070000
END:STANDARD
BEGIN:DAYLIGHT
TZOFFSETFROM:-0600
TZOFFSETTO:-0500
TZNAME:CDT
DTSTART:20260308T080000
END:DAYLIGHT
BEGIN:STANDARD
TZOFFSETFROM:-0500
TZOFFSETTO:-0600
TZNAME:CST
DTSTART:20261101T070000
END:STANDARD
BEGIN:DAYLIGHT
TZOFFSETFROM:-0600
TZOFFSETTO:-0500
TZNAME:CDT
DTSTART:20270314T080000
END:DAYLIGHT
BEGIN:STANDARD
TZOFFSETFROM:-0500
TZOFFSETTO:-0600
TZNAME:CST
DTSTART:20271107T070000
END:STANDARD
END:VTIMEZONE
BEGIN:VEVENT
DTSTART;TZID=America/Chicago:20260312T160000
DTEND;TZID=America/Chicago:20260312T180000
DTSTAMP:20260424T021742
CREATED:20260130T181722Z
LAST-MODIFIED:20260130T181722Z
UID:35048-1773331200-1773338400@www.mncorn.org
SUMMARY:Blue Earth County Corn & Soybean Growers Social Hour Event
DESCRIPTION:Join the Blue Earth County Corn & Soybean Growers at one of their social events! The first one will be held on Thursday\, March 12 from 4:00-6:00pm at Jamie’s Pub in Pemberton. \n  \nLocation: Jamie’s Pub\n215 Main St\, Pemberton\, MN 56078 \n  \nJoin us for an evening to learn how the corn and soybean checkoffs work for you\, and put your name in for a chance to win a door prize. Enjoy free drinks and appetizers during the event. \n  \nFY26 Blue Earth Co Flyer
URL:https://www.mncorn.org/single-event/blue-earth-county-corn-soybean-growers-social-hour-event/
LOCATION:Jamie’s Pub\, 215 Main St\, Pemberton\, MN\, 56078
CATEGORIES:County Events
END:VEVENT
END:VCALENDAR