BEGIN:VCALENDAR
VERSION:2.0
PRODID:-//Minnesota Corn Growers Association - ECPv6.15.20//NONSGML v1.0//EN
CALSCALE:GREGORIAN
METHOD:PUBLISH
X-WR-CALNAME:Minnesota Corn Growers Association
X-ORIGINAL-URL:https://www.mncorn.org
X-WR-CALDESC:Events for Minnesota Corn Growers Association
REFRESH-INTERVAL;VALUE=DURATION:PT1H
X-Robots-Tag:noindex
X-PUBLISHED-TTL:PT1H
BEGIN:VTIMEZONE
TZID:America/Chicago
BEGIN:DAYLIGHT
TZOFFSETFROM:-0600
TZOFFSETTO:-0500
TZNAME:CDT
DTSTART:20250309T080000
END:DAYLIGHT
BEGIN:STANDARD
TZOFFSETFROM:-0500
TZOFFSETTO:-0600
TZNAME:CST
DTSTART:20251102T070000
END:STANDARD
BEGIN:DAYLIGHT
TZOFFSETFROM:-0600
TZOFFSETTO:-0500
TZNAME:CDT
DTSTART:20260308T080000
END:DAYLIGHT
BEGIN:STANDARD
TZOFFSETFROM:-0500
TZOFFSETTO:-0600
TZNAME:CST
DTSTART:20261101T070000
END:STANDARD
BEGIN:DAYLIGHT
TZOFFSETFROM:-0600
TZOFFSETTO:-0500
TZNAME:CDT
DTSTART:20270314T080000
END:DAYLIGHT
BEGIN:STANDARD
TZOFFSETFROM:-0500
TZOFFSETTO:-0600
TZNAME:CST
DTSTART:20271107T070000
END:STANDARD
END:VTIMEZONE
BEGIN:VEVENT
DTSTART;TZID=America/Chicago:20260324T173000
DTEND;TZID=America/Chicago:20260324T173000
DTSTAMP:20260424T021736
CREATED:20260309T201843Z
LAST-MODIFIED:20260309T201843Z
UID:35289-1774373400-1774373400@www.mncorn.org
SUMMARY:Todd County Corn & Soybean Growers Annual Meeting
DESCRIPTION:The Todd County Corn & Soybean growers are holding their annual meeting on Tuesday\, March 24 at the Clarissa Ballroom. Join us for an evening featuring a speaker from Northern Crops Institute (NCI)\, recognition for the 2025 scholarship recipients\, county program updates and hear reports from Minnesota Corn and Minnesota Soybean on how your checkoff dollars are at work statewide. Bring your families and come enjoy a free meal provided by the Todd County Corn & Soybean growers. \n  \nLocation: Clarissa Ballroom \n19281 Kotter Rd\, Clarissa\, MN 56440 \n  \nSchedule: 5:30pm – Social \n6:00pm – Meal \n6:45pm – Annual Meeting \n7:00pm – Speaker
URL:https://www.mncorn.org/single-event/todd-county-corn-soybean-growers-annual-meeting-6/
LOCATION:Clarissa Ballroom\, 19281 Kotter Rd\, Clarissa\, MN\, 56440\, United States
CATEGORIES:County Events
END:VEVENT
END:VCALENDAR