BEGIN:VCALENDAR
VERSION:2.0
PRODID:-//Minnesota Corn Growers Association - ECPv6.15.20//NONSGML v1.0//EN
CALSCALE:GREGORIAN
METHOD:PUBLISH
X-WR-CALNAME:Minnesota Corn Growers Association
X-ORIGINAL-URL:https://www.mncorn.org
X-WR-CALDESC:Events for Minnesota Corn Growers Association
REFRESH-INTERVAL;VALUE=DURATION:PT1H
X-Robots-Tag:noindex
X-PUBLISHED-TTL:PT1H
BEGIN:VTIMEZONE
TZID:America/Chicago
BEGIN:DAYLIGHT
TZOFFSETFROM:-0600
TZOFFSETTO:-0500
TZNAME:CDT
DTSTART:20200308T080000
END:DAYLIGHT
BEGIN:STANDARD
TZOFFSETFROM:-0500
TZOFFSETTO:-0600
TZNAME:CST
DTSTART:20201101T070000
END:STANDARD
BEGIN:DAYLIGHT
TZOFFSETFROM:-0600
TZOFFSETTO:-0500
TZNAME:CDT
DTSTART:20210314T080000
END:DAYLIGHT
BEGIN:STANDARD
TZOFFSETFROM:-0500
TZOFFSETTO:-0600
TZNAME:CST
DTSTART:20211107T070000
END:STANDARD
BEGIN:DAYLIGHT
TZOFFSETFROM:-0600
TZOFFSETTO:-0500
TZNAME:CDT
DTSTART:20220313T080000
END:DAYLIGHT
BEGIN:STANDARD
TZOFFSETFROM:-0500
TZOFFSETTO:-0600
TZNAME:CST
DTSTART:20221106T070000
END:STANDARD
END:VTIMEZONE
BEGIN:VEVENT
DTSTART;TZID=America/Chicago:20210812T183000
DTEND;TZID=America/Chicago:20210812T203000
DTSTAMP:20260425T155342
CREATED:20210709T180037Z
LAST-MODIFIED:20210709T180037Z
UID:16606-1628793000-1628800200@www.mncorn.org
SUMMARY:Pope County Corn and Soybean Growers Association Annual Meeting
DESCRIPTION:6:30 p.m.: Social \n7 p.m.: Meal \nMeeting and guest speaker Thom Petersen to follow
URL:https://www.mncorn.org/single-event/pope-county-corn-and-soybean-growers-association-annual-meeting/
LOCATION:Minnewaska House\, 24895 MN-28\, Glenwood\, MN\, 56334\, United States
CATEGORIES:County Events
END:VEVENT
BEGIN:VEVENT
DTSTART;TZID=America/Chicago:20210812T183000
DTEND;TZID=America/Chicago:20210812T203000
DTSTAMP:20260425T155342
CREATED:20210709T180037Z
LAST-MODIFIED:20210709T180037Z
UID:29671-1628793000-1628800200@www.mncorn.org
SUMMARY:Pope County Corn and Soybean Growers Association Annual Meeting
DESCRIPTION:6:30 p.m.: Social \n7 p.m.: Meal \nMeeting and guest speaker Thom Petersen to follow
URL:https://www.mncorn.org/single-event/pope-county-corn-and-soybean-growers-association-annual-meeting-2/
LOCATION:Minnewaska House\, 24895 MN-28\, Glenwood\, MN\, 56334\, United States
CATEGORIES:County Events
END:VEVENT
BEGIN:VEVENT
DTSTART;TZID=America/Chicago:20210819T160000
DTEND;TZID=America/Chicago:20210819T180000
DTSTAMP:20260425T155342
CREATED:20210723T211446Z
LAST-MODIFIED:20210723T211446Z
UID:29678-1629388800-1629396000@www.mncorn.org
SUMMARY:Dakota/Rice Corn and Soybean Growers Association fuel event
DESCRIPTION:
URL:https://www.mncorn.org/single-event/dakota-rice-corn-and-soybean-growers-association-fuel-event-2/
LOCATION:Kwik Trip 343\, 17388 GLACIER WAY\, Lakeville\, Minnesota\, 55044
CATEGORIES:County Events
END:VEVENT
BEGIN:VEVENT
DTSTART;TZID=America/Chicago:20210819T160000
DTEND;TZID=America/Chicago:20210819T180000
DTSTAMP:20260425T155342
CREATED:20210723T211446Z
LAST-MODIFIED:20210812T183408Z
UID:16831-1629388800-1629396000@www.mncorn.org
SUMMARY:Dakota/Rice Corn and Soybean Growers Association fuel event
DESCRIPTION:
URL:https://www.mncorn.org/single-event/dakota-rice-corn-and-soybean-growers-association-fuel-event/
LOCATION:Kwik Trip 343\, 17388 GLACIER WAY\, Lakeville\, Minnesota\, 55044
CATEGORIES:County Events
END:VEVENT
BEGIN:VEVENT
DTSTART;VALUE=DATE:20210820
DTEND;VALUE=DATE:20210821
DTSTAMP:20260425T155342
CREATED:20210722T201524Z
LAST-MODIFIED:20210722T201524Z
UID:16814-1629417600-1629503999@www.mncorn.org
SUMMARY:Pod and Cob Classic golf outing
DESCRIPTION:Registration: 9:30 a.m.\nTee off: 10:30 a.m.\nLunch to go: 12:00 p.m. \nFour-person scramble\n18 hole shotgun start\n$75 RSVP by Aug. 3\n$100 at door \nProceeds fund college scholarships for Dodge County students pursuing agriculture degrees. \nQuestions? Contact Pete Henslin at 507-421-6781. \nBrought to you by Dodge County Corn & Soybean Growers and their check-offs.
URL:https://www.mncorn.org/single-event/pod-and-cob-classic-golf-outing/
LOCATION:Dodge Country Club\, Dodge Center\, MN\, 18187 County Road 34\, Dodge Center\, MN\, 55927\, United States
CATEGORIES:County Events
END:VEVENT
BEGIN:VEVENT
DTSTART;VALUE=DATE:20210820
DTEND;VALUE=DATE:20210821
DTSTAMP:20260425T155342
CREATED:20210722T201524Z
LAST-MODIFIED:20210722T201524Z
UID:29677-1629417600-1629503999@www.mncorn.org
SUMMARY:Pod and Cob Classic golf outing
DESCRIPTION:Registration: 9:30 a.m.\nTee off: 10:30 a.m.\nLunch to go: 12:00 p.m. \nFour-person scramble\n18 hole shotgun start\n$75 RSVP by Aug. 3\n$100 at door \nProceeds fund college scholarships for Dodge County students pursuing agriculture degrees. \nQuestions? Contact Pete Henslin at 507-421-6781. \nBrought to you by Dodge County Corn & Soybean Growers and their check-offs.
URL:https://www.mncorn.org/single-event/pod-and-cob-classic-golf-outing-2/
LOCATION:Dodge Country Club\, Dodge Center\, MN\, 18187 County Road 34\, Dodge Center\, MN\, 55927\, United States
CATEGORIES:County Events
END:VEVENT
BEGIN:VEVENT
DTSTART;VALUE=DATE:20210824
DTEND;VALUE=DATE:20210825
DTSTAMP:20260425T155342
CREATED:20210810T135527Z
LAST-MODIFIED:20210810T135527Z
UID:29684-1629763200-1629849599@www.mncorn.org
SUMMARY:Goodhue County Corn & Soybean  Growers Annual Meeting & Plot Day
DESCRIPTION:11:00 a.m. Plot Tour \n12:30 p.m. Lunch
URL:https://www.mncorn.org/single-event/goodhue-county-corn-soybean-growers-annual-meeting-plot-day-2/
LOCATION:Reed Lexvold Farm\, 37375 County 6 Blvd\, Goodhue\, Minnesota\, 55027
CATEGORIES:County Events
END:VEVENT
BEGIN:VEVENT
DTSTART;VALUE=DATE:20210824
DTEND;VALUE=DATE:20210825
DTSTAMP:20260425T155342
CREATED:20210810T135527Z
LAST-MODIFIED:20210810T135527Z
UID:16945-1629763200-1629849599@www.mncorn.org
SUMMARY:Goodhue County Corn & Soybean  Growers Annual Meeting & Plot Day
DESCRIPTION:11:00 a.m. Plot Tour \n12:30 p.m. Lunch
URL:https://www.mncorn.org/single-event/goodhue-county-corn-soybean-growers-annual-meeting-plot-day/
LOCATION:Reed Lexvold Farm\, 37375 County 6 Blvd\, Goodhue\, Minnesota\, 55027
CATEGORIES:County Events
END:VEVENT
END:VCALENDAR