BEGIN:VCALENDAR
VERSION:2.0
PRODID:-//Minnesota Corn Growers Association - ECPv6.15.20//NONSGML v1.0//EN
CALSCALE:GREGORIAN
METHOD:PUBLISH
X-WR-CALNAME:Minnesota Corn Growers Association
X-ORIGINAL-URL:https://www.mncorn.org
X-WR-CALDESC:Events for Minnesota Corn Growers Association
REFRESH-INTERVAL;VALUE=DURATION:PT1H
X-Robots-Tag:noindex
X-PUBLISHED-TTL:PT1H
BEGIN:VTIMEZONE
TZID:America/Chicago
BEGIN:DAYLIGHT
TZOFFSETFROM:-0600
TZOFFSETTO:-0500
TZNAME:CDT
DTSTART:20210314T080000
END:DAYLIGHT
BEGIN:STANDARD
TZOFFSETFROM:-0500
TZOFFSETTO:-0600
TZNAME:CST
DTSTART:20211107T070000
END:STANDARD
BEGIN:DAYLIGHT
TZOFFSETFROM:-0600
TZOFFSETTO:-0500
TZNAME:CDT
DTSTART:20220313T080000
END:DAYLIGHT
BEGIN:STANDARD
TZOFFSETFROM:-0500
TZOFFSETTO:-0600
TZNAME:CST
DTSTART:20221106T070000
END:STANDARD
BEGIN:DAYLIGHT
TZOFFSETFROM:-0600
TZOFFSETTO:-0500
TZNAME:CDT
DTSTART:20230312T080000
END:DAYLIGHT
BEGIN:STANDARD
TZOFFSETFROM:-0500
TZOFFSETTO:-0600
TZNAME:CST
DTSTART:20231105T070000
END:STANDARD
END:VTIMEZONE
BEGIN:VEVENT
DTSTART;TZID=America/Chicago:20220121T170000
DTEND;TZID=America/Chicago:20220121T200000
DTSTAMP:20260425T101744
CREATED:20220106T161112Z
LAST-MODIFIED:20220106T161112Z
UID:29713-1642784400-1642795200@www.mncorn.org
SUMMARY:Meeker County Corn Growers Annual Meeting
DESCRIPTION:
URL:https://www.mncorn.org/single-event/meeker-county-corn-growers-annual-meeting-2-2/
LOCATION:Steffes Auction (24400 MN-22\, Litchfield\, MN 55355) \, United States
CATEGORIES:County Events
END:VEVENT
BEGIN:VEVENT
DTSTART;TZID=America/Chicago:20220121T170000
DTEND;TZID=America/Chicago:20220121T200000
DTSTAMP:20260425T101744
CREATED:20220106T161112Z
LAST-MODIFIED:20220106T161112Z
UID:19178-1642784400-1642795200@www.mncorn.org
SUMMARY:Meeker County Corn Growers Annual Meeting
DESCRIPTION:
URL:https://www.mncorn.org/single-event/meeker-county-corn-growers-annual-meeting-2/
LOCATION:Steffes Auction (24400 MN-22\, Litchfield\, MN 55355) \, United States
CATEGORIES:County Events
END:VEVENT
BEGIN:VEVENT
DTSTART;VALUE=DATE:20220125
DTEND;VALUE=DATE:20220126
DTSTAMP:20260425T101744
CREATED:20211111T195734Z
LAST-MODIFIED:20211111T195734Z
UID:18291-1643068800-1643155199@www.mncorn.org
SUMMARY:Clay/Wilkin S/C Annual Meeting
DESCRIPTION:In-conjunction with the Small Grains Update Meetings
URL:https://www.mncorn.org/single-event/clay-wilkin-s-c-annual-meeting/
LOCATION:Dilworth Community Center\, 709 1st Ave NW\, Dilworth\, MN\, 56529
CATEGORIES:County Events
END:VEVENT
BEGIN:VEVENT
DTSTART;VALUE=DATE:20220125
DTEND;VALUE=DATE:20220126
DTSTAMP:20260425T101744
CREATED:20211111T195734Z
LAST-MODIFIED:20211111T195734Z
UID:29710-1643068800-1643155199@www.mncorn.org
SUMMARY:Clay/Wilkin S/C Annual Meeting
DESCRIPTION:In-conjunction with the Small Grains Update Meetings
URL:https://www.mncorn.org/single-event/clay-wilkin-s-c-annual-meeting-2/
LOCATION:Dilworth Community Center\, 709 1st Ave NW\, Dilworth\, MN\, 56529
CATEGORIES:County Events
END:VEVENT
BEGIN:VEVENT
DTSTART;VALUE=DATE:20220126
DTEND;VALUE=DATE:20220127
DTSTAMP:20260425T101744
CREATED:20211111T195619Z
LAST-MODIFIED:20211111T195619Z
UID:18286-1643155200-1643241599@www.mncorn.org
SUMMARY:Norman County S/C Annual Meeting
DESCRIPTION:In-conjunction with the Small Grains Update Meetings
URL:https://www.mncorn.org/single-event/norman-county-s-c-annual-meeting/
LOCATION:Ada Community Center
CATEGORIES:County Events
END:VEVENT
BEGIN:VEVENT
DTSTART;VALUE=DATE:20220126
DTEND;VALUE=DATE:20220127
DTSTAMP:20260425T101744
CREATED:20211111T195619Z
LAST-MODIFIED:20211111T195619Z
UID:29708-1643155200-1643241599@www.mncorn.org
SUMMARY:Norman County S/C Annual Meeting
DESCRIPTION:In-conjunction with the Small Grains Update Meetings
URL:https://www.mncorn.org/single-event/norman-county-s-c-annual-meeting-2/
LOCATION:Ada Community Center
CATEGORIES:County Events
END:VEVENT
BEGIN:VEVENT
DTSTART;VALUE=DATE:20220126
DTEND;VALUE=DATE:20220127
DTSTAMP:20260425T101744
CREATED:20211111T195655Z
LAST-MODIFIED:20211111T195655Z
UID:18289-1643155200-1643241599@www.mncorn.org
SUMMARY:Polk County S/C Annual Meeting
DESCRIPTION:In-conjunction with the Small Grains Update Meetings
URL:https://www.mncorn.org/single-event/polk-county-s-c-annual-meeting/
LOCATION:Crookston Inn\, 2200 University Ave\, Crookston\, MN\, 56716\, United States
CATEGORIES:County Events
END:VEVENT
BEGIN:VEVENT
DTSTART;VALUE=DATE:20220126
DTEND;VALUE=DATE:20220127
DTSTAMP:20260425T101744
CREATED:20211111T195655Z
LAST-MODIFIED:20211111T195655Z
UID:29709-1643155200-1643241599@www.mncorn.org
SUMMARY:Polk County S/C Annual Meeting
DESCRIPTION:In-conjunction with the Small Grains Update Meetings
URL:https://www.mncorn.org/single-event/polk-county-s-c-annual-meeting-2/
LOCATION:Crookston Inn\, 2200 University Ave\, Crookston\, MN\, 56716\, United States
CATEGORIES:County Events
END:VEVENT
END:VCALENDAR