BEGIN:VCALENDAR
VERSION:2.0
PRODID:-//Minnesota Corn Growers Association - ECPv6.15.20//NONSGML v1.0//EN
CALSCALE:GREGORIAN
METHOD:PUBLISH
X-WR-CALNAME:Minnesota Corn Growers Association
X-ORIGINAL-URL:https://www.mncorn.org
X-WR-CALDESC:Events for Minnesota Corn Growers Association
REFRESH-INTERVAL;VALUE=DURATION:PT1H
X-Robots-Tag:noindex
X-PUBLISHED-TTL:PT1H
BEGIN:VTIMEZONE
TZID:America/Chicago
BEGIN:DAYLIGHT
TZOFFSETFROM:-0600
TZOFFSETTO:-0500
TZNAME:CDT
DTSTART:20200308T080000
END:DAYLIGHT
BEGIN:STANDARD
TZOFFSETFROM:-0500
TZOFFSETTO:-0600
TZNAME:CST
DTSTART:20201101T070000
END:STANDARD
BEGIN:DAYLIGHT
TZOFFSETFROM:-0600
TZOFFSETTO:-0500
TZNAME:CDT
DTSTART:20210314T080000
END:DAYLIGHT
BEGIN:STANDARD
TZOFFSETFROM:-0500
TZOFFSETTO:-0600
TZNAME:CST
DTSTART:20211107T070000
END:STANDARD
BEGIN:DAYLIGHT
TZOFFSETFROM:-0600
TZOFFSETTO:-0500
TZNAME:CDT
DTSTART:20220313T080000
END:DAYLIGHT
BEGIN:STANDARD
TZOFFSETFROM:-0500
TZOFFSETTO:-0600
TZNAME:CST
DTSTART:20221106T070000
END:STANDARD
END:VTIMEZONE
BEGIN:VEVENT
DTSTART;VALUE=DATE:20210824
DTEND;VALUE=DATE:20210825
DTSTAMP:20260425T171538
CREATED:20210810T135527Z
LAST-MODIFIED:20210810T135527Z
UID:16945-1629763200-1629849599@www.mncorn.org
SUMMARY:Goodhue County Corn & Soybean  Growers Annual Meeting & Plot Day
DESCRIPTION:11:00 a.m. Plot Tour \n12:30 p.m. Lunch
URL:https://www.mncorn.org/single-event/goodhue-county-corn-soybean-growers-annual-meeting-plot-day/
LOCATION:Reed Lexvold Farm\, 37375 County 6 Blvd\, Goodhue\, Minnesota\, 55027
CATEGORIES:County Events
END:VEVENT
BEGIN:VEVENT
DTSTART;VALUE=DATE:20210824
DTEND;VALUE=DATE:20210825
DTSTAMP:20260425T171538
CREATED:20210810T135527Z
LAST-MODIFIED:20210810T135527Z
UID:29684-1629763200-1629849599@www.mncorn.org
SUMMARY:Goodhue County Corn & Soybean  Growers Annual Meeting & Plot Day
DESCRIPTION:11:00 a.m. Plot Tour \n12:30 p.m. Lunch
URL:https://www.mncorn.org/single-event/goodhue-county-corn-soybean-growers-annual-meeting-plot-day-2/
LOCATION:Reed Lexvold Farm\, 37375 County 6 Blvd\, Goodhue\, Minnesota\, 55027
CATEGORIES:County Events
END:VEVENT
END:VCALENDAR