BEGIN:VCALENDAR
VERSION:2.0
PRODID:-//Minnesota Corn Growers Association - ECPv6.15.20//NONSGML v1.0//EN
CALSCALE:GREGORIAN
METHOD:PUBLISH
X-ORIGINAL-URL:https://www.mncorn.org
X-WR-CALDESC:Events for Minnesota Corn Growers Association
REFRESH-INTERVAL;VALUE=DURATION:PT1H
X-Robots-Tag:noindex
X-PUBLISHED-TTL:PT1H
BEGIN:VTIMEZONE
TZID:America/Chicago
BEGIN:DAYLIGHT
TZOFFSETFROM:-0600
TZOFFSETTO:-0500
TZNAME:CDT
DTSTART:20200308T080000
END:DAYLIGHT
BEGIN:STANDARD
TZOFFSETFROM:-0500
TZOFFSETTO:-0600
TZNAME:CST
DTSTART:20201101T070000
END:STANDARD
BEGIN:DAYLIGHT
TZOFFSETFROM:-0600
TZOFFSETTO:-0500
TZNAME:CDT
DTSTART:20210314T080000
END:DAYLIGHT
BEGIN:STANDARD
TZOFFSETFROM:-0500
TZOFFSETTO:-0600
TZNAME:CST
DTSTART:20211107T070000
END:STANDARD
BEGIN:DAYLIGHT
TZOFFSETFROM:-0600
TZOFFSETTO:-0500
TZNAME:CDT
DTSTART:20220313T080000
END:DAYLIGHT
BEGIN:STANDARD
TZOFFSETFROM:-0500
TZOFFSETTO:-0600
TZNAME:CST
DTSTART:20221106T070000
END:STANDARD
END:VTIMEZONE
BEGIN:VEVENT
DTSTART;TZID=America/Chicago:20210915T110000
DTEND;TZID=America/Chicago:20210915T130000
DTSTAMP:20260425T155529
CREATED:20210901T132948Z
LAST-MODIFIED:20210913T153825Z
UID:17273-1631703600-1631710800@www.mncorn.org
SUMMARY:Dakota/Rice County Corn & Soybean Growers Association Fuel Event
DESCRIPTION:
URL:https://www.mncorn.org/single-event/dakotarice-county-corn-soybean-growers-association-fuel-event/
LOCATION:Cenex Convenience Store East\, 28 E. Division St.\, Faribault\, Minnesota\, 55021
CATEGORIES:County Events,Fuel Promotion Events
END:VEVENT
BEGIN:VEVENT
DTSTART;TZID=America/Chicago:20210915T110000
DTEND;TZID=America/Chicago:20210915T130000
DTSTAMP:20260425T155529
CREATED:20210901T132948Z
LAST-MODIFIED:20210901T132948Z
UID:29688-1631703600-1631710800@www.mncorn.org
SUMMARY:Dakota/Rice County Corn & Soybean Growers Association Fuel Event
DESCRIPTION:
URL:https://www.mncorn.org/single-event/dakota-rice-county-corn-soybean-growers-association-fuel-event-2/
LOCATION:Cenex Convenience Store East\, 28 E. Division St.\, Faribault\, Minnesota\, 55021
CATEGORIES:County Events,Fuel Promotion Events
END:VEVENT
END:VCALENDAR