BEGIN:VCALENDAR
VERSION:2.0
PRODID:-//Minnesota Corn Growers Association - ECPv6.15.20//NONSGML v1.0//EN
CALSCALE:GREGORIAN
METHOD:PUBLISH
X-WR-CALNAME:Minnesota Corn Growers Association
X-ORIGINAL-URL:https://www.mncorn.org
X-WR-CALDESC:Events for Minnesota Corn Growers Association
REFRESH-INTERVAL;VALUE=DURATION:PT1H
X-Robots-Tag:noindex
X-PUBLISHED-TTL:PT1H
BEGIN:VTIMEZONE
TZID:America/Chicago
BEGIN:DAYLIGHT
TZOFFSETFROM:-0600
TZOFFSETTO:-0500
TZNAME:CDT
DTSTART:20210314T080000
END:DAYLIGHT
BEGIN:STANDARD
TZOFFSETFROM:-0500
TZOFFSETTO:-0600
TZNAME:CST
DTSTART:20211107T070000
END:STANDARD
BEGIN:DAYLIGHT
TZOFFSETFROM:-0600
TZOFFSETTO:-0500
TZNAME:CDT
DTSTART:20220313T080000
END:DAYLIGHT
BEGIN:STANDARD
TZOFFSETFROM:-0500
TZOFFSETTO:-0600
TZNAME:CST
DTSTART:20221106T070000
END:STANDARD
BEGIN:DAYLIGHT
TZOFFSETFROM:-0600
TZOFFSETTO:-0500
TZNAME:CDT
DTSTART:20230312T080000
END:DAYLIGHT
BEGIN:STANDARD
TZOFFSETFROM:-0500
TZOFFSETTO:-0600
TZNAME:CST
DTSTART:20231105T070000
END:STANDARD
END:VTIMEZONE
BEGIN:VEVENT
DTSTART;TZID=America/Chicago:20220303T180000
DTEND;TZID=America/Chicago:20220303T200000
DTSTAMP:20260425T152358
CREATED:20220218T164451Z
LAST-MODIFIED:20220218T164451Z
UID:20330-1646330400-1646337600@www.mncorn.org
SUMMARY:Pennington/Red Lake County Soybean-Corn Growers Update & Annual Meeting
DESCRIPTION:Brought to you by the Pennington/Red Lake County Corn and Soybean Growers and their check-offs. Please join us at our Pennington/Red Lake County Soybean-Corn Growers Update & Annual meeting. Speakers: Dr. Angie Peltier\, U of M; Betsy Jensen\, NCTC – Farm Business Management; and Patrick Van Lith\, Corteva. Supper starts at 6:00 pm with speakers to follow.
URL:https://www.mncorn.org/single-event/pennington-red-lake-county-soybean-corn-growers-update-annual-meeting/
LOCATION:Community Center\, St Hilaire
CATEGORIES:County Events
END:VEVENT
BEGIN:VEVENT
DTSTART;TZID=America/Chicago:20220303T180000
DTEND;TZID=America/Chicago:20220303T200000
DTSTAMP:20260425T152358
CREATED:20220218T164451Z
LAST-MODIFIED:20220218T164451Z
UID:29733-1646330400-1646337600@www.mncorn.org
SUMMARY:Pennington/Red Lake County Soybean-Corn Growers Update & Annual Meeting
DESCRIPTION:Brought to you by the Pennington/Red Lake County Corn and Soybean Growers and their check-offs. Please join us at our Pennington/Red Lake County Soybean-Corn Growers Update & Annual meeting. Speakers: Dr. Angie Peltier\, U of M; Betsy Jensen\, NCTC – Farm Business Management; and Patrick Van Lith\, Corteva. Supper starts at 6:00 pm with speakers to follow.
URL:https://www.mncorn.org/single-event/pennington-red-lake-county-soybean-corn-growers-update-annual-meeting-2/
LOCATION:Community Center\, St Hilaire
CATEGORIES:County Events
END:VEVENT
END:VCALENDAR