BEGIN:VCALENDAR
VERSION:2.0
PRODID:-//Minnesota Corn Growers Association - ECPv6.15.20//NONSGML v1.0//EN
CALSCALE:GREGORIAN
METHOD:PUBLISH
X-WR-CALNAME:Minnesota Corn Growers Association
X-ORIGINAL-URL:https://www.mncorn.org
X-WR-CALDESC:Events for Minnesota Corn Growers Association
REFRESH-INTERVAL;VALUE=DURATION:PT1H
X-Robots-Tag:noindex
X-PUBLISHED-TTL:PT1H
BEGIN:VTIMEZONE
TZID:America/Chicago
BEGIN:DAYLIGHT
TZOFFSETFROM:-0600
TZOFFSETTO:-0500
TZNAME:CDT
DTSTART:20210314T080000
END:DAYLIGHT
BEGIN:STANDARD
TZOFFSETFROM:-0500
TZOFFSETTO:-0600
TZNAME:CST
DTSTART:20211107T070000
END:STANDARD
BEGIN:DAYLIGHT
TZOFFSETFROM:-0600
TZOFFSETTO:-0500
TZNAME:CDT
DTSTART:20220313T080000
END:DAYLIGHT
BEGIN:STANDARD
TZOFFSETFROM:-0500
TZOFFSETTO:-0600
TZNAME:CST
DTSTART:20221106T070000
END:STANDARD
BEGIN:DAYLIGHT
TZOFFSETFROM:-0600
TZOFFSETTO:-0500
TZNAME:CDT
DTSTART:20230312T080000
END:DAYLIGHT
BEGIN:STANDARD
TZOFFSETFROM:-0500
TZOFFSETTO:-0600
TZNAME:CST
DTSTART:20231105T070000
END:STANDARD
END:VTIMEZONE
BEGIN:VEVENT
DTSTART;TZID=America/Chicago:20220321T180000
DTEND;TZID=America/Chicago:20220321T210000
DTSTAMP:20260425T141310
CREATED:20220314T150241Z
LAST-MODIFIED:20220314T150241Z
UID:20932-1647885600-1647896400@www.mncorn.org
SUMMARY:Renville/Redwood Corn & Soybean Growers associations Annual Meeting
DESCRIPTION:5:00 – Registration \n6:00 – Dinner \n7:00 – Annual Meeting \n8:00 – Guest Speaker Tim Eggebraaten
URL:https://www.mncorn.org/single-event/renville-redwood-corn-soybean-growers-associations-annual-meeting/
LOCATION:Jackpot Junction (39375 County Rd 24\, Morton\, MN 56270)\, United States
CATEGORIES:County Events
END:VEVENT
BEGIN:VEVENT
DTSTART;TZID=America/Chicago:20220321T180000
DTEND;TZID=America/Chicago:20220321T210000
DTSTAMP:20260425T141310
CREATED:20220314T150241Z
LAST-MODIFIED:20220314T150241Z
UID:29734-1647885600-1647896400@www.mncorn.org
SUMMARY:Renville/Redwood Corn & Soybean Growers associations Annual Meeting
DESCRIPTION:5:00 – Registration \n6:00 – Dinner \n7:00 – Annual Meeting \n8:00 – Guest Speaker Tim Eggebraaten
URL:https://www.mncorn.org/single-event/renville-redwood-corn-soybean-growers-associations-annual-meeting-2/
LOCATION:Jackpot Junction (39375 County Rd 24\, Morton\, MN 56270)\, United States
CATEGORIES:County Events
END:VEVENT
END:VCALENDAR