BEGIN:VCALENDAR
VERSION:2.0
PRODID:-//Minnesota Corn Growers Association - ECPv6.15.20//NONSGML v1.0//EN
CALSCALE:GREGORIAN
METHOD:PUBLISH
X-ORIGINAL-URL:https://www.mncorn.org
X-WR-CALDESC:Events for Minnesota Corn Growers Association
REFRESH-INTERVAL;VALUE=DURATION:PT1H
X-Robots-Tag:noindex
X-PUBLISHED-TTL:PT1H
BEGIN:VTIMEZONE
TZID:America/Chicago
BEGIN:DAYLIGHT
TZOFFSETFROM:-0600
TZOFFSETTO:-0500
TZNAME:CDT
DTSTART:20240310T080000
END:DAYLIGHT
BEGIN:STANDARD
TZOFFSETFROM:-0500
TZOFFSETTO:-0600
TZNAME:CST
DTSTART:20241103T070000
END:STANDARD
BEGIN:DAYLIGHT
TZOFFSETFROM:-0600
TZOFFSETTO:-0500
TZNAME:CDT
DTSTART:20250309T080000
END:DAYLIGHT
BEGIN:STANDARD
TZOFFSETFROM:-0500
TZOFFSETTO:-0600
TZNAME:CST
DTSTART:20251102T070000
END:STANDARD
BEGIN:DAYLIGHT
TZOFFSETFROM:-0600
TZOFFSETTO:-0500
TZNAME:CDT
DTSTART:20260308T080000
END:DAYLIGHT
BEGIN:STANDARD
TZOFFSETFROM:-0500
TZOFFSETTO:-0600
TZNAME:CST
DTSTART:20261101T070000
END:STANDARD
END:VTIMEZONE
BEGIN:VEVENT
DTSTART;TZID=America/Chicago:20250313T120000
DTEND;TZID=America/Chicago:20250313T120000
DTSTAMP:20260425T063536
CREATED:20250217T203236Z
LAST-MODIFIED:20250217T203236Z
UID:32411-1741867200-1741867200@www.mncorn.org
SUMMARY:Dodge County Corn & Soybean Growers Annual Meeting
DESCRIPTION:The Dodge County Corn & Soybean Growers are holding their 2025 annual meeting on Thursday\, March 13 at the American Legion in Dodge Center. Lunch will be served at noon followed by the annual meeting. Speaker\, Eric Snodgrass\, to follow annual meeting. \n  \nLocation: American Legion \n401 Hwy St W\, Dodge Center\, MN 55927 \n  \nDodge flyer FY25
URL:https://www.mncorn.org/single-event/dodge-county-corn-soybean-growers-annual-meeting-3/
LOCATION:Dodge Center American Legion\, 401 Hwy St W\, Dodge Center\, MN\, 55927\, United States
CATEGORIES:County Events
END:VEVENT
END:VCALENDAR