BEGIN:VCALENDAR
VERSION:2.0
PRODID:-//Minnesota Corn Growers Association - ECPv6.15.20//NONSGML v1.0//EN
CALSCALE:GREGORIAN
METHOD:PUBLISH
X-WR-CALNAME:Minnesota Corn Growers Association
X-ORIGINAL-URL:https://www.mncorn.org
X-WR-CALDESC:Events for Minnesota Corn Growers Association
REFRESH-INTERVAL;VALUE=DURATION:PT1H
X-Robots-Tag:noindex
X-PUBLISHED-TTL:PT1H
BEGIN:VTIMEZONE
TZID:America/Chicago
BEGIN:DAYLIGHT
TZOFFSETFROM:-0600
TZOFFSETTO:-0500
TZNAME:CDT
DTSTART:20250309T080000
END:DAYLIGHT
BEGIN:STANDARD
TZOFFSETFROM:-0500
TZOFFSETTO:-0600
TZNAME:CST
DTSTART:20251102T070000
END:STANDARD
BEGIN:DAYLIGHT
TZOFFSETFROM:-0600
TZOFFSETTO:-0500
TZNAME:CDT
DTSTART:20260308T080000
END:DAYLIGHT
BEGIN:STANDARD
TZOFFSETFROM:-0500
TZOFFSETTO:-0600
TZNAME:CST
DTSTART:20261101T070000
END:STANDARD
BEGIN:DAYLIGHT
TZOFFSETFROM:-0600
TZOFFSETTO:-0500
TZNAME:CDT
DTSTART:20270314T080000
END:DAYLIGHT
BEGIN:STANDARD
TZOFFSETFROM:-0500
TZOFFSETTO:-0600
TZNAME:CST
DTSTART:20271107T070000
END:STANDARD
END:VTIMEZONE
BEGIN:VEVENT
DTSTART;TZID=America/Chicago:20260114T080000
DTEND;TZID=America/Chicago:20260114T080000
DTSTAMP:20260424T064258
CREATED:20260107T185003Z
LAST-MODIFIED:20260107T185003Z
UID:34842-1768377600-1768377600@www.mncorn.org
SUMMARY:Norman County Corn Growers Annual Meeting
DESCRIPTION:Join the Norman County Corn Growers at their annual meeting on January 14th at the Halstad Legion Rec Center at 8:00am! \n  \nLocation: Halstad Legion Rec Center \n580 2nd Ave W\, Halstad MN 56548
URL:https://www.mncorn.org/single-event/norman-county-corn-growers-annual-meeting/
LOCATION:Halstad Legion Rec Center\, 580 2nd Ave W\, Halstad\, MN
CATEGORIES:County Events
END:VEVENT
BEGIN:VEVENT
DTSTART;TZID=America/Chicago:20260114T090000
DTEND;TZID=America/Chicago:20260114T090000
DTSTAMP:20260424T064258
CREATED:20251208T164954Z
LAST-MODIFIED:20251208T164954Z
UID:34760-1768381200-1768381200@www.mncorn.org
SUMMARY:Morrison/Crow Wing County Corn Growers Annual Meeting
DESCRIPTION:The Morrison/Crow Wing Corn Growers Association would like to invite you to an annual meeting and complimentary lunch on January 14th\, 2025\, in Bowlus MN. The meeting will begin at 9:00am and the program will consist of updates from the Upper Mississippi Irrigators Association and Corn Growers as well as presentations on agricultural issues and best practices. A delicious lunch will be provided from Jordie’s Trailside Café at 105 1st Ave S\, Bowlus\, MN 56314. \nOur featured speaker this year will be Kevin Behrens of Natural North LLC\, an aerial application company based in Alexandria. He will share the latest drone technology for the farm.
URL:https://www.mncorn.org/single-event/morrison-crow-wing-county-corn-growers-annual-meeting-3/
LOCATION:Jordie’s Trailside Cafe\, 105 1st Ave S\, Bowlus\, MN\, 56314
CATEGORIES:County Events
END:VEVENT
BEGIN:VEVENT
DTSTART;TZID=America/Chicago:20260114T120000
DTEND;TZID=America/Chicago:20260114T120000
DTSTAMP:20260424T064258
CREATED:20260107T185542Z
LAST-MODIFIED:20260107T185542Z
UID:34846-1768392000-1768392000@www.mncorn.org
SUMMARY:Polk County Corn Growers Annual Meeting
DESCRIPTION:The Polk County Corn Growers will be holding their annual meeting on January 14th at the Ag Research Center UMN – Crookston Campus at 12:00pm. We hope to see you there! \n  \nLocation: Ag Research Center UMN – Crookston Campus \n2900 University Ave. Crookston\, MN 56716
URL:https://www.mncorn.org/single-event/polk-county-corn-growers-annual-meeting/
LOCATION:Ag Research Center UMN – Crookston Campus\, 2900 University Ave.\, Crookston\, MN\, 56716
CATEGORIES:County Events
END:VEVENT
END:VCALENDAR