BEGIN:VCALENDAR
VERSION:2.0
PRODID:-//Minnesota Corn Growers Association - ECPv6.15.20//NONSGML v1.0//EN
CALSCALE:GREGORIAN
METHOD:PUBLISH
X-ORIGINAL-URL:https://www.mncorn.org
X-WR-CALDESC:Events for Minnesota Corn Growers Association
REFRESH-INTERVAL;VALUE=DURATION:PT1H
X-Robots-Tag:noindex
X-PUBLISHED-TTL:PT1H
BEGIN:VTIMEZONE
TZID:America/Chicago
BEGIN:DAYLIGHT
TZOFFSETFROM:-0600
TZOFFSETTO:-0500
TZNAME:CDT
DTSTART:20250309T080000
END:DAYLIGHT
BEGIN:STANDARD
TZOFFSETFROM:-0500
TZOFFSETTO:-0600
TZNAME:CST
DTSTART:20251102T070000
END:STANDARD
BEGIN:DAYLIGHT
TZOFFSETFROM:-0600
TZOFFSETTO:-0500
TZNAME:CDT
DTSTART:20260308T080000
END:DAYLIGHT
BEGIN:STANDARD
TZOFFSETFROM:-0500
TZOFFSETTO:-0600
TZNAME:CST
DTSTART:20261101T070000
END:STANDARD
BEGIN:DAYLIGHT
TZOFFSETFROM:-0600
TZOFFSETTO:-0500
TZNAME:CDT
DTSTART:20270314T080000
END:DAYLIGHT
BEGIN:STANDARD
TZOFFSETFROM:-0500
TZOFFSETTO:-0600
TZNAME:CST
DTSTART:20271107T070000
END:STANDARD
END:VTIMEZONE
BEGIN:VEVENT
DTSTART;TZID=America/Chicago:20260216T173000
DTEND;TZID=America/Chicago:20260216T173000
DTSTAMP:20260424T042505
CREATED:20260127T194910Z
LAST-MODIFIED:20260127T194910Z
UID:34966-1771263000-1771263000@www.mncorn.org
SUMMARY:Lyon County Corn & Soybean Growers Annual Meeting
DESCRIPTION:Join the Lyon County Corn & Soybean Growers at their annual meeting on February 16th starting at 5:30pm at KB’s Bar & Grill! Hear updates from the board and enjoy supper on us. \n  \nLocation: KB’s Bar & Grill \n100 E Burlington St.\, Ghent\, MN 56239
URL:https://www.mncorn.org/single-event/lyon-county-corn-soybean-growers-annual-meeting/
LOCATION:KB’s Bar and Grill\, 100 E Burlingame St\, Ghent\, MN\, 56239\, United States
CATEGORIES:County Events
END:VEVENT
END:VCALENDAR