BEGIN:VCALENDAR
VERSION:2.0
PRODID:-//Minnesota Corn Growers Association - ECPv6.15.20//NONSGML v1.0//EN
CALSCALE:GREGORIAN
METHOD:PUBLISH
X-ORIGINAL-URL:https://www.mncorn.org
X-WR-CALDESC:Events for Minnesota Corn Growers Association
REFRESH-INTERVAL;VALUE=DURATION:PT1H
X-Robots-Tag:noindex
X-PUBLISHED-TTL:PT1H
BEGIN:VTIMEZONE
TZID:America/Chicago
BEGIN:DAYLIGHT
TZOFFSETFROM:-0600
TZOFFSETTO:-0500
TZNAME:CDT
DTSTART:20250309T080000
END:DAYLIGHT
BEGIN:STANDARD
TZOFFSETFROM:-0500
TZOFFSETTO:-0600
TZNAME:CST
DTSTART:20251102T070000
END:STANDARD
BEGIN:DAYLIGHT
TZOFFSETFROM:-0600
TZOFFSETTO:-0500
TZNAME:CDT
DTSTART:20260308T080000
END:DAYLIGHT
BEGIN:STANDARD
TZOFFSETFROM:-0500
TZOFFSETTO:-0600
TZNAME:CST
DTSTART:20261101T070000
END:STANDARD
BEGIN:DAYLIGHT
TZOFFSETFROM:-0600
TZOFFSETTO:-0500
TZNAME:CDT
DTSTART:20270314T080000
END:DAYLIGHT
BEGIN:STANDARD
TZOFFSETFROM:-0500
TZOFFSETTO:-0600
TZNAME:CST
DTSTART:20271107T070000
END:STANDARD
END:VTIMEZONE
BEGIN:VEVENT
DTSTART;TZID=America/Chicago:20260311T173000
DTEND;TZID=America/Chicago:20260311T173000
DTSTAMP:20260424T023638
CREATED:20260130T181124Z
LAST-MODIFIED:20260130T181154Z
UID:35043-1773250200-1773250200@www.mncorn.org
SUMMARY:Le Sueur/Scott County Corn & Soybean Growers Annual Meeting
DESCRIPTION:Join the Le Sueur/Scott County Corn & Soybean growers at their annual meeting on Wednesday\, March 11 at Little Dandy Bar & Grill starting at 5:30pm! Join us for a free evening to learn how the corn and soybean checkoffs work for you\, and put your name in for a chance to win a door prize. Updates will be provided from the Minnesota Corn and Minnesota Soybean organizations\, as well as the University of Minnesota-Extension. Light appetizers will be provided. \n  \nLocation: Little Dandy Bar & Grill \n1070 E Derrynane St\, Le Center\, MN 56057 \n  \nSchedule: 5:30pm Social Hour \n6:00pm Annual Meeting \n  \nFY26 Le Sueur-Scott Co Postcard
URL:https://www.mncorn.org/single-event/35043/
LOCATION:Little Dandy Bar & Grill\, 1070 E Derrynane St\, Le Center\, MN\, 56057
CATEGORIES:County Events
END:VEVENT
END:VCALENDAR