BEGIN:VCALENDAR
VERSION:2.0
PRODID:-//Minnesota Corn Growers Association - ECPv6.15.20//NONSGML v1.0//EN
CALSCALE:GREGORIAN
METHOD:PUBLISH
X-WR-CALNAME:Minnesota Corn Growers Association
X-ORIGINAL-URL:https://www.mncorn.org
X-WR-CALDESC:Events for Minnesota Corn Growers Association
REFRESH-INTERVAL;VALUE=DURATION:PT1H
X-Robots-Tag:noindex
X-PUBLISHED-TTL:PT1H
BEGIN:VTIMEZONE
TZID:America/Chicago
BEGIN:DAYLIGHT
TZOFFSETFROM:-0600
TZOFFSETTO:-0500
TZNAME:CDT
DTSTART:20250309T080000
END:DAYLIGHT
BEGIN:STANDARD
TZOFFSETFROM:-0500
TZOFFSETTO:-0600
TZNAME:CST
DTSTART:20251102T070000
END:STANDARD
BEGIN:DAYLIGHT
TZOFFSETFROM:-0600
TZOFFSETTO:-0500
TZNAME:CDT
DTSTART:20260308T080000
END:DAYLIGHT
BEGIN:STANDARD
TZOFFSETFROM:-0500
TZOFFSETTO:-0600
TZNAME:CST
DTSTART:20261101T070000
END:STANDARD
BEGIN:DAYLIGHT
TZOFFSETFROM:-0600
TZOFFSETTO:-0500
TZNAME:CDT
DTSTART:20270314T080000
END:DAYLIGHT
BEGIN:STANDARD
TZOFFSETFROM:-0500
TZOFFSETTO:-0600
TZNAME:CST
DTSTART:20271107T070000
END:STANDARD
END:VTIMEZONE
BEGIN:VEVENT
DTSTART;TZID=America/Chicago:20260323T170000
DTEND;TZID=America/Chicago:20260323T170000
DTSTAMP:20260424T024141
CREATED:20251110T194819Z
LAST-MODIFIED:20260216T145940Z
UID:34328-1774285200-1774285200@www.mncorn.org
SUMMARY:Redwood County Corn & Soybean Growers Annual Meeting
DESCRIPTION:The Redwood County Corn & Soybean Growers are holding their annual meeting at the Wabasso Community Center on March 23. Join us for an evening featuring Neon Entertainment\, bringing a real life game show to you\, as well as county program updates and reports from Minnesota Corn and Minnesota Soybean on how your checkoff dollars are at work statewide. \n  \nLocation: Wabasso Community Center \n1429 Front St\, Wabasso\, MN \n  \nSchedule: 5:00pm – Registration \n6:00pm – Steak Dinner grilled by Cattleman’s \n7:00pm – Annual Meeting \n8:00pm – Neon Entertainment \n  \nPlease RSVP by Monday\, March 16 to: Kim Neuman (320) 220-3626 or email redwoodcornsoybean@gmail.com \n  \nRedwood Annual Meeting Postcard 2026
URL:https://www.mncorn.org/single-event/redwood-county-corn-soybean-growers-annual-meeting-2/
LOCATION:Wabasso Community Center\, 1429 Front St\, Wabasso\, MN\, 56293
CATEGORIES:County Events
END:VEVENT
BEGIN:VEVENT
DTSTART;TZID=America/Chicago:20260323T180000
DTEND;TZID=America/Chicago:20260323T180000
DTSTAMP:20260424T024141
CREATED:20260218T170420Z
LAST-MODIFIED:20260218T170420Z
UID:35217-1774288800-1774288800@www.mncorn.org
SUMMARY:Waseca Corn & Soybean Growers Annual Meeting
DESCRIPTION:The Waseca Corn & Soybean Growers will be holding their annual meeting on Monday\, March 23rd at the Ward House Brewery in Waseca. Join us for a free evening to learn how the corn and soybean checkoffs work for you\, and enter for a chance to win a door prize. \n  \nLocation: Ward House Brewery \n308 S. State St\, Waseca \n  \nSchedule: 6:00pm – Social \n6:15pm – Annual Meeting \n6:30pm – Dinner\, live entertainment to follow \n  \nFY26 Waseca Co. Annual Mtg Flyer
URL:https://www.mncorn.org/single-event/waseca-corn-soybean-growers-annual-meeting/
LOCATION:Ward House Brewery\, 308 S State St\, Waseca\, MN\, 56093
CATEGORIES:County Events
END:VEVENT
END:VCALENDAR