BEGIN:VCALENDAR
VERSION:2.0
PRODID:-//Minnesota Corn Growers Association - ECPv6.15.20//NONSGML v1.0//EN
CALSCALE:GREGORIAN
METHOD:PUBLISH
X-ORIGINAL-URL:https://www.mncorn.org
X-WR-CALDESC:Events for Minnesota Corn Growers Association
REFRESH-INTERVAL;VALUE=DURATION:PT1H
X-Robots-Tag:noindex
X-PUBLISHED-TTL:PT1H
BEGIN:VTIMEZONE
TZID:America/Chicago
BEGIN:DAYLIGHT
TZOFFSETFROM:-0600
TZOFFSETTO:-0500
TZNAME:CDT
DTSTART:20250309T080000
END:DAYLIGHT
BEGIN:STANDARD
TZOFFSETFROM:-0500
TZOFFSETTO:-0600
TZNAME:CST
DTSTART:20251102T070000
END:STANDARD
BEGIN:DAYLIGHT
TZOFFSETFROM:-0600
TZOFFSETTO:-0500
TZNAME:CDT
DTSTART:20260308T080000
END:DAYLIGHT
BEGIN:STANDARD
TZOFFSETFROM:-0500
TZOFFSETTO:-0600
TZNAME:CST
DTSTART:20261101T070000
END:STANDARD
BEGIN:DAYLIGHT
TZOFFSETFROM:-0600
TZOFFSETTO:-0500
TZNAME:CDT
DTSTART:20270314T080000
END:DAYLIGHT
BEGIN:STANDARD
TZOFFSETFROM:-0500
TZOFFSETTO:-0600
TZNAME:CST
DTSTART:20271107T070000
END:STANDARD
END:VTIMEZONE
BEGIN:VEVENT
DTSTART;TZID=America/Chicago:20260325T110000
DTEND;TZID=America/Chicago:20260325T110000
DTSTAMP:20260424T024217
CREATED:20260126T200905Z
LAST-MODIFIED:20260126T200905Z
UID:34957-1774436400-1774436400@www.mncorn.org
SUMMARY:Stearns County Corn Growers Annual Meeting
DESCRIPTION:The Stearns County Corn Growers are holding their annual meeting on March 25th at the Greenwald Pub starting at 11:00am. Join us to hear updates from the corn growers and enjoy lunch on us. And receive a $25 Greenwald Pub gift card for verifying and/or renewing your MCGA membership! \nLocation: Greenwald Pub\n310 1st Ave N\, Greenwald\, MN \nSchedule\n11:00am Annual Meeting\nLunch to follow
URL:https://www.mncorn.org/single-event/stearns-county-corn-growers-annual-meeting-4/
LOCATION:Greenwald Pub\, 310 1st Ave N\, Greenwald\, MN\, 56335\, United States
CATEGORIES:County Events
END:VEVENT
END:VCALENDAR