BEGIN:VCALENDAR
VERSION:2.0
PRODID:-//Minnesota Corn Growers Association - ECPv6.15.20//NONSGML v1.0//EN
CALSCALE:GREGORIAN
METHOD:PUBLISH
X-WR-CALNAME:Minnesota Corn Growers Association
X-ORIGINAL-URL:https://www.mncorn.org
X-WR-CALDESC:Events for Minnesota Corn Growers Association
REFRESH-INTERVAL;VALUE=DURATION:PT1H
X-Robots-Tag:noindex
X-PUBLISHED-TTL:PT1H
BEGIN:VTIMEZONE
TZID:America/Chicago
BEGIN:DAYLIGHT
TZOFFSETFROM:-0600
TZOFFSETTO:-0500
TZNAME:CDT
DTSTART:20250309T080000
END:DAYLIGHT
BEGIN:STANDARD
TZOFFSETFROM:-0500
TZOFFSETTO:-0600
TZNAME:CST
DTSTART:20251102T070000
END:STANDARD
BEGIN:DAYLIGHT
TZOFFSETFROM:-0600
TZOFFSETTO:-0500
TZNAME:CDT
DTSTART:20260308T080000
END:DAYLIGHT
BEGIN:STANDARD
TZOFFSETFROM:-0500
TZOFFSETTO:-0600
TZNAME:CST
DTSTART:20261101T070000
END:STANDARD
BEGIN:DAYLIGHT
TZOFFSETFROM:-0600
TZOFFSETTO:-0500
TZNAME:CDT
DTSTART:20270314T080000
END:DAYLIGHT
BEGIN:STANDARD
TZOFFSETFROM:-0500
TZOFFSETTO:-0600
TZNAME:CST
DTSTART:20271107T070000
END:STANDARD
END:VTIMEZONE
BEGIN:VEVENT
DTSTART;TZID=America/Chicago:20260326T170000
DTEND;TZID=America/Chicago:20260326T170000
DTSTAMP:20260424T023522
CREATED:20260309T170347Z
LAST-MODIFIED:20260309T170347Z
UID:35284-1774544400-1774544400@www.mncorn.org
SUMMARY:Lac Qui Parle County Corn & Soybean Growers Annual Meeting
DESCRIPTION:The Lac Qui Parle County Corn & Soybean Growers are holding their annual meeting on Thursday\, March 26 at the Hilltop Bar\, Grill & Event Center in Dawson. Join us for a casual evening featuring a free pork sandwich dinner and complimentary beverages. Hear updates from Minnesota Corn and Minnesota Soybean on how your checkoff dollars are making an impact statewide. Stick around for exciting door prizes and a great time connecting with fellow growers. \n  \nLocation: Hilltop Bar\, Grill & Event Center \n712 Oak St\, Dawson\, MN 56232 \n  \nSchedule: 5:00pm Social Hour \n5:30pm Complimentary Pork Sandwich Dinner and Beverages \n  \nLac Qui Parle Postcard 2026
URL:https://www.mncorn.org/single-event/lac-qui-parle-county-corn-soybean-growers-annual-meeting/
LOCATION:Hilltop Bar\, Grill & Event Center\, 712 Oak St\, Dawson\, MN\, 56232
CATEGORIES:County Events
END:VEVENT
BEGIN:VEVENT
DTSTART;TZID=America/Chicago:20260326T173000
DTEND;TZID=America/Chicago:20260326T173000
DTSTAMP:20260424T023522
CREATED:20251110T194945Z
LAST-MODIFIED:20260216T150648Z
UID:34333-1774546200-1774546200@www.mncorn.org
SUMMARY:Murray County Corn & Soybean Growers Annual Meeting
DESCRIPTION:The Murray County Corn & Soybean Growers will be holding their annual meeting on March 26 at Key Largo on Lake Shetek. Join us for an evening of conversation\, updates and speaker\, Al Kluis! \n  \nLocation: Key Largo on Lake Shetek\n29 Valhalla Dr\, Slayton\, MN 56172 \n  \nSchedule: 5:30pm – Social Hour\n6:30 pm – Meal\n7:15 pm – Annual Meeting\, followed by speaker\, Al Kluis \n  \nSpeaker: Al Kluis\nManaging Director\, Kluis Commodity Advistors Al Kluis\, a Minnesota farmboy and University of Minnesota Ag Economics graduate\, has been a commodity advisor and broker since 1976. An introducing broker with Wedbush Futures\, he writes the Your Profit column for Successful Farming\, has published two books on commodities trading\, and is widely quoted in major publications\, including the Wall Street Journal. A frequent speaker at commodity conferences and market analyst for the Linder Farm Radio News Network\, Al continues to help his family with their southwest Minnesota farm while guiding producers and processors in grain marketing and risk management through Kluis Commodity Advisors. \n  \n2026 Murray County Annual Mtg Postcard 
URL:https://www.mncorn.org/single-event/murray-county-corn-soybean-growers-annual-meeting-2/
LOCATION:Key Largo on Lake Shetek\, 29 Valhalla Dr\, Slayton\, MN\, 56172\, United States
CATEGORIES:County Events
END:VEVENT
END:VCALENDAR