BEGIN:VCALENDAR
VERSION:2.0
PRODID:-//Minnesota Corn Growers Association - ECPv6.15.20//NONSGML v1.0//EN
CALSCALE:GREGORIAN
METHOD:PUBLISH
X-WR-CALNAME:Minnesota Corn Growers Association
X-ORIGINAL-URL:https://www.mncorn.org
X-WR-CALDESC:Events for Minnesota Corn Growers Association
REFRESH-INTERVAL;VALUE=DURATION:PT1H
X-Robots-Tag:noindex
X-PUBLISHED-TTL:PT1H
BEGIN:VTIMEZONE
TZID:America/Chicago
BEGIN:DAYLIGHT
TZOFFSETFROM:-0600
TZOFFSETTO:-0500
TZNAME:CDT
DTSTART:20220313T080000
END:DAYLIGHT
BEGIN:STANDARD
TZOFFSETFROM:-0500
TZOFFSETTO:-0600
TZNAME:CST
DTSTART:20221106T070000
END:STANDARD
BEGIN:DAYLIGHT
TZOFFSETFROM:-0600
TZOFFSETTO:-0500
TZNAME:CDT
DTSTART:20230312T080000
END:DAYLIGHT
BEGIN:STANDARD
TZOFFSETFROM:-0500
TZOFFSETTO:-0600
TZNAME:CST
DTSTART:20231105T070000
END:STANDARD
BEGIN:DAYLIGHT
TZOFFSETFROM:-0600
TZOFFSETTO:-0500
TZNAME:CDT
DTSTART:20240310T080000
END:DAYLIGHT
BEGIN:STANDARD
TZOFFSETFROM:-0500
TZOFFSETTO:-0600
TZNAME:CST
DTSTART:20241103T070000
END:STANDARD
END:VTIMEZONE
BEGIN:VEVENT
DTSTART;TZID=America/Chicago:20230725T153000
DTEND;TZID=America/Chicago:20230725T153000
DTSTAMP:20260425T214435
CREATED:20230705T190322Z
LAST-MODIFIED:20230705T190621Z
UID:25236-1690299000-1690299000@www.mncorn.org
SUMMARY:Martin County Corn & Soybean Growers Golf Outing & Annual Meeting
DESCRIPTION:Join the Martin County Corn & Soybean Growers for their Annual Meeting and Golf Day \non Tuesday July 25\, 2023 \n  \nLocation: Fox Lake Golf Course\, Sherburn \nSchedule: Registration 3:00pm \nTee off 3:30pm \nAnnual Meeting 6:00pm \n  \nHear an update from the county board on what they have been up to over the last year \n  \nContact Lawrence Sukalski at 507-236-4880 or sukallnd@hotmail.com to RSVP for golf and/or supper by July 15 \n  \n*Be sure to renew your corn or soybean membership at the door to ensure a round of golf and a meal if you are not a current member \n  \n**Door Prizes include 2 barstools and other giveaways \n 
URL:https://www.mncorn.org/single-event/martin-county-corn-soybean-growers-golf-outing-annual-meeting/
LOCATION:Fox Lake Golf Course\, Sherburn\, MN\, 15 E Park Dr\, Sherburn\, MN\, 56171\, United States
CATEGORIES:County Events
END:VEVENT
BEGIN:VEVENT
DTSTART;TZID=America/Chicago:20230725T153000
DTEND;TZID=America/Chicago:20230725T153000
DTSTAMP:20260425T214435
CREATED:20230705T190322Z
LAST-MODIFIED:20230705T190322Z
UID:29866-1690299000-1690299000@www.mncorn.org
SUMMARY:Martin County Corn & Soybean Growers Golf Outing & Annual Meeting
DESCRIPTION:Join the Martin County Corn & Soybean Growers for their Annual Meeting and Golf Day \non Tuesday July 25\, 2023 \n  \nLocation: Fox Lake Golf Course\, Sherburn \nSchedule: Registration 3:00pm \nTee off 3:30pm \nAnnual Meeting 6:00pm \n  \nHear an update from the county board on what they have been up to over the last year \n  \nContact Lawrence Sukalski at 507-236-4880 or sukallnd@hotmail.com to RSVP for golf and/or supper by July 15 \n  \n*Be sure to renew your corn or soybean membership at the door to ensure a round of golf and a meal if you are not a current member \n  \n**Door Prizes include 2 barstools and other giveaways \n 
URL:https://www.mncorn.org/single-event/martin-county-corn-soybean-growers-golf-outing-annual-meeting-2/
LOCATION:Fox Lake Golf Course\, Sherburn\, MN\, 15 E Park Dr\, Sherburn\, MN\, 56171\, United States
CATEGORIES:County Events
END:VEVENT
BEGIN:VEVENT
DTSTART;TZID=America/Chicago:20230727T140000
DTEND;TZID=America/Chicago:20230727T140000
DTSTAMP:20260425T214435
CREATED:20230629T141425Z
LAST-MODIFIED:20230629T142232Z
UID:25194-1690466400-1690466400@www.mncorn.org
SUMMARY:Pipestone County golf event
DESCRIPTION:2p.m. tee off \n5-7p.m. steak supper\nText or call Matt Haraldson at 507-820-0284 to RSVP for golf\, supper or both by July 25th
URL:https://www.mncorn.org/single-event/pipestone-county-golf-event/
LOCATION:Pipestone Country Club\, 1003 8th Ave SE\, Pipestone\, MN\, 56164
CATEGORIES:County Events
END:VEVENT
BEGIN:VEVENT
DTSTART;TZID=America/Chicago:20230727T140000
DTEND;TZID=America/Chicago:20230727T140000
DTSTAMP:20260425T214435
CREATED:20230629T141425Z
LAST-MODIFIED:20230629T141425Z
UID:29864-1690466400-1690466400@www.mncorn.org
SUMMARY:Pipestone County golf event
DESCRIPTION:2p.m. tee off \n5-7p.m. steak supper\nText or call Matt Haraldson at 507-820-0284 to RSVP for golf\, supper or both by July 25th
URL:https://www.mncorn.org/single-event/pipestone-county-golf-event-2/
LOCATION:Pipestone Country Club\, 1003 8th Ave SE\, Pipestone\, MN\, 56164
CATEGORIES:County Events
END:VEVENT
BEGIN:VEVENT
DTSTART;TZID=America/Chicago:20230803T080000
DTEND;TZID=America/Chicago:20230803T080000
DTSTAMP:20260425T214435
CREATED:20230707T162600Z
LAST-MODIFIED:20230707T162600Z
UID:29869-1691049600-1691049600@www.mncorn.org
SUMMARY:Kandiyohi Corn & Soybean Growers Annual Meeting
DESCRIPTION:Thursday\, August 3rd\, 2023\nMcMillan’s Family Restaurant\n2620 1st St S\, Wilmar\, MN 56201 \n8 a.m. –  Breakfast & Annual Meeting \nJoin us for networking and checkoff updates from\nyour commodity organizations.
URL:https://www.mncorn.org/single-event/kandiyohi-county-annual-meeting-2-2/
LOCATION:McMillan’s Family Restaurant\, 2620 1st St S\, Willmar\, MN\, 56201
CATEGORIES:County Events
END:VEVENT
BEGIN:VEVENT
DTSTART;TZID=America/Chicago:20230803T080000
DTEND;TZID=America/Chicago:20230803T080000
DTSTAMP:20260425T214435
CREATED:20230707T162600Z
LAST-MODIFIED:20230707T162657Z
UID:25257-1691049600-1691049600@www.mncorn.org
SUMMARY:Kandiyohi Corn & Soybean Growers Annual Meeting
DESCRIPTION:Thursday\, August 3rd\, 2023\nMcMillan’s Family Restaurant\n2620 1st St S\, Wilmar\, MN 56201 \n8 a.m. –  Breakfast & Annual Meeting \nJoin us for networking and checkoff updates from\nyour commodity organizations.
URL:https://www.mncorn.org/single-event/kandiyohi-county-annual-meeting-2/
LOCATION:McMillan’s Family Restaurant\, 2620 1st St S\, Willmar\, MN\, 56201
CATEGORIES:County Events
END:VEVENT
BEGIN:VEVENT
DTSTART;TZID=America/Chicago:20230804T170000
DTEND;TZID=America/Chicago:20230804T190000
DTSTAMP:20260425T214435
CREATED:20230717T202635Z
LAST-MODIFIED:20230717T202844Z
UID:25349-1691168400-1691175600@www.mncorn.org
SUMMARY:Pope County Corn-Soybean Growers Political Meet n Greet/ Free Dinner
DESCRIPTION:Pope County Corn-Soybean Growers Political Meet n Greet/ Free Dinner \nFriday\, August 4\, 5:00pm – 7:00pm \nPope County Fairgrounds\, Glenwood\, MN \nwww.popecountyfair.org
URL:https://www.mncorn.org/single-event/pope-county-corn-soybean-growers-political-meet-n-greet-free-dinner/
LOCATION:230 Minnesota Ave W\, Glenwood\, MN\, United States\, Minnesota\, 230 Minnesota Ave W\, Glenwood\, MN
CATEGORIES:County Events
END:VEVENT
BEGIN:VEVENT
DTSTART;TZID=America/Chicago:20230804T170000
DTEND;TZID=America/Chicago:20230804T190000
DTSTAMP:20260425T214435
CREATED:20230717T202635Z
LAST-MODIFIED:20230717T202635Z
UID:29871-1691168400-1691175600@www.mncorn.org
SUMMARY:Pope County Corn-Soybean Growers Political Meet n Greet/ Free Dinner
DESCRIPTION:Pope County Corn-Soybean Growers Political Meet n Greet/ Free Dinner \nFriday\, August 4\, 5:00pm – 7:00pm \nPope County Fairgrounds\, Glenwood\, MN \nwww.popecountyfair.org
URL:https://www.mncorn.org/single-event/pope-county-corn-soybean-growers-political-meet-n-greet-free-dinner-2/
LOCATION:230 Minnesota Ave W\, Glenwood\, MN\, United States\, Minnesota\, 230 Minnesota Ave W\, Glenwood\, MN
CATEGORIES:County Events
END:VEVENT
BEGIN:VEVENT
DTSTART;TZID=America/Chicago:20230817T173000
DTEND;TZID=America/Chicago:20230817T190000
DTSTAMP:20260425T214435
CREATED:20230501T181311Z
LAST-MODIFIED:20230501T181311Z
UID:29843-1692293400-1692298800@www.mncorn.org
SUMMARY:Traverse Corn & Soybean Growers Annual Meeting
DESCRIPTION:Free Dinner \nThursday\, August 17\, 5:30pm – 7:00pm \nWheaton Golf Course\, Wheaton MN
URL:https://www.mncorn.org/single-event/traverse-corn-soybean-growers-annual-meeting-2/
LOCATION:Wheaton Country Club\, 6401 State Hwy 27\, Wheaton\, MN\, 56296\, United States
CATEGORIES:County Events
END:VEVENT
BEGIN:VEVENT
DTSTART;TZID=America/Chicago:20230817T173000
DTEND;TZID=America/Chicago:20230817T190000
DTSTAMP:20260425T214435
CREATED:20230501T181311Z
LAST-MODIFIED:20230718T153551Z
UID:24776-1692293400-1692298800@www.mncorn.org
SUMMARY:Traverse Corn & Soybean Growers Annual Meeting
DESCRIPTION:Free Dinner \nThursday\, August 17\, 5:30pm – 7:00pm \nWheaton Golf Course\, Wheaton MN
URL:https://www.mncorn.org/single-event/traverse-corn-soybean-growers-annual-meeting/
LOCATION:Wheaton Country Club\, 6401 State Hwy 27\, Wheaton\, MN\, 56296\, United States
CATEGORIES:County Events
END:VEVENT
BEGIN:VEVENT
DTSTART;TZID=America/Chicago:20230818T091500
DTEND;TZID=America/Chicago:20230818T091500
DTSTAMP:20260425T214435
CREATED:20230626T160320Z
LAST-MODIFIED:20230626T160320Z
UID:29861-1692350100-1692350100@www.mncorn.org
SUMMARY:Stearns County Corn Growers Association golf event
DESCRIPTION:18 hole 4 person scramble (best ball) tournament \nCheck in from 9:15 -10:30am \nShotgun start will be at 10:30am \nBrat Lunch will be provided and served by the local FFA \nSmoked Pork Chop dinner at 4:00pm \n  \nCash prizes will be awarded to the actual first place team\, 2nd and 3rd place will be a draw \n  \nContact Sonja Miller \n320-352-3474 \nsonjam@centralgaininc.com
URL:https://www.mncorn.org/single-event/stearns-county-corn-growers-association-golf-event-2/
LOCATION:Lynx National Golf Course\, Sauk Centre\, 40204 Primrose Lane\, Sauk Centre\, MN\, 56378\, United States
CATEGORIES:County Events
END:VEVENT
BEGIN:VEVENT
DTSTART;TZID=America/Chicago:20230818T091500
DTEND;TZID=America/Chicago:20230818T091500
DTSTAMP:20260425T214435
CREATED:20230626T160320Z
LAST-MODIFIED:20230626T160320Z
UID:25114-1692350100-1692350100@www.mncorn.org
SUMMARY:Stearns County Corn Growers Association golf event
DESCRIPTION:18 hole 4 person scramble (best ball) tournament \nCheck in from 9:15 -10:30am \nShotgun start will be at 10:30am \nBrat Lunch will be provided and served by the local FFA \nSmoked Pork Chop dinner at 4:00pm \n  \nCash prizes will be awarded to the actual first place team\, 2nd and 3rd place will be a draw \n  \nContact Sonja Miller \n320-352-3474 \nsonjam@centralgaininc.com
URL:https://www.mncorn.org/single-event/stearns-county-corn-growers-association-golf-event/
LOCATION:Lynx National Golf Course\, Sauk Centre\, 40204 Primrose Lane\, Sauk Centre\, MN\, 56378\, United States
CATEGORIES:County Events
END:VEVENT
BEGIN:VEVENT
DTSTART;TZID=America/Chicago:20230818T100000
DTEND;TZID=America/Chicago:20230818T120000
DTSTAMP:20260425T214435
CREATED:20230717T203630Z
LAST-MODIFIED:20230717T203630Z
UID:25357-1692352800-1692360000@www.mncorn.org
SUMMARY:Douglas County Corn-Soybean Fuel Event
DESCRIPTION:Douglas County Corn-Soybean Fuel Event \nFriday August 18\, 10:00am – Noon \nCenex Station\, Alexandria\, MN
URL:https://www.mncorn.org/single-event/douglas-county-corn-soybean-fuel-event/
LOCATION:Cenex – 1705 Broadway\, Alexandria\, Minnesota 56308\, United States
CATEGORIES:County Events
END:VEVENT
BEGIN:VEVENT
DTSTART;TZID=America/Chicago:20230818T100000
DTEND;TZID=America/Chicago:20230818T120000
DTSTAMP:20260425T214435
CREATED:20230717T203630Z
LAST-MODIFIED:20230717T203630Z
UID:29872-1692352800-1692360000@www.mncorn.org
SUMMARY:Douglas County Corn-Soybean Fuel Event
DESCRIPTION:Douglas County Corn-Soybean Fuel Event \nFriday August 18\, 10:00am – Noon \nCenex Station\, Alexandria\, MN
URL:https://www.mncorn.org/single-event/douglas-county-corn-soybean-fuel-event-2/
LOCATION:Cenex – 1705 Broadway\, Alexandria\, Minnesota 56308\, United States
CATEGORIES:County Events
END:VEVENT
BEGIN:VEVENT
DTSTART;TZID=America/Chicago:20230819T100000
DTEND;TZID=America/Chicago:20230819T133000
DTSTAMP:20260425T214435
CREATED:20230717T204220Z
LAST-MODIFIED:20230717T204220Z
UID:25359-1692439200-1692451800@www.mncorn.org
SUMMARY:Douglas County Corn-Soybean Free Pork Chop Feed
DESCRIPTION:Douglas County Corn-Soybean Free Pork Chop Feed \nSaturday August 19\, 10:00am – 1:00pm \nAlexandria Fairgrounds\, Alexandria\, MN \nwww.dcmnfair.com
URL:https://www.mncorn.org/single-event/douglas-county-corn-soybean-free-pork-chop-feed/
LOCATION:Douglas County Fairgrounds\, 300 Fairgrounds Rd\, Alexandria\, MN
CATEGORIES:County Events
END:VEVENT
BEGIN:VEVENT
DTSTART;TZID=America/Chicago:20230819T100000
DTEND;TZID=America/Chicago:20230819T133000
DTSTAMP:20260425T214435
CREATED:20230717T204220Z
LAST-MODIFIED:20230717T204220Z
UID:29873-1692439200-1692451800@www.mncorn.org
SUMMARY:Douglas County Corn-Soybean Free Pork Chop Feed
DESCRIPTION:Douglas County Corn-Soybean Free Pork Chop Feed \nSaturday August 19\, 10:00am – 1:00pm \nAlexandria Fairgrounds\, Alexandria\, MN \nwww.dcmnfair.com
URL:https://www.mncorn.org/single-event/douglas-county-corn-soybean-free-pork-chop-feed-2/
LOCATION:Douglas County Fairgrounds\, 300 Fairgrounds Rd\, Alexandria\, MN
CATEGORIES:County Events
END:VEVENT
BEGIN:VEVENT
DTSTART;TZID=America/Chicago:20230822T173000
DTEND;TZID=America/Chicago:20230822T173000
DTSTAMP:20260425T214435
CREATED:20230719T143645Z
LAST-MODIFIED:20230719T143645Z
UID:25400-1692725400-1692725400@www.mncorn.org
SUMMARY:Le Sueur/Scott County Corn & Soybean Growers Annual Meeting
DESCRIPTION:Giesenbräu Bier Co.\n1306 1st St. NE\, New Prague\, MN 56071 \n5:30 p.m. Social and Johnny’s Smokin’ BBQ food truck\n6:30 p.m. Meeting \nThere is no obligation to join the board if you attend. \nSpeaker\, Clint Gergen\, CHS Senior Commodity Trader \nClinton Gergen currently works out of Inver Grove Heights as\na senior commodity trader for CHS Inc. He works in the Grain\nMarketing Division for the Southern Minnesota Group buying\ngrain into soybean processing plants along with buying grain\ninto river terminals and many domestic markets. He started\nin the grain business in 1973 and became a CHS employee in\n1975. Many know he worked in Savage before the terminal was\nconstructed and ran the terminal until 2005. \nGergen will present on the commodity fundamentals and\ntechnical focus within the yellow corn and soybean markets.
URL:https://www.mncorn.org/single-event/le-sueur-scott-county-corn-soybean-growers-annual-meeting/
LOCATION:1306 1st St. NE\, New Prague\, MN\, 1306 1st St. NE\, New Prague\, MN
CATEGORIES:County Events
END:VEVENT
BEGIN:VEVENT
DTSTART;TZID=America/Chicago:20230822T173000
DTEND;TZID=America/Chicago:20230822T173000
DTSTAMP:20260425T214435
CREATED:20230719T143645Z
LAST-MODIFIED:20230719T143645Z
UID:29875-1692725400-1692725400@www.mncorn.org
SUMMARY:Le Sueur/Scott County Corn & Soybean Growers Annual Meeting
DESCRIPTION:Giesenbräu Bier Co.\n1306 1st St. NE\, New Prague\, MN 56071 \n5:30 p.m. Social and Johnny’s Smokin’ BBQ food truck\n6:30 p.m. Meeting \nThere is no obligation to join the board if you attend. \nSpeaker\, Clint Gergen\, CHS Senior Commodity Trader \nClinton Gergen currently works out of Inver Grove Heights as\na senior commodity trader for CHS Inc. He works in the Grain\nMarketing Division for the Southern Minnesota Group buying\ngrain into soybean processing plants along with buying grain\ninto river terminals and many domestic markets. He started\nin the grain business in 1973 and became a CHS employee in\n1975. Many know he worked in Savage before the terminal was\nconstructed and ran the terminal until 2005. \nGergen will present on the commodity fundamentals and\ntechnical focus within the yellow corn and soybean markets.
URL:https://www.mncorn.org/single-event/le-sueur-scott-county-corn-soybean-growers-annual-meeting-2/
LOCATION:1306 1st St. NE\, New Prague\, MN\, 1306 1st St. NE\, New Prague\, MN
CATEGORIES:County Events
END:VEVENT
BEGIN:VEVENT
DTSTART;TZID=America/Chicago:20230824T170000
DTEND;TZID=America/Chicago:20230824T200000
DTSTAMP:20260425T214435
CREATED:20230816T172440Z
LAST-MODIFIED:20230816T172440Z
UID:29878-1692896400-1692907200@www.mncorn.org
SUMMARY:Meeker County Corn Growers 2023 Member Porkchop Picnic
DESCRIPTION:2023 Member Porkchop Picnic \n  \nThursday\, August 24 \n5:00-8:00pm \nMeeker County Fairgrounds \nLitchfield\, MN
URL:https://www.mncorn.org/single-event/meeker-county-corn-growers-2023-member-porkchop-picnic-2/
LOCATION:Meeker County Fairgrounds\, 1230 N Armstrong Ave\, Litchfield\, Minnesota\, 55355
CATEGORIES:County Events
END:VEVENT
BEGIN:VEVENT
DTSTART;TZID=America/Chicago:20230824T170000
DTEND;TZID=America/Chicago:20230824T200000
DTSTAMP:20260425T214435
CREATED:20230816T172440Z
LAST-MODIFIED:20230816T172440Z
UID:25621-1692896400-1692907200@www.mncorn.org
SUMMARY:Meeker County Corn Growers 2023 Member Porkchop Picnic
DESCRIPTION:2023 Member Porkchop Picnic \n  \nThursday\, August 24 \n5:00-8:00pm \nMeeker County Fairgrounds \nLitchfield\, MN
URL:https://www.mncorn.org/single-event/meeker-county-corn-growers-2023-member-porkchop-picnic/
LOCATION:Meeker County Fairgrounds\, 1230 N Armstrong Ave\, Litchfield\, Minnesota\, 55355
CATEGORIES:County Events
END:VEVENT
BEGIN:VEVENT
DTSTART;TZID=America/Chicago:20230829T083000
DTEND;TZID=America/Chicago:20230829T083000
DTSTAMP:20260425T214435
CREATED:20230705T191522Z
LAST-MODIFIED:20230705T191522Z
UID:25241-1693297800-1693297800@www.mncorn.org
SUMMARY:Benton Sherburne Corn Growers Golf Event
DESCRIPTION:11th Annual Corncob Scramble \nTuesday August 29\, 2023 \n  \nRegistration and Driving Range – 8:30am \nAnnouncements – 9:50am \nShotgun Start – 10:00am \nLunch Basket Provided at “The Shack” \nAwards and hors d’oeuvres – 2:00pm \n  \nThe Benton Sherburne Corn Grower’s “Corn Cob Scramble” is a wonderful way to take a break during a busy summer.  It’s a great opportunity to connect with our local farmers and other ag businesses.  The proceeds will fund our two scholarship programs.  The undergraduate scholarship is awarded to college students from Benton or Sherburne Counties who are pursuing careers in agriculture.  The farm business management scholarship is awarded to a beginning farmer in Benton or Sherburne Counties who is enrolled in Saint Cloud Technical College’s Farm Business Management Program.  Enjoy this day of networking and fellowship! \n  \nContact Allee or Mark with questions \nallee.schyma@yahoo.com \nmark.koch@compeer.com
URL:https://www.mncorn.org/single-event/benton-sherburne-corn-growers-golf-event/
LOCATION:Territory Golf Course\, St Cloud MN\, 480 55th Ave SE\, St Cloud\, MN\, 56304\, United States
CATEGORIES:County Events
END:VEVENT
BEGIN:VEVENT
DTSTART;TZID=America/Chicago:20230829T083000
DTEND;TZID=America/Chicago:20230829T083000
DTSTAMP:20260425T214435
CREATED:20230705T191522Z
LAST-MODIFIED:20230705T191522Z
UID:29867-1693297800-1693297800@www.mncorn.org
SUMMARY:Benton Sherburne Corn Growers Golf Event
DESCRIPTION:11th Annual Corncob Scramble \nTuesday August 29\, 2023 \n  \nRegistration and Driving Range – 8:30am \nAnnouncements – 9:50am \nShotgun Start – 10:00am \nLunch Basket Provided at “The Shack” \nAwards and hors d’oeuvres – 2:00pm \n  \nThe Benton Sherburne Corn Grower’s “Corn Cob Scramble” is a wonderful way to take a break during a busy summer.  It’s a great opportunity to connect with our local farmers and other ag businesses.  The proceeds will fund our two scholarship programs.  The undergraduate scholarship is awarded to college students from Benton or Sherburne Counties who are pursuing careers in agriculture.  The farm business management scholarship is awarded to a beginning farmer in Benton or Sherburne Counties who is enrolled in Saint Cloud Technical College’s Farm Business Management Program.  Enjoy this day of networking and fellowship! \n  \nContact Allee or Mark with questions \nallee.schyma@yahoo.com \nmark.koch@compeer.com
URL:https://www.mncorn.org/single-event/benton-sherburne-corn-growers-golf-event-2/
LOCATION:Territory Golf Course\, St Cloud MN\, 480 55th Ave SE\, St Cloud\, MN\, 56304\, United States
CATEGORIES:County Events
END:VEVENT
BEGIN:VEVENT
DTSTART;TZID=America/Chicago:20230831T150000
DTEND;TZID=America/Chicago:20230831T170000
DTSTAMP:20260425T214435
CREATED:20230828T171857Z
LAST-MODIFIED:20230828T174249Z
UID:25697-1693494000-1693501200@www.mncorn.org
SUMMARY:Dakota/Rice County Corn & Soybean Growers Fuel Promotion
DESCRIPTION:Thursday\, August 31st \n3:00-5:00pm \nAmcon \n957 8th St\, Farmington\, MN 55024 \n  \nDiscounts \n$0.15 off per gallon of E15 \n$0.85 off per gallon of E85 \n*E15 is approved for all passenger vehicles 2001 and newer \n*E85 is for use in Flex Fuel Vehicles (FFVs) only \n  \nSupported by the Dakota/Rice County Corn & Soybean Growers Association and Minnesota Corn Growers Association \n  \nDakRic Fuel Event Poster 2023 \n  \n 
URL:https://www.mncorn.org/single-event/dakota-rice-county-corn-soybean-growers-fuel-promotion/
LOCATION:Amcon\, 957 8th St\, Farmington\, MN\, 55024
CATEGORIES:County Events
END:VEVENT
BEGIN:VEVENT
DTSTART;TZID=America/Chicago:20230831T150000
DTEND;TZID=America/Chicago:20230831T170000
DTSTAMP:20260425T214435
CREATED:20230828T171857Z
LAST-MODIFIED:20230828T171857Z
UID:29881-1693494000-1693501200@www.mncorn.org
SUMMARY:Dakota/Rice County Corn & Soybean Growers Fuel Promotion
DESCRIPTION:Thursday\, August 31st \n3:00-5:00pm \nAmcon \n957 8th St\, Farmington\, MN 55024 \n  \nDiscounts \n$0.15 off per gallon of E15 \n$0.85 off per gallon of E85 \n*E15 is approved for all passenger vehicles 2001 and newer \n*E85 is for use in Flex Fuel Vehicles (FFVs) only \n  \nSupported by the Dakota/Rice County Corn & Soybean Growers Association and Minnesota Corn Growers Association \n  \nDakRic Fuel Event Poster 2023 \n  \n 
URL:https://www.mncorn.org/single-event/dakota-rice-county-corn-soybean-growers-fuel-promotion-2/
LOCATION:Amcon\, 957 8th St\, Farmington\, MN\, 55024
CATEGORIES:County Events
END:VEVENT
BEGIN:VEVENT
DTSTART;TZID=America/Chicago:20230905T170000
DTEND;TZID=America/Chicago:20230905T170000
DTSTAMP:20260425T214435
CREATED:20230828T172649Z
LAST-MODIFIED:20230828T172734Z
UID:25704-1693933200-1693933200@www.mncorn.org
SUMMARY:Olmsted/Wabasha County Corn & Soybean Growers Plot Day
DESCRIPTION:Tuesday\, September 5\, 2023 \n5:00pm Registration \n5:30pm Roast Beef Sandwiches \n  \nAt the Plots of Ron & Sirena Speer and Gary & Jason LeVan \nFrom Elign\, take County 25 west to 305th Street \nPlot is located 1 1/2 miles north on east side of street \n  \n*Brought to you by the Olmsted/Wabasha Corn & Soybean Growers Association and their checkoffs \n  \nPlot day postcard 2023 \n  \n 
URL:https://www.mncorn.org/single-event/olmsted-wabasha-county-corn-soybean-growers-plot-day/
LOCATION:MN
CATEGORIES:County Events
END:VEVENT
BEGIN:VEVENT
DTSTART;TZID=America/Chicago:20230905T170000
DTEND;TZID=America/Chicago:20230905T170000
DTSTAMP:20260425T214435
CREATED:20230828T172649Z
LAST-MODIFIED:20230828T172649Z
UID:29882-1693933200-1693933200@www.mncorn.org
SUMMARY:Olmsted/Wabasha County Corn & Soybean Growers Plot Day
DESCRIPTION:Tuesday\, September 5\, 2023 \n5:00pm Registration \n5:30pm Roast Beef Sandwiches \n  \nAt the Plots of Ron & Sirena Speer and Gary & Jason LeVan \nFrom Elign\, take County 25 west to 305th Street \nPlot is located 1 1/2 miles north on east side of street \n  \n*Brought to you by the Olmsted/Wabasha Corn & Soybean Growers Association and their checkoffs \n  \nPlot day postcard 2023 \n  \n 
URL:https://www.mncorn.org/single-event/olmsted-wabasha-county-corn-soybean-growers-plot-day-2/
LOCATION:MN
CATEGORIES:County Events
END:VEVENT
BEGIN:VEVENT
DTSTART;TZID=America/Chicago:20230905T170000
DTEND;TZID=America/Chicago:20230905T190000
DTSTAMP:20260425T214435
CREATED:20230717T204423Z
LAST-MODIFIED:20230828T174618Z
UID:25364-1693933200-1693940400@www.mncorn.org
SUMMARY:Pope County Plot Day
DESCRIPTION:Pope Plot Day \nTuesday\, September 5th \n5:00pm – 7:00pm \n  \nLocation:TBD
URL:https://www.mncorn.org/single-event/pope-plot-day/
LOCATION:MN
CATEGORIES:County Events
END:VEVENT
BEGIN:VEVENT
DTSTART;TZID=America/Chicago:20230905T170000
DTEND;TZID=America/Chicago:20230905T190000
DTSTAMP:20260425T214435
CREATED:20230717T204423Z
LAST-MODIFIED:20230717T204423Z
UID:29874-1693933200-1693940400@www.mncorn.org
SUMMARY:Pope County Plot Day
DESCRIPTION:Pope Plot Day \nTuesday\, September 5th \n5:00pm – 7:00pm \n  \nLocation:TBD
URL:https://www.mncorn.org/single-event/pope-plot-day-2/
LOCATION:MN
CATEGORIES:County Events
END:VEVENT
BEGIN:VEVENT
DTSTART;TZID=America/Chicago:20230907T110000
DTEND;TZID=America/Chicago:20230907T110000
DTSTAMP:20260425T214435
CREATED:20230828T173102Z
LAST-MODIFIED:20230828T173102Z
UID:25707-1694084400-1694084400@www.mncorn.org
SUMMARY:Mower County Corn & Soybean Growers Association Plot Day
DESCRIPTION:Plot Day \nThursday\, September 7\, 2023 \n  \nCorey Hansen Farm \n15588 540th Ave \nAustin\, MN 55912 \n  \n11:00 am Plot Tour \n12:00 pm Lunch
URL:https://www.mncorn.org/single-event/mower-county-corn-soybean-growers-association-plot-day/
LOCATION:Corey Hansen Farm\, 15588 540th Ave.\, Austin\, MN\, 55912\, United States
CATEGORIES:County Events
END:VEVENT
BEGIN:VEVENT
DTSTART;TZID=America/Chicago:20230907T110000
DTEND;TZID=America/Chicago:20230907T110000
DTSTAMP:20260425T214435
CREATED:20230828T173102Z
LAST-MODIFIED:20230828T173102Z
UID:29883-1694084400-1694084400@www.mncorn.org
SUMMARY:Mower County Corn & Soybean Growers Association Plot Day
DESCRIPTION:Plot Day \nThursday\, September 7\, 2023 \n  \nCorey Hansen Farm \n15588 540th Ave \nAustin\, MN 55912 \n  \n11:00 am Plot Tour \n12:00 pm Lunch
URL:https://www.mncorn.org/single-event/mower-county-corn-soybean-growers-association-plot-day-2/
LOCATION:Corey Hansen Farm\, 15588 540th Ave.\, Austin\, MN\, 55912\, United States
CATEGORIES:County Events
END:VEVENT
END:VCALENDAR