BEGIN:VCALENDAR
VERSION:2.0
PRODID:-//Minnesota Corn Growers Association - ECPv6.15.20//NONSGML v1.0//EN
CALSCALE:GREGORIAN
METHOD:PUBLISH
X-WR-CALNAME:Minnesota Corn Growers Association
X-ORIGINAL-URL:https://www.mncorn.org
X-WR-CALDESC:Events for Minnesota Corn Growers Association
REFRESH-INTERVAL;VALUE=DURATION:PT1H
X-Robots-Tag:noindex
X-PUBLISHED-TTL:PT1H
BEGIN:VTIMEZONE
TZID:America/Chicago
BEGIN:DAYLIGHT
TZOFFSETFROM:-0600
TZOFFSETTO:-0500
TZNAME:CDT
DTSTART:20200308T080000
END:DAYLIGHT
BEGIN:STANDARD
TZOFFSETFROM:-0500
TZOFFSETTO:-0600
TZNAME:CST
DTSTART:20201101T070000
END:STANDARD
BEGIN:DAYLIGHT
TZOFFSETFROM:-0600
TZOFFSETTO:-0500
TZNAME:CDT
DTSTART:20210314T080000
END:DAYLIGHT
BEGIN:STANDARD
TZOFFSETFROM:-0500
TZOFFSETTO:-0600
TZNAME:CST
DTSTART:20211107T070000
END:STANDARD
BEGIN:DAYLIGHT
TZOFFSETFROM:-0600
TZOFFSETTO:-0500
TZNAME:CDT
DTSTART:20220313T080000
END:DAYLIGHT
BEGIN:STANDARD
TZOFFSETFROM:-0500
TZOFFSETTO:-0600
TZNAME:CST
DTSTART:20221106T070000
END:STANDARD
BEGIN:DAYLIGHT
TZOFFSETFROM:-0600
TZOFFSETTO:-0500
TZNAME:CDT
DTSTART:20230312T080000
END:DAYLIGHT
BEGIN:STANDARD
TZOFFSETFROM:-0500
TZOFFSETTO:-0600
TZNAME:CST
DTSTART:20231105T070000
END:STANDARD
END:VTIMEZONE
BEGIN:VEVENT
DTSTART;TZID=America/Chicago:20210901T160000
DTEND;TZID=America/Chicago:20210901T180000
DTSTAMP:20260425T224424
CREATED:20210819T155638Z
LAST-MODIFIED:20210826T174348Z
UID:17120-1630512000-1630519200@www.mncorn.org
SUMMARY:Lac qui Parle County Corn & Soybean Growers Association Fuel Event
DESCRIPTION:Discounts will be offered on E15\, E20\, E30 and E85. \nE15: 15 cents/gallon \nE20: 20 cents/gallon \nE30: 30 cents/gallon \nE85: 85 cents/gallon \nMaximum of 30 gallons per vehicle. \n 
URL:https://www.mncorn.org/single-event/lac-qui-parle-county-corn-soybean-growers-association-fuel-event/
LOCATION:Bellingham Farmers Elevator\, 300 Railroad St\, Bellingham\, Minnesota\, 56212
CATEGORIES:County Events,Fuel Promotion Events
END:VEVENT
BEGIN:VEVENT
DTSTART;TZID=America/Chicago:20210901T160000
DTEND;TZID=America/Chicago:20210901T180000
DTSTAMP:20260425T224424
CREATED:20210819T155638Z
LAST-MODIFIED:20210819T155638Z
UID:29685-1630512000-1630519200@www.mncorn.org
SUMMARY:Lac qui Parle County Corn & Soybean Growers Association Fuel Event
DESCRIPTION:Discounts will be offered on E15\, E20\, E30 and E85. \nE15: 15 cents/gallon \nE20: 20 cents/gallon \nE30: 30 cents/gallon \nE85: 85 cents/gallon \nMaximum of 30 gallons per vehicle. \n 
URL:https://www.mncorn.org/single-event/lac-qui-parle-county-corn-soybean-growers-association-fuel-event-3/
LOCATION:Bellingham Farmers Elevator\, 300 Railroad St\, Bellingham\, Minnesota\, 56212
CATEGORIES:County Events,Fuel Promotion Events
END:VEVENT
BEGIN:VEVENT
DTSTART;TZID=America/Chicago:20210907T170000
DTEND;TZID=America/Chicago:20210907T170000
DTSTAMP:20260425T224424
CREATED:20210901T194131Z
LAST-MODIFIED:20210901T194547Z
UID:17279-1631034000-1631034000@www.mncorn.org
SUMMARY:Pope County Corn and Soybean Growers Plot Day
DESCRIPTION:Starts at 5 p.m. \nCurt & Paul Dahlseng Farm \n33557 180th St.\, Starbuck – 5 miles west\, 2 miles north of Starbuck \nContact Bruce Zavadil at (320) 247-2236 or Vern Pooch at (320) 815-8360 with questions.
URL:https://www.mncorn.org/single-event/pope-county-corn-and-soybean-growers-plot-day/
LOCATION:Curt & Paul Dahlseng Farm\, 33557 180th St.\, Starbuck\, Minnesota
CATEGORIES:County Events
END:VEVENT
BEGIN:VEVENT
DTSTART;TZID=America/Chicago:20210907T170000
DTEND;TZID=America/Chicago:20210907T170000
DTSTAMP:20260425T224424
CREATED:20210901T194131Z
LAST-MODIFIED:20210901T194131Z
UID:29690-1631034000-1631034000@www.mncorn.org
SUMMARY:Pope County Corn and Soybean Growers Plot Day
DESCRIPTION:Starts at 5 p.m. \nCurt & Paul Dahlseng Farm \n33557 180th St.\, Starbuck – 5 miles west\, 2 miles north of Starbuck \nContact Bruce Zavadil at (320) 247-2236 or Vern Pooch at (320) 815-8360 with questions.
URL:https://www.mncorn.org/single-event/pope-county-corn-and-soybean-growers-plot-day-2/
LOCATION:Curt & Paul Dahlseng Farm\, 33557 180th St.\, Starbuck\, Minnesota
CATEGORIES:County Events
END:VEVENT
BEGIN:VEVENT
DTSTART;TZID=America/Chicago:20210908T160000
DTEND;TZID=America/Chicago:20210908T180000
DTSTAMP:20260425T224424
CREATED:20210723T211756Z
LAST-MODIFIED:20210723T211756Z
UID:29680-1631116800-1631124000@www.mncorn.org
SUMMARY:Scott/Le Sueur Corn and Soybean Growers Association Fuel Event
DESCRIPTION:
URL:https://www.mncorn.org/single-event/scott-le-sueur-corn-and-soybean-growers-association-fuel-event-2/
LOCATION:Coborn’s Belle Plaine\, 1010 East Enterprise Drive\, Belle Plaine\, Minnesota\, 56011
CATEGORIES:County Events,Fuel Promotion Events
END:VEVENT
BEGIN:VEVENT
DTSTART;TZID=America/Chicago:20210908T160000
DTEND;TZID=America/Chicago:20210908T180000
DTSTAMP:20260425T224424
CREATED:20210723T211756Z
LAST-MODIFIED:20210901T131301Z
UID:16837-1631116800-1631124000@www.mncorn.org
SUMMARY:Scott/Le Sueur Corn and Soybean Growers Association Fuel Event
DESCRIPTION:
URL:https://www.mncorn.org/single-event/scott-le-sueur-corn-and-soybean-growers-association-fuel-event/
LOCATION:Coborn’s Belle Plaine\, 1010 East Enterprise Drive\, Belle Plaine\, Minnesota\, 56011
CATEGORIES:County Events,Fuel Promotion Events
END:VEVENT
BEGIN:VEVENT
DTSTART;TZID=America/Chicago:20210908T170000
DTEND;TZID=America/Chicago:20210908T200000
DTSTAMP:20260425T224424
CREATED:20210901T185240Z
LAST-MODIFIED:20210901T185240Z
UID:29689-1631120400-1631131200@www.mncorn.org
SUMMARY:Renville County Plot Day
DESCRIPTION:Doug Toreen Farm: Renville County Rd 4\, one half mile west of Renville County Rd 3 or 6 miles south of Bird Island to County Rd 4\, then 3.5 miles East
URL:https://www.mncorn.org/single-event/renville-county-plot-day-2-2/
LOCATION:Doug Toreen Farm
CATEGORIES:County Events
END:VEVENT
BEGIN:VEVENT
DTSTART;TZID=America/Chicago:20210908T170000
DTEND;TZID=America/Chicago:20210908T200000
DTSTAMP:20260425T224424
CREATED:20210901T185240Z
LAST-MODIFIED:20210901T185240Z
UID:17276-1631120400-1631131200@www.mncorn.org
SUMMARY:Renville County Plot Day
DESCRIPTION:Doug Toreen Farm: Renville County Rd 4\, one half mile west of Renville County Rd 3 or 6 miles south of Bird Island to County Rd 4\, then 3.5 miles East
URL:https://www.mncorn.org/single-event/renville-county-plot-day-2/
LOCATION:Doug Toreen Farm
CATEGORIES:County Events
END:VEVENT
BEGIN:VEVENT
DTSTART;TZID=America/Chicago:20210909T150000
DTEND;TZID=America/Chicago:20210909T170000
DTSTAMP:20260425T224424
CREATED:20210723T211904Z
LAST-MODIFIED:20210901T131440Z
UID:16840-1631199600-1631206800@www.mncorn.org
SUMMARY:Nicollet/Sibley County Corn and Soybean Growers Association Fuel Event
DESCRIPTION:
URL:https://www.mncorn.org/single-event/nicollet-sibley-county-corn-and-soybean-growers-association-fuel-event/
LOCATION:Kwik Trip #466\, 1305 S MINNESOTA AVE\, St. Peter\, Minnesota\, 56082
CATEGORIES:County Events,Fuel Promotion Events
END:VEVENT
BEGIN:VEVENT
DTSTART;TZID=America/Chicago:20210909T150000
DTEND;TZID=America/Chicago:20210909T170000
DTSTAMP:20260425T224424
CREATED:20210723T211904Z
LAST-MODIFIED:20210723T211904Z
UID:29681-1631199600-1631206800@www.mncorn.org
SUMMARY:Nicollet/Sibley County Corn and Soybean Growers Association Fuel Event
DESCRIPTION:
URL:https://www.mncorn.org/single-event/nicollet-sibley-county-corn-and-soybean-growers-association-fuel-event-2/
LOCATION:Kwik Trip #466\, 1305 S MINNESOTA AVE\, St. Peter\, Minnesota\, 56082
CATEGORIES:County Events,Fuel Promotion Events
END:VEVENT
BEGIN:VEVENT
DTSTART;TZID=America/Chicago:20210909T173000
DTEND;TZID=America/Chicago:20210909T173000
DTSTAMP:20260425T224424
CREATED:20210901T194507Z
LAST-MODIFIED:20210901T194507Z
UID:17282-1631208600-1631208600@www.mncorn.org
SUMMARY:Douglas County Corn and Soybean Growers Plot Day
DESCRIPTION:5:30 p.m. – Social \n6:00 p.m. – Carbon Industry Basics Bethany Huls\, Carbon Customer Success Manager \n6:30 p.m. – Meal Provided by the Douglas County Pork Producers \nPioneer Park\, Brandon 7 miles south of Brandon on County Road 7
URL:https://www.mncorn.org/single-event/douglas-county-corn-and-soybean-growers-plot-day/
LOCATION:MN
CATEGORIES:County Events
END:VEVENT
BEGIN:VEVENT
DTSTART;TZID=America/Chicago:20210909T173000
DTEND;TZID=America/Chicago:20210909T173000
DTSTAMP:20260425T224424
CREATED:20210901T194507Z
LAST-MODIFIED:20210901T194507Z
UID:29691-1631208600-1631208600@www.mncorn.org
SUMMARY:Douglas County Corn and Soybean Growers Plot Day
DESCRIPTION:5:30 p.m. – Social \n6:00 p.m. – Carbon Industry Basics Bethany Huls\, Carbon Customer Success Manager \n6:30 p.m. – Meal Provided by the Douglas County Pork Producers \nPioneer Park\, Brandon 7 miles south of Brandon on County Road 7
URL:https://www.mncorn.org/single-event/douglas-county-corn-and-soybean-growers-plot-day-2/
LOCATION:MN
CATEGORIES:County Events
END:VEVENT
BEGIN:VEVENT
DTSTART;TZID=America/Chicago:20210910T140000
DTEND;TZID=America/Chicago:20210910T160000
DTSTAMP:20260425T224424
CREATED:20210826T175602Z
LAST-MODIFIED:20210901T131618Z
UID:17159-1631282400-1631289600@www.mncorn.org
SUMMARY:Lac Qui Parle County Corn & Soybean Growers Association Fuel Event
DESCRIPTION:E85 will be discounted at 85 cents per gallon\, up to 30 gallons.
URL:https://www.mncorn.org/single-event/lac-qui-parle-county-corn-soybean-growers-association-fuel-event-2/
LOCATION:Cenex – LQP Coop\, 127 Eighth Ave.\, Madison\, Minnesota\, 56256
CATEGORIES:County Events,Fuel Promotion Events
END:VEVENT
BEGIN:VEVENT
DTSTART;TZID=America/Chicago:20210910T140000
DTEND;TZID=America/Chicago:20210910T160000
DTSTAMP:20260425T224424
CREATED:20210826T175602Z
LAST-MODIFIED:20210826T175602Z
UID:29686-1631282400-1631289600@www.mncorn.org
SUMMARY:Lac Qui Parle County Corn & Soybean Growers Association Fuel Event
DESCRIPTION:E85 will be discounted at 85 cents per gallon\, up to 30 gallons.
URL:https://www.mncorn.org/single-event/lac-qui-parle-county-corn-soybean-growers-association-fuel-event-2-2/
LOCATION:Cenex – LQP Coop\, 127 Eighth Ave.\, Madison\, Minnesota\, 56256
CATEGORIES:County Events,Fuel Promotion Events
END:VEVENT
BEGIN:VEVENT
DTSTART;TZID=America/Chicago:20210910T160000
DTEND;TZID=America/Chicago:20210910T180000
DTSTAMP:20260425T224424
CREATED:20210723T212015Z
LAST-MODIFIED:20210901T131803Z
UID:16843-1631289600-1631296800@www.mncorn.org
SUMMARY:Todd County Corn and Soybean Growers Association Fuel Event
DESCRIPTION:
URL:https://www.mncorn.org/single-event/todd-county-corn-and-soybean-growers-association-fuel-event/
LOCATION:Coborn’s Long Prairie\, 645 Lake St South\, Long Prairie\, Minnesota\, 56347
CATEGORIES:County Events,Fuel Promotion Events
END:VEVENT
BEGIN:VEVENT
DTSTART;TZID=America/Chicago:20210910T160000
DTEND;TZID=America/Chicago:20210910T180000
DTSTAMP:20260425T224424
CREATED:20210723T212015Z
LAST-MODIFIED:20210723T212015Z
UID:29682-1631289600-1631296800@www.mncorn.org
SUMMARY:Todd County Corn and Soybean Growers Association Fuel Event
DESCRIPTION:
URL:https://www.mncorn.org/single-event/todd-county-corn-and-soybean-growers-association-fuel-event-3/
LOCATION:Coborn’s Long Prairie\, 645 Lake St South\, Long Prairie\, Minnesota\, 56347
CATEGORIES:County Events,Fuel Promotion Events
END:VEVENT
BEGIN:VEVENT
DTSTART;TZID=America/Chicago:20210915T110000
DTEND;TZID=America/Chicago:20210915T130000
DTSTAMP:20260425T224424
CREATED:20210901T132948Z
LAST-MODIFIED:20210901T132948Z
UID:29688-1631703600-1631710800@www.mncorn.org
SUMMARY:Dakota/Rice County Corn & Soybean Growers Association Fuel Event
DESCRIPTION:
URL:https://www.mncorn.org/single-event/dakota-rice-county-corn-soybean-growers-association-fuel-event-2/
LOCATION:Cenex Convenience Store East\, 28 E. Division St.\, Faribault\, Minnesota\, 55021
CATEGORIES:County Events,Fuel Promotion Events
END:VEVENT
BEGIN:VEVENT
DTSTART;TZID=America/Chicago:20210915T110000
DTEND;TZID=America/Chicago:20210915T130000
DTSTAMP:20260425T224424
CREATED:20210901T132948Z
LAST-MODIFIED:20210913T153825Z
UID:17273-1631703600-1631710800@www.mncorn.org
SUMMARY:Dakota/Rice County Corn & Soybean Growers Association Fuel Event
DESCRIPTION:
URL:https://www.mncorn.org/single-event/dakotarice-county-corn-soybean-growers-association-fuel-event/
LOCATION:Cenex Convenience Store East\, 28 E. Division St.\, Faribault\, Minnesota\, 55021
CATEGORIES:County Events,Fuel Promotion Events
END:VEVENT
BEGIN:VEVENT
DTSTART;TZID=America/Chicago:20210916T150000
DTEND;TZID=America/Chicago:20210916T170000
DTSTAMP:20260425T224424
CREATED:20210723T212256Z
LAST-MODIFIED:20210913T153850Z
UID:16846-1631804400-1631811600@www.mncorn.org
SUMMARY:Benton/Sherburne County Corn Growers Association Fuel Event
DESCRIPTION:
URL:https://www.mncorn.org/single-event/bentonsherburne-county-corn-growers-association-fuel-event/
LOCATION:Kwik Trip 149\, 750 15TH AVE SE\, St. Cloud\, Minnesota\, 56304
CATEGORIES:County Events
END:VEVENT
BEGIN:VEVENT
DTSTART;TZID=America/Chicago:20210916T150000
DTEND;TZID=America/Chicago:20210916T170000
DTSTAMP:20260425T224424
CREATED:20210723T212256Z
LAST-MODIFIED:20210723T212256Z
UID:29683-1631804400-1631811600@www.mncorn.org
SUMMARY:Benton/Sherburne County Corn Growers Association Fuel Event
DESCRIPTION:
URL:https://www.mncorn.org/single-event/benton-sherburne-county-corn-growers-association-fuel-event-2/
LOCATION:Kwik Trip 149\, 750 15TH AVE SE\, St. Cloud\, Minnesota\, 56304
CATEGORIES:County Events
END:VEVENT
BEGIN:VEVENT
DTSTART;VALUE=DATE:20211202
DTEND;VALUE=DATE:20211203
DTSTAMP:20260425T224424
CREATED:20210921T142258Z
LAST-MODIFIED:20210921T162853Z
UID:17521-1638403200-1638489599@www.mncorn.org
SUMMARY:Marshall County Corn & Soybean Growers Association annual meeting
DESCRIPTION:Breakfast will be served at 8 a.m. The meeting will begin at 8:30 a.m. Speakers are TBD.
URL:https://www.mncorn.org/single-event/marshall-county-corn-soybean-growers-association-annual-meeting/
LOCATION:Uptown Café (510 N Main St\, Warren\, MN 56762)\, United States
CATEGORIES:County Events
END:VEVENT
BEGIN:VEVENT
DTSTART;VALUE=DATE:20211202
DTEND;VALUE=DATE:20211203
DTSTAMP:20260425T224424
CREATED:20210921T142258Z
LAST-MODIFIED:20210921T142258Z
UID:29693-1638403200-1638489599@www.mncorn.org
SUMMARY:Marshall County Corn & Soybean Growers Association annual meeting
DESCRIPTION:Breakfast will be served at 8 a.m. The meeting will begin at 8:30 a.m. Speakers are TBD.
URL:https://www.mncorn.org/single-event/marshall-county-corn-soybean-growers-association-annual-meeting-2/
LOCATION:Uptown Café (510 N Main St\, Warren\, MN 56762)\, United States
CATEGORIES:County Events
END:VEVENT
BEGIN:VEVENT
DTSTART;TZID=America/Chicago:20220121T170000
DTEND;TZID=America/Chicago:20220121T200000
DTSTAMP:20260425T224424
CREATED:20220106T161112Z
LAST-MODIFIED:20220106T161112Z
UID:29713-1642784400-1642795200@www.mncorn.org
SUMMARY:Meeker County Corn Growers Annual Meeting
DESCRIPTION:
URL:https://www.mncorn.org/single-event/meeker-county-corn-growers-annual-meeting-2-2/
LOCATION:Steffes Auction (24400 MN-22\, Litchfield\, MN 55355) \, United States
CATEGORIES:County Events
END:VEVENT
BEGIN:VEVENT
DTSTART;TZID=America/Chicago:20220121T170000
DTEND;TZID=America/Chicago:20220121T200000
DTSTAMP:20260425T224424
CREATED:20220106T161112Z
LAST-MODIFIED:20220106T161112Z
UID:19178-1642784400-1642795200@www.mncorn.org
SUMMARY:Meeker County Corn Growers Annual Meeting
DESCRIPTION:
URL:https://www.mncorn.org/single-event/meeker-county-corn-growers-annual-meeting-2/
LOCATION:Steffes Auction (24400 MN-22\, Litchfield\, MN 55355) \, United States
CATEGORIES:County Events
END:VEVENT
BEGIN:VEVENT
DTSTART;VALUE=DATE:20220125
DTEND;VALUE=DATE:20220126
DTSTAMP:20260425T224424
CREATED:20211111T195734Z
LAST-MODIFIED:20211111T195734Z
UID:18291-1643068800-1643155199@www.mncorn.org
SUMMARY:Clay/Wilkin S/C Annual Meeting
DESCRIPTION:In-conjunction with the Small Grains Update Meetings
URL:https://www.mncorn.org/single-event/clay-wilkin-s-c-annual-meeting/
LOCATION:Dilworth Community Center\, 709 1st Ave NW\, Dilworth\, MN\, 56529
CATEGORIES:County Events
END:VEVENT
BEGIN:VEVENT
DTSTART;VALUE=DATE:20220125
DTEND;VALUE=DATE:20220126
DTSTAMP:20260425T224424
CREATED:20211111T195734Z
LAST-MODIFIED:20211111T195734Z
UID:29710-1643068800-1643155199@www.mncorn.org
SUMMARY:Clay/Wilkin S/C Annual Meeting
DESCRIPTION:In-conjunction with the Small Grains Update Meetings
URL:https://www.mncorn.org/single-event/clay-wilkin-s-c-annual-meeting-2/
LOCATION:Dilworth Community Center\, 709 1st Ave NW\, Dilworth\, MN\, 56529
CATEGORIES:County Events
END:VEVENT
BEGIN:VEVENT
DTSTART;VALUE=DATE:20220126
DTEND;VALUE=DATE:20220127
DTSTAMP:20260425T224424
CREATED:20211111T195619Z
LAST-MODIFIED:20211111T195619Z
UID:18286-1643155200-1643241599@www.mncorn.org
SUMMARY:Norman County S/C Annual Meeting
DESCRIPTION:In-conjunction with the Small Grains Update Meetings
URL:https://www.mncorn.org/single-event/norman-county-s-c-annual-meeting/
LOCATION:Ada Community Center
CATEGORIES:County Events
END:VEVENT
BEGIN:VEVENT
DTSTART;VALUE=DATE:20220126
DTEND;VALUE=DATE:20220127
DTSTAMP:20260425T224424
CREATED:20211111T195619Z
LAST-MODIFIED:20211111T195619Z
UID:29708-1643155200-1643241599@www.mncorn.org
SUMMARY:Norman County S/C Annual Meeting
DESCRIPTION:In-conjunction with the Small Grains Update Meetings
URL:https://www.mncorn.org/single-event/norman-county-s-c-annual-meeting-2/
LOCATION:Ada Community Center
CATEGORIES:County Events
END:VEVENT
BEGIN:VEVENT
DTSTART;VALUE=DATE:20220126
DTEND;VALUE=DATE:20220127
DTSTAMP:20260425T224424
CREATED:20211111T195655Z
LAST-MODIFIED:20211111T195655Z
UID:18289-1643155200-1643241599@www.mncorn.org
SUMMARY:Polk County S/C Annual Meeting
DESCRIPTION:In-conjunction with the Small Grains Update Meetings
URL:https://www.mncorn.org/single-event/polk-county-s-c-annual-meeting/
LOCATION:Crookston Inn\, 2200 University Ave\, Crookston\, MN\, 56716\, United States
CATEGORIES:County Events
END:VEVENT
BEGIN:VEVENT
DTSTART;VALUE=DATE:20220126
DTEND;VALUE=DATE:20220127
DTSTAMP:20260425T224424
CREATED:20211111T195655Z
LAST-MODIFIED:20211111T195655Z
UID:29709-1643155200-1643241599@www.mncorn.org
SUMMARY:Polk County S/C Annual Meeting
DESCRIPTION:In-conjunction with the Small Grains Update Meetings
URL:https://www.mncorn.org/single-event/polk-county-s-c-annual-meeting-2/
LOCATION:Crookston Inn\, 2200 University Ave\, Crookston\, MN\, 56716\, United States
CATEGORIES:County Events
END:VEVENT
END:VCALENDAR