BEGIN:VCALENDAR
VERSION:2.0
PRODID:-//Minnesota Corn Growers Association - ECPv6.15.20//NONSGML v1.0//EN
CALSCALE:GREGORIAN
METHOD:PUBLISH
X-ORIGINAL-URL:https://www.mncorn.org
X-WR-CALDESC:Events for Minnesota Corn Growers Association
REFRESH-INTERVAL;VALUE=DURATION:PT1H
X-Robots-Tag:noindex
X-PUBLISHED-TTL:PT1H
BEGIN:VTIMEZONE
TZID:America/Chicago
BEGIN:DAYLIGHT
TZOFFSETFROM:-0600
TZOFFSETTO:-0500
TZNAME:CDT
DTSTART:20210314T080000
END:DAYLIGHT
BEGIN:STANDARD
TZOFFSETFROM:-0500
TZOFFSETTO:-0600
TZNAME:CST
DTSTART:20211107T070000
END:STANDARD
BEGIN:DAYLIGHT
TZOFFSETFROM:-0600
TZOFFSETTO:-0500
TZNAME:CDT
DTSTART:20220313T080000
END:DAYLIGHT
BEGIN:STANDARD
TZOFFSETFROM:-0500
TZOFFSETTO:-0600
TZNAME:CST
DTSTART:20221106T070000
END:STANDARD
BEGIN:DAYLIGHT
TZOFFSETFROM:-0600
TZOFFSETTO:-0500
TZNAME:CDT
DTSTART:20230312T080000
END:DAYLIGHT
BEGIN:STANDARD
TZOFFSETFROM:-0500
TZOFFSETTO:-0600
TZNAME:CST
DTSTART:20231105T070000
END:STANDARD
END:VTIMEZONE
BEGIN:VEVENT
DTSTART;TZID=America/Chicago:20220621T173000
DTEND;TZID=America/Chicago:20220621T200000
DTSTAMP:20260425T154259
CREATED:20220531T142119Z
LAST-MODIFIED:20220531T142119Z
UID:29759-1655832600-1655841600@www.mncorn.org
SUMMARY:Faribault County Corn and Soybean Growers Annual Meeting
DESCRIPTION:5:30 p.m.: Silent auction \n6 p.m.: Meal and program — Bummy’s BBQ \nAll proceeds from the vent go to local agricultural scholarships. Receive a free tumbler upon arrival. \nMinnesota Corn Research Director Maciej Kazula will be the featured speaker at the event.
URL:https://www.mncorn.org/single-event/faribault-county-corn-and-soybean-growers-annual-meeting-2/
LOCATION:Margaret’s Pub\, 54 Main Street\, Easton\, Minnesota\, 56025
CATEGORIES:County Events
END:VEVENT
BEGIN:VEVENT
DTSTART;TZID=America/Chicago:20220621T173000
DTEND;TZID=America/Chicago:20220621T200000
DTSTAMP:20260425T154259
CREATED:20220531T142119Z
LAST-MODIFIED:20220621T141726Z
UID:22027-1655832600-1655841600@www.mncorn.org
SUMMARY:Faribault County Corn and Soybean Growers Annual Meeting
DESCRIPTION:5:30 p.m.: Silent auction \n6 p.m.: Meal and program — Bummy’s BBQ \nAll proceeds from the vent go to local agricultural scholarships. Receive a free tumbler upon arrival. \nMinnesota Corn Research Director Maciej Kazula will be the featured speaker at the event.
URL:https://www.mncorn.org/single-event/faribault-county-corn-and-soybean-growers-annual-meeting/
LOCATION:Margaret’s Pub\, 54 Main Street\, Easton\, Minnesota\, 56025
CATEGORIES:County Events
END:VEVENT
BEGIN:VEVENT
DTSTART;TZID=America/Chicago:20220628T173000
DTEND;TZID=America/Chicago:20220628T200000
DTSTAMP:20260425T154259
CREATED:20220531T201610Z
LAST-MODIFIED:20220531T201610Z
UID:29761-1656437400-1656446400@www.mncorn.org
SUMMARY:Kandiyohi County Corn & Soybean Growers Annual Meeting
DESCRIPTION:Family friendly with fun activities for the kids! \nSpeaker\, Scott Newberg\, to follow meeting \nhttps://www.mncorn.org/wp-content/uploads/2022/05/Kandiyohi-event.pdf
URL:https://www.mncorn.org/single-event/kandiyohi-county-corn-soybean-growers-annual-meeting-2/
LOCATION:Robbins Island Regional Park\, 945 US-71 BUS\, Willmar\, MN\, 56201\, United States
CATEGORIES:County Events
END:VEVENT
BEGIN:VEVENT
DTSTART;TZID=America/Chicago:20220628T173000
DTEND;TZID=America/Chicago:20220628T200000
DTSTAMP:20260425T154259
CREATED:20220531T201610Z
LAST-MODIFIED:20220531T201610Z
UID:22035-1656437400-1656446400@www.mncorn.org
SUMMARY:Kandiyohi County Corn & Soybean Growers Annual Meeting
DESCRIPTION:Family friendly with fun activities for the kids! \nSpeaker\, Scott Newberg\, to follow meeting \nhttps://www.mncorn.org/wp-content/uploads/2022/05/Kandiyohi-event.pdf
URL:https://www.mncorn.org/single-event/kandiyohi-county-corn-soybean-growers-annual-meeting/
LOCATION:Robbins Island Regional Park\, 945 US-71 BUS\, Willmar\, MN\, 56201\, United States
CATEGORIES:County Events
END:VEVENT
BEGIN:VEVENT
DTSTART;VALUE=DATE:20220716
DTEND;VALUE=DATE:20220717
DTSTAMP:20260425T154259
CREATED:20220620T133138Z
LAST-MODIFIED:20220620T133138Z
UID:22148-1657929600-1658015999@www.mncorn.org
SUMMARY:Tasseldega Nights
DESCRIPTION:
URL:https://www.mncorn.org/single-event/tasseldega-nights-3/
LOCATION:Deer Creek Speedway\, 25262 US Hwy 63\, Spring Valley\, MN\, 55975\, United States
CATEGORIES:County Events,General Public Events
END:VEVENT
BEGIN:VEVENT
DTSTART;VALUE=DATE:20220716
DTEND;VALUE=DATE:20220717
DTSTAMP:20260425T154259
CREATED:20220620T133138Z
LAST-MODIFIED:20220620T133138Z
UID:29767-1657929600-1658015999@www.mncorn.org
SUMMARY:Tasseldega Nights
DESCRIPTION:
URL:https://www.mncorn.org/single-event/tasseldega-nights-3-2/
LOCATION:Deer Creek Speedway\, 25262 US Hwy 63\, Spring Valley\, MN\, 55975\, United States
CATEGORIES:County Events,General Public Events
END:VEVENT
BEGIN:VEVENT
DTSTART;VALUE=DATE:20220721
DTEND;VALUE=DATE:20220722
DTSTAMP:20260425T154259
CREATED:20220621T214419Z
LAST-MODIFIED:20220621T214419Z
UID:22150-1658361600-1658447999@www.mncorn.org
SUMMARY:Renville County Golf Outing
DESCRIPTION:10:30 a.m. Sign in \n12 p.m. Shotgun start with lunch \n5 p.m. Awards and prime rib dinner
URL:https://www.mncorn.org/single-event/renville-county-golf-outing/
LOCATION:Oakdale Golf Club\, 55106 County Road 38\, Buffalo Lako\, MN\, 55314\, United States
CATEGORIES:County Events
END:VEVENT
BEGIN:VEVENT
DTSTART;VALUE=DATE:20220721
DTEND;VALUE=DATE:20220722
DTSTAMP:20260425T154259
CREATED:20220621T214419Z
LAST-MODIFIED:20220621T214419Z
UID:29768-1658361600-1658447999@www.mncorn.org
SUMMARY:Renville County Golf Outing
DESCRIPTION:10:30 a.m. Sign in \n12 p.m. Shotgun start with lunch \n5 p.m. Awards and prime rib dinner
URL:https://www.mncorn.org/single-event/renville-county-golf-outing-2/
LOCATION:Oakdale Golf Club\, 55106 County Road 38\, Buffalo Lako\, MN\, 55314\, United States
CATEGORIES:County Events
END:VEVENT
BEGIN:VEVENT
DTSTART;TZID=America/Chicago:20220722T193000
DTEND;TZID=America/Chicago:20220722T220000
DTSTAMP:20260425T154259
CREATED:20220706T201640Z
LAST-MODIFIED:20220706T201640Z
UID:22230-1658518200-1658527200@www.mncorn.org
SUMMARY:Corn & Soybean Night with the Little Crow Ski Team
DESCRIPTION:
URL:https://www.mncorn.org/single-event/corn-soybean-night-with-the-little-crow-ski-team/
LOCATION:Neer Park\, New London\, MN\, 311 2nd Avenue SE\, New London\, MN\, 56273\, United States
CATEGORIES:County Events
END:VEVENT
BEGIN:VEVENT
DTSTART;TZID=America/Chicago:20220722T193000
DTEND;TZID=America/Chicago:20220722T220000
DTSTAMP:20260425T154259
CREATED:20220706T201640Z
LAST-MODIFIED:20220706T201640Z
UID:29769-1658518200-1658527200@www.mncorn.org
SUMMARY:Corn & Soybean Night with the Little Crow Ski Team
DESCRIPTION:
URL:https://www.mncorn.org/single-event/corn-soybean-night-with-the-little-crow-ski-team-2/
LOCATION:Neer Park\, New London\, MN\, 311 2nd Avenue SE\, New London\, MN\, 56273\, United States
CATEGORIES:County Events
END:VEVENT
BEGIN:VEVENT
DTSTART;TZID=America/Chicago:20220810T090000
DTEND;TZID=America/Chicago:20220810T153000
DTSTAMP:20260425T154259
CREATED:20220721T173626Z
LAST-MODIFIED:20220721T173626Z
UID:22374-1660122000-1660145400@www.mncorn.org
SUMMARY:Otter Tail/Grant County NDAWN Demonstration Event
DESCRIPTION:August 10th from 9:00-11:00 am in Fergus Falls in the hockey arena at the fairgrounds \nAugust 10th from 1:30-3:30 pm in Herman at the community center
URL:https://www.mncorn.org/single-event/otter-tail-grant-county-ndawn-demonstration-event/
LOCATION:MN
CATEGORIES:County Events
END:VEVENT
BEGIN:VEVENT
DTSTART;TZID=America/Chicago:20220810T090000
DTEND;TZID=America/Chicago:20220810T153000
DTSTAMP:20260425T154259
CREATED:20220721T173626Z
LAST-MODIFIED:20220721T173626Z
UID:29772-1660122000-1660145400@www.mncorn.org
SUMMARY:Otter Tail/Grant County NDAWN Demonstration Event
DESCRIPTION:August 10th from 9:00-11:00 am in Fergus Falls in the hockey arena at the fairgrounds \nAugust 10th from 1:30-3:30 pm in Herman at the community center
URL:https://www.mncorn.org/single-event/otter-tail-grant-county-ndawn-demonstration-event-2/
LOCATION:MN
CATEGORIES:County Events
END:VEVENT
BEGIN:VEVENT
DTSTART;TZID=America/Chicago:20220811T173000
DTEND;TZID=America/Chicago:20220811T200000
DTSTAMP:20260425T154259
CREATED:20220721T173424Z
LAST-MODIFIED:20220721T173424Z
UID:22368-1660239000-1660248000@www.mncorn.org
SUMMARY:Traverse County Corn and Soybean Growers Annual Meeting
DESCRIPTION:Meeting at 5:30 p.m. \nMeal at 6:30 p.m. \nSpeaker Tom Slunecka to follow annual meeting.
URL:https://www.mncorn.org/single-event/traverse-county-corn-and-soybean-growers-annual-meeting/
LOCATION:Wheaton Country Club\, 6401 State Hwy 27\, Wheaton\, MN\, 56296\, United States
CATEGORIES:County Events
END:VEVENT
BEGIN:VEVENT
DTSTART;TZID=America/Chicago:20220811T173000
DTEND;TZID=America/Chicago:20220811T200000
DTSTAMP:20260425T154259
CREATED:20220721T173424Z
LAST-MODIFIED:20220721T173424Z
UID:29770-1660239000-1660248000@www.mncorn.org
SUMMARY:Traverse County Corn and Soybean Growers Annual Meeting
DESCRIPTION:Meeting at 5:30 p.m. \nMeal at 6:30 p.m. \nSpeaker Tom Slunecka to follow annual meeting.
URL:https://www.mncorn.org/single-event/traverse-county-corn-and-soybean-growers-annual-meeting-2-2/
LOCATION:Wheaton Country Club\, 6401 State Hwy 27\, Wheaton\, MN\, 56296\, United States
CATEGORIES:County Events
END:VEVENT
BEGIN:VEVENT
DTSTART;VALUE=DATE:20220819
DTEND;VALUE=DATE:20220820
DTSTAMP:20260425T154259
CREATED:20220721T173538Z
LAST-MODIFIED:20220721T173538Z
UID:22372-1660867200-1660953599@www.mncorn.org
SUMMARY:Stearns County golf tournament
DESCRIPTION:Friday\, August 19\, 2022 at Lynx National Golf Course\, Sauk Centre \n18 hole 4-person scramble (best ball) \nCheck in 9:15am \nShotgun start 10:30am \nBrat lunch served by local FFA \nSmoked pork chop dinner to follow \n  \nIf you have any questions\, please feel free to contact us: \nKen Reuter 320-250-9903 \nSonja Miller 320-352-3474 \n 
URL:https://www.mncorn.org/single-event/stearns-county-golf-tournament/
LOCATION:Lynx National Golf Course\, Sauk Centre\, 40204 Primrose Lane\, Sauk Centre\, MN\, 56378\, United States
CATEGORIES:County Events
END:VEVENT
BEGIN:VEVENT
DTSTART;VALUE=DATE:20220819
DTEND;VALUE=DATE:20220820
DTSTAMP:20260425T154259
CREATED:20220721T173538Z
LAST-MODIFIED:20220721T173538Z
UID:29771-1660867200-1660953599@www.mncorn.org
SUMMARY:Stearns County golf tournament
DESCRIPTION:Friday\, August 19\, 2022 at Lynx National Golf Course\, Sauk Centre \n18 hole 4-person scramble (best ball) \nCheck in 9:15am \nShotgun start 10:30am \nBrat lunch served by local FFA \nSmoked pork chop dinner to follow \n  \nIf you have any questions\, please feel free to contact us: \nKen Reuter 320-250-9903 \nSonja Miller 320-352-3474 \n 
URL:https://www.mncorn.org/single-event/stearns-county-golf-tournament-2/
LOCATION:Lynx National Golf Course\, Sauk Centre\, 40204 Primrose Lane\, Sauk Centre\, MN\, 56378\, United States
CATEGORIES:County Events
END:VEVENT
BEGIN:VEVENT
DTSTART;TZID=America/Chicago:20220825T170000
DTEND;TZID=America/Chicago:20220825T200000
DTSTAMP:20260425T154259
CREATED:20220726T154235Z
LAST-MODIFIED:20220726T154235Z
UID:29773-1661446800-1661457600@www.mncorn.org
SUMMARY:Meeker County Corn Growers Member Picnic
DESCRIPTION:
URL:https://www.mncorn.org/single-event/meeker-county-corn-growers-member-picnic-2/
LOCATION:Meeker County Fairgrounds\, 1230 N Armstrong Ave\, Litchfield\, Minnesota\, 55355
CATEGORIES:County Events
END:VEVENT
BEGIN:VEVENT
DTSTART;TZID=America/Chicago:20220825T170000
DTEND;TZID=America/Chicago:20220825T200000
DTSTAMP:20260425T154259
CREATED:20220726T154235Z
LAST-MODIFIED:20220726T154235Z
UID:22381-1661446800-1661457600@www.mncorn.org
SUMMARY:Meeker County Corn Growers Member Picnic
DESCRIPTION:
URL:https://www.mncorn.org/single-event/meeker-county-corn-growers-member-picnic/
LOCATION:Meeker County Fairgrounds\, 1230 N Armstrong Ave\, Litchfield\, Minnesota\, 55355
CATEGORIES:County Events
END:VEVENT
BEGIN:VEVENT
DTSTART;TZID=America/Chicago:20220901T160000
DTEND;TZID=America/Chicago:20220901T180000
DTSTAMP:20260425T154259
CREATED:20220830T202841Z
LAST-MODIFIED:20220831T145540Z
UID:22708-1662048000-1662055200@www.mncorn.org
SUMMARY:Dakota/Rice County Corn and Soybean Growers Association Fuel Event
DESCRIPTION:Enjoy discounts on Unleaded 88 and E85. \nNote: E85 can only be used in flex fuel vehicles.
URL:https://www.mncorn.org/single-event/dakota-rice-county-corn-and-soybean-growers-association-fuel-event/
LOCATION:Kwik Trip #343\, 17388 Glacier Way\, Lakeville\, Minnesota
CATEGORIES:County Events,Fuel Promotion Events
END:VEVENT
BEGIN:VEVENT
DTSTART;TZID=America/Chicago:20220901T160000
DTEND;TZID=America/Chicago:20220901T180000
DTSTAMP:20260425T154259
CREATED:20220830T202841Z
LAST-MODIFIED:20220830T202841Z
UID:29776-1662048000-1662055200@www.mncorn.org
SUMMARY:Dakota/Rice County Corn and Soybean Growers Association Fuel Event
DESCRIPTION:Enjoy discounts on Unleaded 88 and E85. \nNote: E85 can only be used in flex fuel vehicles.
URL:https://www.mncorn.org/single-event/dakota-rice-county-corn-and-soybean-growers-association-fuel-event-3/
LOCATION:Kwik Trip #343\, 17388 Glacier Way\, Lakeville\, Minnesota
CATEGORIES:County Events,Fuel Promotion Events
END:VEVENT
BEGIN:VEVENT
DTSTART;TZID=America/Chicago:20220908T110000
DTEND;TZID=America/Chicago:20220908T130000
DTSTAMP:20260425T154259
CREATED:20220831T145243Z
LAST-MODIFIED:20220831T145243Z
UID:22750-1662634800-1662642000@www.mncorn.org
SUMMARY:Lyon County Corn and Soybean Growers Association Fuel Promotion Event
DESCRIPTION:Enjoy discounts on Unleaded 88 and E85. \nUnleaded 88 discount: 15 cents/gallon \nE85 discount: 85 cents/gallon \nNote: E85 can only be used in flex fuel vehicles.
URL:https://www.mncorn.org/single-event/lyon-county-corn-and-soybean-growers-association-fuel-promotion-event/
LOCATION:Cottonwood Cenex\, 147 Barstad Rd\, Cottonwood\, Minnesota
CATEGORIES:County Events,Fuel Promotion Events
END:VEVENT
BEGIN:VEVENT
DTSTART;TZID=America/Chicago:20220908T110000
DTEND;TZID=America/Chicago:20220908T130000
DTSTAMP:20260425T154259
CREATED:20220831T145243Z
LAST-MODIFIED:20220831T145243Z
UID:29787-1662634800-1662642000@www.mncorn.org
SUMMARY:Lyon County Corn and Soybean Growers Association Fuel Promotion Event
DESCRIPTION:Enjoy discounts on Unleaded 88 and E85. \nUnleaded 88 discount: 15 cents/gallon \nE85 discount: 85 cents/gallon \nNote: E85 can only be used in flex fuel vehicles.
URL:https://www.mncorn.org/single-event/lyon-county-corn-and-soybean-growers-association-fuel-promotion-event-2/
LOCATION:Cottonwood Cenex\, 147 Barstad Rd\, Cottonwood\, Minnesota
CATEGORIES:County Events,Fuel Promotion Events
END:VEVENT
BEGIN:VEVENT
DTSTART;TZID=America/Chicago:20220908T110000
DTEND;TZID=America/Chicago:20220908T130000
DTSTAMP:20260425T154259
CREATED:20220831T153253Z
LAST-MODIFIED:20220831T153253Z
UID:29790-1662634800-1662642000@www.mncorn.org
SUMMARY:Mower County Corn and Soybean Growers Association Plot Day
DESCRIPTION:Plot tour: 11 a.m. \nLunch: 12 p.m.
URL:https://www.mncorn.org/single-event/mower-county-corn-and-soybean-growers-association-plot-day-2/
LOCATION:Corey Hansen Farm\, 15588 540th Ave.\, Austin\, MN\, 55912\, United States
CATEGORIES:County Events
END:VEVENT
BEGIN:VEVENT
DTSTART;TZID=America/Chicago:20220908T110000
DTEND;TZID=America/Chicago:20220908T130000
DTSTAMP:20260425T154259
CREATED:20220831T153253Z
LAST-MODIFIED:20220831T153415Z
UID:22783-1662634800-1662642000@www.mncorn.org
SUMMARY:Mower County Corn and Soybean Growers Association Plot Day
DESCRIPTION:Plot tour: 11 a.m. \nLunch: 12 p.m.
URL:https://www.mncorn.org/single-event/mower-county-corn-and-soybean-growers-association-plot-day/
LOCATION:Corey Hansen Farm\, 15588 540th Ave.\, Austin\, MN\, 55912\, United States
CATEGORIES:County Events
END:VEVENT
BEGIN:VEVENT
DTSTART;TZID=America/Chicago:20220908T150000
DTEND;TZID=America/Chicago:20220908T170000
DTSTAMP:20260425T154259
CREATED:20220830T203000Z
LAST-MODIFIED:20220831T145723Z
UID:22712-1662649200-1662656400@www.mncorn.org
SUMMARY:Nicollet/Sibley County Corn and Soybean Growers Association Fuel Event
DESCRIPTION:Enjoy discounts on Unleaded 88 and E85\, thanks to the Nicollet/Sibley County Corn and Soybean Growers Association. \nNote: E85 can only be used in flex fuel vehicles.
URL:https://www.mncorn.org/single-event/nicollet-sibley-county-corn-and-soybean-growers-association/
LOCATION:Kwik Trip #466\, 1305 S MINNESOTA AVE\, St. Peter\, Minnesota\, 56082
CATEGORIES:County Events,Fuel Promotion Events
END:VEVENT
BEGIN:VEVENT
DTSTART;TZID=America/Chicago:20220908T150000
DTEND;TZID=America/Chicago:20220908T170000
DTSTAMP:20260425T154259
CREATED:20220830T203000Z
LAST-MODIFIED:20220830T203000Z
UID:29777-1662649200-1662656400@www.mncorn.org
SUMMARY:Nicollet/Sibley County Corn and Soybean Growers Association Fuel Event
DESCRIPTION:Enjoy discounts on Unleaded 88 and E85\, thanks to the Nicollet/Sibley County Corn and Soybean Growers Association. \nNote: E85 can only be used in flex fuel vehicles.
URL:https://www.mncorn.org/single-event/nicollet-sibley-county-corn-and-soybean-growers-association-2/
LOCATION:Kwik Trip #466\, 1305 S MINNESOTA AVE\, St. Peter\, Minnesota\, 56082
CATEGORIES:County Events,Fuel Promotion Events
END:VEVENT
BEGIN:VEVENT
DTSTART;TZID=America/Chicago:20220909T160000
DTEND;TZID=America/Chicago:20220909T180000
DTSTAMP:20260425T154259
CREATED:20220830T203058Z
LAST-MODIFIED:20220831T150344Z
UID:22715-1662739200-1662746400@www.mncorn.org
SUMMARY:Todd County Corn and Soybean Growers Association Fuel Event
DESCRIPTION:Enjoy discounts on Unleaded 88\, E30\, and E85. \nUnleaded 88 discount: $1.15/gallon \nE30 discount: $1.30/gallon \nE85 discount: 85 cents/gallon. \nNote: E30 and E85 can only be used in flex fuel vehicles.
URL:https://www.mncorn.org/single-event/todd-county-corn-and-soybean-growers-association-fuel-event-2/
LOCATION:Coborn’s Long Prairie\, 645 Lake St South\, Long Prairie\, Minnesota\, 56347
CATEGORIES:County Events,Fuel Promotion Events
END:VEVENT
BEGIN:VEVENT
DTSTART;TZID=America/Chicago:20220909T160000
DTEND;TZID=America/Chicago:20220909T180000
DTSTAMP:20260425T154259
CREATED:20220830T203058Z
LAST-MODIFIED:20220830T203058Z
UID:29778-1662739200-1662746400@www.mncorn.org
SUMMARY:Todd County Corn and Soybean Growers Association Fuel Event
DESCRIPTION:Enjoy discounts on Unleaded 88\, E30\, and E85. \nUnleaded 88 discount: $1.15/gallon \nE30 discount: $1.30/gallon \nE85 discount: 85 cents/gallon. \nNote: E30 and E85 can only be used in flex fuel vehicles.
URL:https://www.mncorn.org/single-event/todd-county-corn-and-soybean-growers-association-fuel-event-2-2/
LOCATION:Coborn’s Long Prairie\, 645 Lake St South\, Long Prairie\, Minnesota\, 56347
CATEGORIES:County Events,Fuel Promotion Events
END:VEVENT
BEGIN:VEVENT
DTSTART;TZID=America/Chicago:20220912T103000
DTEND;TZID=America/Chicago:20220912T130000
DTSTAMP:20260425T154259
CREATED:20220829T221513Z
LAST-MODIFIED:20220829T221513Z
UID:29775-1662978600-1662987600@www.mncorn.org
SUMMARY:Faribault County Corn & Soybean Growers Plot Day
DESCRIPTION:Plot tour at 10:30 a.m; lunch to follow. \nSee how various corn hybrids have performed in Faribault County this growing season.
URL:https://www.mncorn.org/single-event/faribault-county-corn-soybean-growers-plot-day-3-2/
LOCATION:Jeff Ignaszewski Farm\, 61385 270th Street\, Wells\, MN\, 56097\, United States
CATEGORIES:County Events
END:VEVENT
BEGIN:VEVENT
DTSTART;TZID=America/Chicago:20220912T103000
DTEND;TZID=America/Chicago:20220912T130000
DTSTAMP:20260425T154259
CREATED:20220829T221513Z
LAST-MODIFIED:20220831T152156Z
UID:22681-1662978600-1662987600@www.mncorn.org
SUMMARY:Faribault County Corn & Soybean Growers Plot Day
DESCRIPTION:Plot tour at 10:30 a.m; lunch to follow. \nSee how various corn hybrids have performed in Faribault County this growing season.
URL:https://www.mncorn.org/single-event/faribault-county-corn-soybean-growers-plot-day/
LOCATION:Jeff Ignaszewski Farm\, 61385 270th Street\, Wells\, MN\, 56097\, United States
CATEGORIES:County Events
END:VEVENT
END:VCALENDAR