BEGIN:VCALENDAR
VERSION:2.0
PRODID:-//Minnesota Corn Growers Association - ECPv6.15.20//NONSGML v1.0//EN
CALSCALE:GREGORIAN
METHOD:PUBLISH
X-ORIGINAL-URL:https://www.mncorn.org
X-WR-CALDESC:Events for Minnesota Corn Growers Association
REFRESH-INTERVAL;VALUE=DURATION:PT1H
X-Robots-Tag:noindex
X-PUBLISHED-TTL:PT1H
BEGIN:VTIMEZONE
TZID:America/Chicago
BEGIN:DAYLIGHT
TZOFFSETFROM:-0600
TZOFFSETTO:-0500
TZNAME:CDT
DTSTART:20250309T080000
END:DAYLIGHT
BEGIN:STANDARD
TZOFFSETFROM:-0500
TZOFFSETTO:-0600
TZNAME:CST
DTSTART:20251102T070000
END:STANDARD
BEGIN:DAYLIGHT
TZOFFSETFROM:-0600
TZOFFSETTO:-0500
TZNAME:CDT
DTSTART:20260308T080000
END:DAYLIGHT
BEGIN:STANDARD
TZOFFSETFROM:-0500
TZOFFSETTO:-0600
TZNAME:CST
DTSTART:20261101T070000
END:STANDARD
BEGIN:DAYLIGHT
TZOFFSETFROM:-0600
TZOFFSETTO:-0500
TZNAME:CDT
DTSTART:20270314T080000
END:DAYLIGHT
BEGIN:STANDARD
TZOFFSETFROM:-0500
TZOFFSETTO:-0600
TZNAME:CST
DTSTART:20271107T070000
END:STANDARD
END:VTIMEZONE
BEGIN:VEVENT
DTSTART;TZID=America/Chicago:20260406T170000
DTEND;TZID=America/Chicago:20260406T170000
DTSTAMP:20260425T111541
CREATED:20260331T165510Z
LAST-MODIFIED:20260331T165510Z
UID:35403-1775494800-1775494800@www.mncorn.org
SUMMARY:Nobles County Corn & Soybean Growers Annual Meeting
DESCRIPTION:The Nobles County Corn & Soybean growers are holding their annual meeting on Monday\, April 6th starting at 5:00pm at Lerma’s Event Center in Worthington. We hope to see you there! \n  \nLocation: Lerma’s Event Center \n703 Oxford Street\, Worthington\, MN 56187
URL:https://www.mncorn.org/single-event/nobles-county-corn-soybean-growers-annual-meeting-4/
LOCATION:Lerma’s Event Center\, 703 Oxford Street\, Worthington\, MN\, 56187
CATEGORIES:County Events
END:VEVENT
BEGIN:VEVENT
DTSTART;TZID=America/Chicago:20260410T150000
DTEND;TZID=America/Chicago:20260410T180000
DTSTAMP:20260425T111541
CREATED:20260217T153244Z
LAST-MODIFIED:20260217T153244Z
UID:35181-1775833200-1775844000@www.mncorn.org
SUMMARY:Todd County Corn & Soybean Growers Fuel Event
DESCRIPTION:The Todd County Corn & Soybean Growers will be hosting a fuel event at the Coborn’s/Little Dukes in Long Prairie on Friday\, April 10th from 3:00-6:00pm. \n  \nDiscounts Offered: \nE-15 – $1.15 off/gal\nE-30 – $1.30 off/gal\nE-85 – $0.85/ gal\nBiodiesel – $1.20 off/gal
URL:https://www.mncorn.org/single-event/todd-county-corn-soybean-growers-fuel-event-4/
LOCATION:Coborn’s Long Prairie\, 645 Lake St S\, Long Prairie\, MN\, 56347
CATEGORIES:County Events
END:VEVENT
BEGIN:VEVENT
DTSTART;TZID=America/Chicago:20260415T110000
DTEND;TZID=America/Chicago:20260415T130000
DTSTAMP:20260425T111541
CREATED:20260326T163249Z
LAST-MODIFIED:20260326T163249Z
UID:35376-1776250800-1776258000@www.mncorn.org
SUMMARY:Stearns County Corn Growers Fuel Event
DESCRIPTION:The Stearns County Corn Growers will be holding a fuel event on April 15th from 11:00am – 1:00pm at the Belgrade Coop. We hope to see you there! \n  \nDiscounts offered: \nE-15 – $0.88 off/ gal\nE-85 – $0.85 off/ gal \n  \nLocation: Belgrade Coop \n218 Wells St\nBelgrade\, MN \n  \nStearns County Fuel Event 2026 (2)
URL:https://www.mncorn.org/single-event/stearns-county-corn-growers-fuel-event/
LOCATION:Belgrade Coop\, 218 Wells St\, Belgrade\, MN\, 56312
CATEGORIES:County Events
END:VEVENT
BEGIN:VEVENT
DTSTART;TZID=America/Chicago:20260603T173000
DTEND;TZID=America/Chicago:20260603T173000
DTSTAMP:20260425T111541
CREATED:20260423T151248Z
LAST-MODIFIED:20260423T151248Z
UID:35577-1780507800-1780507800@www.mncorn.org
SUMMARY:Benton/Sherburne Corn Growers 2026 Member Outing - Rox Game
DESCRIPTION:The Benton/Sherburne Corn Growers are holding their 2026 member outing at a St. Cloud Rox game! Come and enjoy an evening out on the sports deck with a buffet of grilled food\, soft drinks and $3 adult beverages. Admission is free for Benton/Sherburne Corn Grower members. Spouses and families are invited too! \n  \nDate: Wednesday\, June 3 \nGame Time: 6:35pm \nGates Open: 5:35pm \n  \nLocation: Joe Faber Field \n5001 Veterans Drive North\, St. Cloud \n  \nPlease RSVP to Tom Beck by May 20th \nEmail 4Bseeds@gmail.com or text 320-309-1276 \n  \nBentonSherburne Rox Outing Postcard (2)
URL:https://www.mncorn.org/single-event/benton-sherburne-corn-growers-2026-member-outing-rox-game/
LOCATION:Joe Faber Field\, 5001 Veterans Drive North\, St. Cloud\, MN\, 56303
CATEGORIES:County Events
END:VEVENT
BEGIN:VEVENT
DTSTART;TZID=America/Chicago:20260604T110000
DTEND;TZID=America/Chicago:20260604T130000
DTSTAMP:20260425T111541
CREATED:20260423T151830Z
LAST-MODIFIED:20260423T151830Z
UID:35583-1780570800-1780578000@www.mncorn.org
SUMMARY:Renville County Corn & Soybean Growers Fuel Event
DESCRIPTION:The Renville County Corn & Soybean Growers are holding a fuel event on June 4th from 11:00-1:00pm at the Renville Cenex. \n  \n\n\nDate: June 4\, 2026 \nTime: 11:00-1:00pm \n  \nLocation: Renville Cenex \n712 Park Ave E\, Renville \n\n\n  \nDiscounts: \n$1.70 off/gal of E-85 \n$0.60 off/gal of E-30 \n$0.40 off/gal of E-20 \n$0.20 off/gal of Biodiesel \n  \nRenville County Fuel Event June 2026 (2)
URL:https://www.mncorn.org/single-event/renville-county-corn-soybean-growers-fuel-event-2/
LOCATION:Renville Cenex\, 712 Park Ave E\, Renville\, MN\, 56284
CATEGORIES:County Events
END:VEVENT
BEGIN:VEVENT
DTSTART;TZID=America/Chicago:20260624T100000
DTEND;TZID=America/Chicago:20260624T100000
DTSTAMP:20260425T111541
CREATED:20260423T154336Z
LAST-MODIFIED:20260423T154336Z
UID:35586-1782295200-1782295200@www.mncorn.org
SUMMARY:Nicollet/Sibley County Corn & Soybean Growers - Cobs & Pods Golf Tournament
DESCRIPTION:The Nicollet/Sibley County Corn & Soybean Growers are holding their Cobs & Pods Golf Tournament on Wednesday\, June 24th at the Winthrop Golf Course. All are welcome to join! \n  \n\n\nPre-register by Friday\, June 19 \n\n\nWalk-In registration accepted \n\n\n  \n\n\n\n\nThree rounds with tee times of 10:00am\, 1:00pm and 3:00pm. Come for as many rounds as you’d like! \nCost includes cart & meals: \n\n\nOne Round – $50\, Two Rounds – $70\, Three Rounds – $90 \n\n\n  \nBest Ball Tournament with awards for the top team of 4 in each round \n\n\nHole-in-One on hole #5 wins $10\,000! Plus many more prizes!
URL:https://www.mncorn.org/single-event/nicollet-sibley-county-corn-soybean-growers-cobs-pods-golf-tournament/
LOCATION:Winthrop Golf Club\, 55155 300th St\, Winthrop\, 55396\, United States
CATEGORIES:County Events
END:VEVENT
END:VCALENDAR