BEGIN:VCALENDAR
VERSION:2.0
PRODID:-//Minnesota Corn Growers Association - ECPv6.15.20//NONSGML v1.0//EN
CALSCALE:GREGORIAN
METHOD:PUBLISH
X-ORIGINAL-URL:https://www.mncorn.org
X-WR-CALDESC:Events for Minnesota Corn Growers Association
REFRESH-INTERVAL;VALUE=DURATION:PT1H
X-Robots-Tag:noindex
X-PUBLISHED-TTL:PT1H
BEGIN:VTIMEZONE
TZID:America/Chicago
BEGIN:DAYLIGHT
TZOFFSETFROM:-0600
TZOFFSETTO:-0500
TZNAME:CDT
DTSTART:20210314T080000
END:DAYLIGHT
BEGIN:STANDARD
TZOFFSETFROM:-0500
TZOFFSETTO:-0600
TZNAME:CST
DTSTART:20211107T070000
END:STANDARD
BEGIN:DAYLIGHT
TZOFFSETFROM:-0600
TZOFFSETTO:-0500
TZNAME:CDT
DTSTART:20220313T080000
END:DAYLIGHT
BEGIN:STANDARD
TZOFFSETFROM:-0500
TZOFFSETTO:-0600
TZNAME:CST
DTSTART:20221106T070000
END:STANDARD
BEGIN:DAYLIGHT
TZOFFSETFROM:-0600
TZOFFSETTO:-0500
TZNAME:CDT
DTSTART:20230312T080000
END:DAYLIGHT
BEGIN:STANDARD
TZOFFSETFROM:-0500
TZOFFSETTO:-0600
TZNAME:CST
DTSTART:20231105T070000
END:STANDARD
BEGIN:DAYLIGHT
TZOFFSETFROM:-0600
TZOFFSETTO:-0500
TZNAME:CDT
DTSTART:20240310T080000
END:DAYLIGHT
BEGIN:STANDARD
TZOFFSETFROM:-0500
TZOFFSETTO:-0600
TZNAME:CST
DTSTART:20241103T070000
END:STANDARD
END:VTIMEZONE
BEGIN:VEVENT
DTSTART;TZID=America/Chicago:20220912T103000
DTEND;TZID=America/Chicago:20220912T130000
DTSTAMP:20260425T081542
CREATED:20220829T221513Z
LAST-MODIFIED:20220831T152156Z
UID:22681-1662978600-1662987600@www.mncorn.org
SUMMARY:Faribault County Corn & Soybean Growers Plot Day
DESCRIPTION:Plot tour at 10:30 a.m; lunch to follow. \nSee how various corn hybrids have performed in Faribault County this growing season.
URL:https://www.mncorn.org/single-event/faribault-county-corn-soybean-growers-plot-day/
LOCATION:Jeff Ignaszewski Farm\, 61385 270th Street\, Wells\, MN\, 56097\, United States
CATEGORIES:County Events
END:VEVENT
BEGIN:VEVENT
DTSTART;TZID=America/Chicago:20220912T103000
DTEND;TZID=America/Chicago:20220912T130000
DTSTAMP:20260425T081542
CREATED:20220829T221513Z
LAST-MODIFIED:20220829T221513Z
UID:29775-1662978600-1662987600@www.mncorn.org
SUMMARY:Faribault County Corn & Soybean Growers Plot Day
DESCRIPTION:Plot tour at 10:30 a.m; lunch to follow. \nSee how various corn hybrids have performed in Faribault County this growing season.
URL:https://www.mncorn.org/single-event/faribault-county-corn-soybean-growers-plot-day-3-2/
LOCATION:Jeff Ignaszewski Farm\, 61385 270th Street\, Wells\, MN\, 56097\, United States
CATEGORIES:County Events
END:VEVENT
BEGIN:VEVENT
DTSTART;TZID=America/Chicago:20220912T160000
DTEND;TZID=America/Chicago:20220912T180000
DTSTAMP:20260425T081542
CREATED:20220830T203244Z
LAST-MODIFIED:20220831T145842Z
UID:22718-1662998400-1663005600@www.mncorn.org
SUMMARY:McLeod County Corn and Soybean Growers Association Fuel Event
DESCRIPTION:Enjoy discounts on Unleaded 88 and E85. Note: E85 can only be used in flex fuel vehicles.
URL:https://www.mncorn.org/single-event/mcleod-county-corn-and-soybean-growers-association/
LOCATION:Coborn’s/Little Dukes Glencoe\, 2211 11th St E\, Glencoe\, MN\, 55336
CATEGORIES:County Events,Fuel Promotion Events
END:VEVENT
BEGIN:VEVENT
DTSTART;TZID=America/Chicago:20220912T160000
DTEND;TZID=America/Chicago:20220912T180000
DTSTAMP:20260425T081542
CREATED:20220830T203244Z
LAST-MODIFIED:20220830T203244Z
UID:29779-1662998400-1663005600@www.mncorn.org
SUMMARY:McLeod County Corn and Soybean Growers Association Fuel Event
DESCRIPTION:Enjoy discounts on Unleaded 88 and E85. Note: E85 can only be used in flex fuel vehicles.
URL:https://www.mncorn.org/single-event/mcleod-county-corn-and-soybean-growers-association-2/
LOCATION:Coborn’s/Little Dukes Glencoe\, 2211 11th St E\, Glencoe\, MN\, 55336
CATEGORIES:County Events,Fuel Promotion Events
END:VEVENT
BEGIN:VEVENT
DTSTART;TZID=America/Chicago:20220913T110000
DTEND;TZID=America/Chicago:20220913T133000
DTSTAMP:20260425T081542
CREATED:20220831T152822Z
LAST-MODIFIED:20220909T190424Z
UID:22778-1663066800-1663075800@www.mncorn.org
SUMMARY:Goodhue County Corn and Soybean Growers Annual Meeting and Plot Day
DESCRIPTION:Plot tour: 11 a.m. \nLunch and annual meeting: 12:30 p.m. \nThe plot is located at the intersection of County 1 Blvd and County 6 Blvd in Goodhue. \nLunch is at 37375 County 6 Blvd\, Goodhue\, MN. \nCall Brad Hovel at 651-764-3855 if you are interested in becoming a member.
URL:https://www.mncorn.org/single-event/goodhue-county-corn-and-soybean-growers-annual-meeting-and-plot-day/
LOCATION:MN
CATEGORIES:County Events
END:VEVENT
BEGIN:VEVENT
DTSTART;TZID=America/Chicago:20220913T110000
DTEND;TZID=America/Chicago:20220913T133000
DTSTAMP:20260425T081542
CREATED:20220831T152822Z
LAST-MODIFIED:20220831T152822Z
UID:29789-1663066800-1663075800@www.mncorn.org
SUMMARY:Goodhue County Corn and Soybean Growers Annual Meeting and Plot Day
DESCRIPTION:Plot tour: 11 a.m. \nLunch and annual meeting: 12:30 p.m. \nThe plot is located at the intersection of County 1 Blvd and County 6 Blvd in Goodhue. \nLunch is at 37375 County 6 Blvd\, Goodhue\, MN. \nCall Brad Hovel at 651-764-3855 if you are interested in becoming a member.
URL:https://www.mncorn.org/single-event/goodhue-county-corn-and-soybean-growers-annual-meeting-and-plot-day-2/
LOCATION:MN
CATEGORIES:County Events
END:VEVENT
BEGIN:VEVENT
DTSTART;TZID=America/Chicago:20220915T110000
DTEND;TZID=America/Chicago:20220915T130000
DTSTAMP:20260425T081542
CREATED:20220830T203411Z
LAST-MODIFIED:20220831T150001Z
UID:22722-1663239600-1663246800@www.mncorn.org
SUMMARY:Dakota/Rice County Corn and Soybean Growers Association Fuel Event
DESCRIPTION:Enjoy discounts on Unleaded 88 and E85. Note: E85 can only be used in flex fuel vehicles.
URL:https://www.mncorn.org/single-event/dakota-rice-county-corn-and-soybean-growers-association-fuel-event-2/
LOCATION:Faribault Cenex\, 28 Division St W\, Faribault\, MN\, 55021
CATEGORIES:County Events,Fuel Promotion Events
END:VEVENT
BEGIN:VEVENT
DTSTART;TZID=America/Chicago:20220915T110000
DTEND;TZID=America/Chicago:20220915T130000
DTSTAMP:20260425T081542
CREATED:20220830T203411Z
LAST-MODIFIED:20220830T203411Z
UID:29780-1663239600-1663246800@www.mncorn.org
SUMMARY:Dakota/Rice County Corn and Soybean Growers Association Fuel Event
DESCRIPTION:Enjoy discounts on Unleaded 88 and E85. Note: E85 can only be used in flex fuel vehicles.
URL:https://www.mncorn.org/single-event/dakota-rice-county-corn-and-soybean-growers-association-fuel-event-2-2/
LOCATION:Faribault Cenex\, 28 Division St W\, Faribault\, MN\, 55021
CATEGORIES:County Events,Fuel Promotion Events
END:VEVENT
BEGIN:VEVENT
DTSTART;TZID=America/Chicago:20221206T083000
DTEND;TZID=America/Chicago:20221206T100000
DTSTAMP:20260425T081542
CREATED:20221107T164926Z
LAST-MODIFIED:20221107T164926Z
UID:29792-1670315400-1670320800@www.mncorn.org
SUMMARY:Marshall County Soybean-Corn Growers Association Annual Meeting
DESCRIPTION:
URL:https://www.mncorn.org/single-event/marshall-county-soybean-corn-growers-association-annual-meeting-2/
LOCATION:Main Street Cafe\, 510 N Main St\, Warren\, MN\, 56762
CATEGORIES:County Events
END:VEVENT
BEGIN:VEVENT
DTSTART;TZID=America/Chicago:20221206T083000
DTEND;TZID=America/Chicago:20221206T100000
DTSTAMP:20260425T081542
CREATED:20221107T164926Z
LAST-MODIFIED:20221107T164926Z
UID:23214-1670315400-1670320800@www.mncorn.org
SUMMARY:Marshall County Soybean-Corn Growers Association Annual Meeting
DESCRIPTION:
URL:https://www.mncorn.org/single-event/marshall-county-soybean-corn-growers-association-annual-meeting/
LOCATION:Main Street Cafe\, 510 N Main St\, Warren\, MN\, 56762
CATEGORIES:County Events
END:VEVENT
BEGIN:VEVENT
DTSTART;TZID=America/Chicago:20230110T120000
DTEND;TZID=America/Chicago:20230110T133000
DTSTAMP:20260425T081542
CREATED:20221107T165029Z
LAST-MODIFIED:20221107T165029Z
UID:29793-1673352000-1673357400@www.mncorn.org
SUMMARY:Clay/Wilkin County Corn-Soybean Growers Annual Meeting
DESCRIPTION:(In conjunction with the Small Grain Update meetings)
URL:https://www.mncorn.org/single-event/clay-wilkin-county-corn-soybean-growers-annual-meeting-3/
LOCATION:Dilworth Community Center\, 709 1st Ave NW\, Dilworth\, MN\, 56529
CATEGORIES:County Events
END:VEVENT
BEGIN:VEVENT
DTSTART;TZID=America/Chicago:20230110T120000
DTEND;TZID=America/Chicago:20230110T133000
DTSTAMP:20260425T081542
CREATED:20221107T165029Z
LAST-MODIFIED:20221107T165029Z
UID:23217-1673352000-1673357400@www.mncorn.org
SUMMARY:Clay/Wilkin County Corn-Soybean Growers Annual Meeting
DESCRIPTION:(In conjunction with the Small Grain Update meetings)
URL:https://www.mncorn.org/single-event/clay-wilkin-county-corn-soybean-growers-annual-meeting/
LOCATION:Dilworth Community Center\, 709 1st Ave NW\, Dilworth\, MN\, 56529
CATEGORIES:County Events
END:VEVENT
BEGIN:VEVENT
DTSTART;TZID=America/Chicago:20230111T080000
DTEND;TZID=America/Chicago:20230111T093000
DTSTAMP:20260425T081542
CREATED:20221107T165138Z
LAST-MODIFIED:20221107T165138Z
UID:29794-1673424000-1673429400@www.mncorn.org
SUMMARY:Norman County Soybean-Corn Growers Annual Meeting
DESCRIPTION:(In conjunction with the Small Grain Update meetings)
URL:https://www.mncorn.org/single-event/norman-county-soybean-corn-growers-annual-meeting-2/
LOCATION:Ada Event Center\, 415 W Main St\, Ada\, MN\, 56510
CATEGORIES:County Events
END:VEVENT
BEGIN:VEVENT
DTSTART;TZID=America/Chicago:20230111T080000
DTEND;TZID=America/Chicago:20230111T093000
DTSTAMP:20260425T081542
CREATED:20221107T165138Z
LAST-MODIFIED:20221107T165138Z
UID:23219-1673424000-1673429400@www.mncorn.org
SUMMARY:Norman County Soybean-Corn Growers Annual Meeting
DESCRIPTION:(In conjunction with the Small Grain Update meetings)
URL:https://www.mncorn.org/single-event/norman-county-soybean-corn-growers-annual-meeting/
LOCATION:Ada Event Center\, 415 W Main St\, Ada\, MN\, 56510
CATEGORIES:County Events
END:VEVENT
BEGIN:VEVENT
DTSTART;TZID=America/Chicago:20230111T130000
DTEND;TZID=America/Chicago:20230111T143000
DTSTAMP:20260425T081542
CREATED:20221107T165313Z
LAST-MODIFIED:20221107T165313Z
UID:23222-1673442000-1673447400@www.mncorn.org
SUMMARY:Polk County Soybean-Corn Growers Annual Meeting
DESCRIPTION:(In conjunction with the Small Grain Update meetings)
URL:https://www.mncorn.org/single-event/polk-county-soybean-corn-growers-annual-meeting/
LOCATION:Crookston Inn\, 2200 University Ave\, Crookston\, MN\, 56716\, United States
CATEGORIES:County Events
END:VEVENT
BEGIN:VEVENT
DTSTART;TZID=America/Chicago:20230111T130000
DTEND;TZID=America/Chicago:20230111T143000
DTSTAMP:20260425T081542
CREATED:20221107T165313Z
LAST-MODIFIED:20221107T165313Z
UID:29795-1673442000-1673447400@www.mncorn.org
SUMMARY:Polk County Soybean-Corn Growers Annual Meeting
DESCRIPTION:(In conjunction with the Small Grain Update meetings)
URL:https://www.mncorn.org/single-event/polk-county-soybean-corn-growers-annual-meeting-2/
LOCATION:Crookston Inn\, 2200 University Ave\, Crookston\, MN\, 56716\, United States
CATEGORIES:County Events
END:VEVENT
BEGIN:VEVENT
DTSTART;TZID=America/Chicago:20230113T083000
DTEND;TZID=America/Chicago:20230113T100000
DTSTAMP:20260425T081542
CREATED:20221107T165758Z
LAST-MODIFIED:20221107T165758Z
UID:23226-1673598600-1673604000@www.mncorn.org
SUMMARY:Pennington/Red Lake County Soybean-Corn Growers Annual Meeting
DESCRIPTION:(In conjunction with the Small Grain Update meetings)
URL:https://www.mncorn.org/single-event/pennington-red-lake-county-soybean-corn-growers-annual-meeting/
LOCATION:Community Center\, St Hilaire
CATEGORIES:County Events
END:VEVENT
BEGIN:VEVENT
DTSTART;TZID=America/Chicago:20230113T083000
DTEND;TZID=America/Chicago:20230113T100000
DTSTAMP:20260425T081542
CREATED:20221107T165758Z
LAST-MODIFIED:20221107T165758Z
UID:29796-1673598600-1673604000@www.mncorn.org
SUMMARY:Pennington/Red Lake County Soybean-Corn Growers Annual Meeting
DESCRIPTION:(In conjunction with the Small Grain Update meetings)
URL:https://www.mncorn.org/single-event/pennington-red-lake-county-soybean-corn-growers-annual-meeting-2/
LOCATION:Community Center\, St Hilaire
CATEGORIES:County Events
END:VEVENT
BEGIN:VEVENT
DTSTART;TZID=America/Chicago:20230130T170000
DTEND;TZID=America/Chicago:20230130T190000
DTSTAMP:20260425T081542
CREATED:20230124T171722Z
LAST-MODIFIED:20230124T171722Z
UID:23667-1675098000-1675105200@www.mncorn.org
SUMMARY:Wantonwan County Corn & Soybean Growers Association Annual Meeting
DESCRIPTION:
URL:https://www.mncorn.org/single-event/wantonwan-county-corn-soybean-growers-association-annual-meeting/
LOCATION:St. James American Legion\, 620 1st Ave S\, St James\, MN\, 56081\, United States
CATEGORIES:County Events
END:VEVENT
BEGIN:VEVENT
DTSTART;TZID=America/Chicago:20230130T170000
DTEND;TZID=America/Chicago:20230130T190000
DTSTAMP:20260425T081542
CREATED:20230124T171722Z
LAST-MODIFIED:20230124T171722Z
UID:29801-1675098000-1675105200@www.mncorn.org
SUMMARY:Wantonwan County Corn & Soybean Growers Association Annual Meeting
DESCRIPTION:
URL:https://www.mncorn.org/single-event/wantonwan-county-corn-soybean-growers-association-annual-meeting-2/
LOCATION:St. James American Legion\, 620 1st Ave S\, St James\, MN\, 56081\, United States
CATEGORIES:County Events
END:VEVENT
BEGIN:VEVENT
DTSTART;TZID=America/Chicago:20230204T173000
DTEND;TZID=America/Chicago:20230204T193000
DTSTAMP:20260425T081542
CREATED:20230124T171920Z
LAST-MODIFIED:20230124T171920Z
UID:23670-1675531800-1675539000@www.mncorn.org
SUMMARY:Lincoln County Corn & Soybean Growers Association Annual Meeting
DESCRIPTION:
URL:https://www.mncorn.org/single-event/lincoln-county-corn-soybean-growers-association-annual-meeting/
LOCATION:Lincoln County VFW Post 2980\, 116 E Saxon St\, Ivanhoe\, Minnesota\, 56142
CATEGORIES:County Events
END:VEVENT
BEGIN:VEVENT
DTSTART;TZID=America/Chicago:20230204T173000
DTEND;TZID=America/Chicago:20230204T193000
DTSTAMP:20260425T081542
CREATED:20230124T171920Z
LAST-MODIFIED:20230124T171920Z
UID:29802-1675531800-1675539000@www.mncorn.org
SUMMARY:Lincoln County Corn & Soybean Growers Association Annual Meeting
DESCRIPTION:
URL:https://www.mncorn.org/single-event/lincoln-county-corn-soybean-growers-association-annual-meeting-2/
LOCATION:Lincoln County VFW Post 2980\, 116 E Saxon St\, Ivanhoe\, Minnesota\, 56142
CATEGORIES:County Events
END:VEVENT
BEGIN:VEVENT
DTSTART;TZID=America/Chicago:20230220T173000
DTEND;TZID=America/Chicago:20230220T193000
DTSTAMP:20260425T081542
CREATED:20230124T172123Z
LAST-MODIFIED:20230124T172705Z
UID:23673-1676914200-1676921400@www.mncorn.org
SUMMARY:Lyon County Corn & Soybean Growers Association Annual Meeting
DESCRIPTION:
URL:https://www.mncorn.org/single-event/lyon-county-corn-soybean-growers-association-annual-meeting/
LOCATION:Kb’s Bar & Grill\, 100 E Burlingame St\, Ghent\, MN\, 56239
CATEGORIES:County Events
END:VEVENT
BEGIN:VEVENT
DTSTART;TZID=America/Chicago:20230220T173000
DTEND;TZID=America/Chicago:20230220T193000
DTSTAMP:20260425T081542
CREATED:20230124T172123Z
LAST-MODIFIED:20230124T172123Z
UID:29803-1676914200-1676921400@www.mncorn.org
SUMMARY:Lyon County Corn & Soybean Growers Association Annual Meeting
DESCRIPTION:
URL:https://www.mncorn.org/single-event/lyon-county-corn-soybean-growers-association-annual-meeting-2/
LOCATION:Kb’s Bar & Grill\, 100 E Burlingame St\, Ghent\, MN\, 56239
CATEGORIES:County Events
END:VEVENT
BEGIN:VEVENT
DTSTART;TZID=America/Chicago:20230308T180000
DTEND;TZID=America/Chicago:20230308T200000
DTSTAMP:20260425T081542
CREATED:20230207T194322Z
LAST-MODIFIED:20230207T194322Z
UID:23899-1678298400-1678305600@www.mncorn.org
SUMMARY:Douglas County Corn-Soybean Growers Annual Meeting
DESCRIPTION:
URL:https://www.mncorn.org/single-event/douglas-county-corn-soybean-growers-annual-meeting-3/
LOCATION:Broadway Ballroom Event Center\, 115 30th Ave E\, Alexandria\, MN\, 56308
CATEGORIES:County Events
END:VEVENT
BEGIN:VEVENT
DTSTART;TZID=America/Chicago:20230308T180000
DTEND;TZID=America/Chicago:20230308T200000
DTSTAMP:20260425T081542
CREATED:20230207T194322Z
LAST-MODIFIED:20230207T194322Z
UID:29816-1678298400-1678305600@www.mncorn.org
SUMMARY:Douglas County Corn-Soybean Growers Annual Meeting
DESCRIPTION:
URL:https://www.mncorn.org/single-event/douglas-county-corn-soybean-growers-annual-meeting-3-2/
LOCATION:Broadway Ballroom Event Center\, 115 30th Ave E\, Alexandria\, MN\, 56308
CATEGORIES:County Events
END:VEVENT
BEGIN:VEVENT
DTSTART;TZID=America/Chicago:20230315T173000
DTEND;TZID=America/Chicago:20230315T193000
DTSTAMP:20260425T081542
CREATED:20230214T165836Z
LAST-MODIFIED:20230214T165836Z
UID:23983-1678901400-1678908600@www.mncorn.org
SUMMARY:Mower County Corn & Soybean Growers Association Annual Meeting
DESCRIPTION:Social hour begins at 5:30 p.m. \nSpeaker\, Matt Bennett\, to follow annual meeting \nMatt Bennett is a co-founder of AgMarket.Net. He is also a Windsor\, Illinois\, farmer and former grain elevator owner. He is Channel Seed’s grain marketing consultant and holds a Series 3 brokerage license doing business through AgMarket.Net\, Farm Division of JSA. \nMatt brings the producer perspective to the table\, enriched with his extensive grain marketing background. He specializes in formulating risk-management strategies for corn\, soybean farmers and livestock producers. \nMatt’s analysis and commentary on the grain markets appears on various TV and radio stations across the Midwest\, including “AgDay”\, “U.S. Farm Report” and “Agribusiness Today”. \nA graduate of University of Illinois\, Matt and his wife Tiffany live on the family’s centennial farm north of Windsor\, where they are raising their five children. He owns and operates a 3\,000-acre corn and soybean farm with his father while raising 60 head of registered Angus cows. \nBrought to you by the Mower County Corn and Soybean Growers and their checkoffs.
URL:https://www.mncorn.org/single-event/mower-county-corn-soybean-growers-association-annual-meeting/
LOCATION:Adams American Legion\, 321 W Main St\, Adams\, 55909\, United States
CATEGORIES:County Events
END:VEVENT
BEGIN:VEVENT
DTSTART;TZID=America/Chicago:20230315T173000
DTEND;TZID=America/Chicago:20230315T193000
DTSTAMP:20260425T081542
CREATED:20230214T165836Z
LAST-MODIFIED:20230214T165836Z
UID:29818-1678901400-1678908600@www.mncorn.org
SUMMARY:Mower County Corn & Soybean Growers Association Annual Meeting
DESCRIPTION:Social hour begins at 5:30 p.m. \nSpeaker\, Matt Bennett\, to follow annual meeting \nMatt Bennett is a co-founder of AgMarket.Net. He is also a Windsor\, Illinois\, farmer and former grain elevator owner. He is Channel Seed’s grain marketing consultant and holds a Series 3 brokerage license doing business through AgMarket.Net\, Farm Division of JSA. \nMatt brings the producer perspective to the table\, enriched with his extensive grain marketing background. He specializes in formulating risk-management strategies for corn\, soybean farmers and livestock producers. \nMatt’s analysis and commentary on the grain markets appears on various TV and radio stations across the Midwest\, including “AgDay”\, “U.S. Farm Report” and “Agribusiness Today”. \nA graduate of University of Illinois\, Matt and his wife Tiffany live on the family’s centennial farm north of Windsor\, where they are raising their five children. He owns and operates a 3\,000-acre corn and soybean farm with his father while raising 60 head of registered Angus cows. \nBrought to you by the Mower County Corn and Soybean Growers and their checkoffs.
URL:https://www.mncorn.org/single-event/mower-county-corn-soybean-growers-association-annual-meeting-2/
LOCATION:Adams American Legion\, 321 W Main St\, Adams\, 55909\, United States
CATEGORIES:County Events
END:VEVENT
BEGIN:VEVENT
DTSTART;TZID=America/Chicago:20230320T170000
DTEND;TZID=America/Chicago:20230320T190000
DTSTAMP:20260425T081542
CREATED:20230124T172852Z
LAST-MODIFIED:20230124T172852Z
UID:29804-1679331600-1679338800@www.mncorn.org
SUMMARY:Redwood/Renville County Corn & Soybean Growers Association joint annual meeting
DESCRIPTION:
URL:https://www.mncorn.org/single-event/redwood-renville-county-corn-soybean-growers-association-joint-annual-meeting-2/
LOCATION:Jackpot Junction Casino Hotel\, 39375 County Rd 24\, Morton\, MN\, 56270\, United States
CATEGORIES:County Events
END:VEVENT
BEGIN:VEVENT
DTSTART;TZID=America/Chicago:20230320T170000
DTEND;TZID=America/Chicago:20230320T190000
DTSTAMP:20260425T081542
CREATED:20230124T172852Z
LAST-MODIFIED:20230124T172852Z
UID:23677-1679331600-1679338800@www.mncorn.org
SUMMARY:Redwood/Renville County Corn & Soybean Growers Association joint annual meeting
DESCRIPTION:
URL:https://www.mncorn.org/single-event/redwood-renville-county-corn-soybean-growers-association-joint-annual-meeting/
LOCATION:Jackpot Junction Casino Hotel\, 39375 County Rd 24\, Morton\, MN\, 56270\, United States
CATEGORIES:County Events
END:VEVENT
END:VCALENDAR