BEGIN:VCALENDAR
VERSION:2.0
PRODID:-//Minnesota Corn Growers Association - ECPv6.15.20//NONSGML v1.0//EN
CALSCALE:GREGORIAN
METHOD:PUBLISH
X-WR-CALNAME:Minnesota Corn Growers Association
X-ORIGINAL-URL:https://www.mncorn.org
X-WR-CALDESC:Events for Minnesota Corn Growers Association
REFRESH-INTERVAL;VALUE=DURATION:PT1H
X-Robots-Tag:noindex
X-PUBLISHED-TTL:PT1H
BEGIN:VTIMEZONE
TZID:America/Chicago
BEGIN:DAYLIGHT
TZOFFSETFROM:-0600
TZOFFSETTO:-0500
TZNAME:CDT
DTSTART:20220313T080000
END:DAYLIGHT
BEGIN:STANDARD
TZOFFSETFROM:-0500
TZOFFSETTO:-0600
TZNAME:CST
DTSTART:20221106T070000
END:STANDARD
BEGIN:DAYLIGHT
TZOFFSETFROM:-0600
TZOFFSETTO:-0500
TZNAME:CDT
DTSTART:20230312T080000
END:DAYLIGHT
BEGIN:STANDARD
TZOFFSETFROM:-0500
TZOFFSETTO:-0600
TZNAME:CST
DTSTART:20231105T070000
END:STANDARD
BEGIN:DAYLIGHT
TZOFFSETFROM:-0600
TZOFFSETTO:-0500
TZNAME:CDT
DTSTART:20240310T080000
END:DAYLIGHT
BEGIN:STANDARD
TZOFFSETFROM:-0500
TZOFFSETTO:-0600
TZNAME:CST
DTSTART:20241103T070000
END:STANDARD
END:VTIMEZONE
BEGIN:VEVENT
DTSTART;TZID=America/Chicago:20230323T170000
DTEND;TZID=America/Chicago:20230323T190000
DTSTAMP:20260425T185410
CREATED:20230124T173124Z
LAST-MODIFIED:20230124T173244Z
UID:23680-1679590800-1679598000@www.mncorn.org
SUMMARY:Nicollet/Sibley Corn & Soybean Growers Association Annual Meeting
DESCRIPTION:
URL:https://www.mncorn.org/single-event/nicollet-sibley-corn-soybean-growers-association-annual-meeting/
LOCATION:UFC Berdan Center\, 705 E 4th Street\, Winthrop\, Minnesota\, 55396
CATEGORIES:County Events
END:VEVENT
BEGIN:VEVENT
DTSTART;TZID=America/Chicago:20230323T170000
DTEND;TZID=America/Chicago:20230323T190000
DTSTAMP:20260425T185410
CREATED:20230124T173124Z
LAST-MODIFIED:20230124T173124Z
UID:29805-1679590800-1679598000@www.mncorn.org
SUMMARY:Nicollet/Sibley Corn & Soybean Growers Association Annual Meeting
DESCRIPTION:
URL:https://www.mncorn.org/single-event/nicollet-sibley-corn-soybean-growers-association-annual-meeting-2/
LOCATION:UFC Berdan Center\, 705 E 4th Street\, Winthrop\, Minnesota\, 55396
CATEGORIES:County Events
END:VEVENT
BEGIN:VEVENT
DTSTART;TZID=America/Chicago:20230329T083000
DTEND;TZID=America/Chicago:20230329T110000
DTSTAMP:20260425T185410
CREATED:20230322T163117Z
LAST-MODIFIED:20230322T163117Z
UID:29824-1680078600-1680087600@www.mncorn.org
SUMMARY:Pennington/Red Lake Corn & Soybean Annual Meeting
DESCRIPTION:Breakfast starts at 8:30am
URL:https://www.mncorn.org/single-event/pennington-red-lake-corn-soybean-annual-meeting-2/
LOCATION:Community Center\, St Hilaire
CATEGORIES:County Events
END:VEVENT
BEGIN:VEVENT
DTSTART;TZID=America/Chicago:20230329T083000
DTEND;TZID=America/Chicago:20230329T110000
DTSTAMP:20260425T185410
CREATED:20230322T163117Z
LAST-MODIFIED:20230322T163117Z
UID:24458-1680078600-1680087600@www.mncorn.org
SUMMARY:Pennington/Red Lake Corn & Soybean Annual Meeting
DESCRIPTION:Breakfast starts at 8:30am
URL:https://www.mncorn.org/single-event/pennington-red-lake-corn-soybean-annual-meeting/
LOCATION:Community Center\, St Hilaire
CATEGORIES:County Events
END:VEVENT
BEGIN:VEVENT
DTSTART;TZID=America/Chicago:20230403T170000
DTEND;TZID=America/Chicago:20230403T190000
DTSTAMP:20260425T185410
CREATED:20230124T173407Z
LAST-MODIFIED:20230124T173407Z
UID:23683-1680541200-1680548400@www.mncorn.org
SUMMARY:Nobles County Corn & Soybean Growers Association Annual Meeting
DESCRIPTION:
URL:https://www.mncorn.org/single-event/nobles-county-corn-soybean-growers-association-annual-meeting/
LOCATION:American Reformed Church\, 1720 N. Burlington Ave\, Worthington\, MN\, 56187\, United States
CATEGORIES:County Events
END:VEVENT
BEGIN:VEVENT
DTSTART;TZID=America/Chicago:20230403T170000
DTEND;TZID=America/Chicago:20230403T190000
DTSTAMP:20260425T185410
CREATED:20230124T173407Z
LAST-MODIFIED:20230124T173407Z
UID:29806-1680541200-1680548400@www.mncorn.org
SUMMARY:Nobles County Corn & Soybean Growers Association Annual Meeting
DESCRIPTION:
URL:https://www.mncorn.org/single-event/nobles-county-corn-soybean-growers-association-annual-meeting-2/
LOCATION:American Reformed Church\, 1720 N. Burlington Ave\, Worthington\, MN\, 56187\, United States
CATEGORIES:County Events
END:VEVENT
BEGIN:VEVENT
DTSTART;TZID=America/Chicago:20230407T180000
DTEND;TZID=America/Chicago:20230407T203000
DTSTAMP:20260425T185410
CREATED:20230302T222312Z
LAST-MODIFIED:20230329T191541Z
UID:24328-1680890400-1680899400@www.mncorn.org
SUMMARY:Pope County Corn & Soybean Growers Annual Meeting
DESCRIPTION:6:30 p.m. Social \n7:00 p.m. Meal \nRSVP: Text or call Vern (320.815.8360)
URL:https://www.mncorn.org/single-event/pope-county-corn-soybean-growers-annual-meeting/
LOCATION:Minnewaska House\, 24895 MN-28\, Glenwood\, MN\, 56334\, United States
CATEGORIES:County Events
END:VEVENT
BEGIN:VEVENT
DTSTART;TZID=America/Chicago:20230407T180000
DTEND;TZID=America/Chicago:20230407T203000
DTSTAMP:20260425T185410
CREATED:20230302T222312Z
LAST-MODIFIED:20230302T222312Z
UID:29821-1680890400-1680899400@www.mncorn.org
SUMMARY:Pope County Corn & Soybean Growers Annual Meeting
DESCRIPTION:6:30 p.m. Social \n7:00 p.m. Meal \nRSVP: Text or call Vern (320.815.8360)
URL:https://www.mncorn.org/single-event/pope-county-corn-soybean-growers-annual-meeting-2-2/
LOCATION:Minnewaska House\, 24895 MN-28\, Glenwood\, MN\, 56334\, United States
CATEGORIES:County Events
END:VEVENT
BEGIN:VEVENT
DTSTART;TZID=America/Chicago:20230627T110000
DTEND;TZID=America/Chicago:20230627T130000
DTSTAMP:20260425T185410
CREATED:20230626T182935Z
LAST-MODIFIED:20230626T183718Z
UID:25117-1687863600-1687870800@www.mncorn.org
SUMMARY:Renville County Fuel Promotion
DESCRIPTION:June 27\, 2023 \nCenex – 1208 W Lincoln Ave\, Olivia\, MN \n11am – 1pm \nDiscounts on E20\, E30\, E50\, E85 and B20
URL:https://www.mncorn.org/single-event/renville-county-fuel-promotion/
CATEGORIES:County Events,Fuel Promotion Events
END:VEVENT
BEGIN:VEVENT
DTSTART;TZID=America/Chicago:20230627T110000
DTEND;TZID=America/Chicago:20230627T130000
DTSTAMP:20260425T185410
CREATED:20230626T182935Z
LAST-MODIFIED:20230626T182935Z
UID:29862-1687863600-1687870800@www.mncorn.org
SUMMARY:Renville County Fuel Promotion
DESCRIPTION:June 27\, 2023 \nCenex – 1208 W Lincoln Ave\, Olivia\, MN \n11am – 1pm \nDiscounts on E20\, E30\, E50\, E85 and B20
URL:https://www.mncorn.org/single-event/renville-county-fuel-promotion-2/
CATEGORIES:County Events,Fuel Promotion Events
END:VEVENT
BEGIN:VEVENT
DTSTART;TZID=America/Chicago:20230706T140000
DTEND;TZID=America/Chicago:20230706T170000
DTSTAMP:20260425T185410
CREATED:20230705T192513Z
LAST-MODIFIED:20230705T192513Z
UID:29868-1688652000-1688662800@www.mncorn.org
SUMMARY:Meeker County Fuel Event
DESCRIPTION:July 6\, 2023 \n2:00-5:00pm \nCentral Counties Co-op\, Litchfield \n  \n$0.85 off per gallon of E85 \n**** \n$0.20 off per gallon of E20 \n$0.30 off per gallon of E30 \n$0.50 off per gallon of E50 \n 
URL:https://www.mncorn.org/single-event/meeker-county-fuel-event-2-2/
LOCATION:Central Counties Co-op Cenex: 1025 E Frontage Rd\, Litchfield\, MN 55355\, United States
CATEGORIES:County Events,Fuel Promotion Events
END:VEVENT
BEGIN:VEVENT
DTSTART;TZID=America/Chicago:20230706T140000
DTEND;TZID=America/Chicago:20230706T170000
DTSTAMP:20260425T185410
CREATED:20230705T192513Z
LAST-MODIFIED:20230705T192513Z
UID:25243-1688652000-1688662800@www.mncorn.org
SUMMARY:Meeker County Fuel Event
DESCRIPTION:July 6\, 2023 \n2:00-5:00pm \nCentral Counties Co-op\, Litchfield \n  \n$0.85 off per gallon of E85 \n**** \n$0.20 off per gallon of E20 \n$0.30 off per gallon of E30 \n$0.50 off per gallon of E50 \n 
URL:https://www.mncorn.org/single-event/meeker-county-fuel-event-2/
LOCATION:Central Counties Co-op Cenex: 1025 E Frontage Rd\, Litchfield\, MN 55355\, United States
CATEGORIES:County Events,Fuel Promotion Events
END:VEVENT
BEGIN:VEVENT
DTSTART;TZID=America/Chicago:20230707T110000
DTEND;TZID=America/Chicago:20230707T130000
DTSTAMP:20260425T185410
CREATED:20230629T140947Z
LAST-MODIFIED:20230629T140947Z
UID:25190-1688727600-1688734800@www.mncorn.org
SUMMARY:Martin County fuel event
DESCRIPTION:$0.85 off per gallon of E85\n*********\n$0.40 off per gallon of E40\n$0.20 off per gallon of E20
URL:https://www.mncorn.org/single-event/martin-county-fuel-event/
LOCATION:Trimont Town Center\, Trimont\, MN\, United States
CATEGORIES:County Events,Fuel Promotion Events
END:VEVENT
BEGIN:VEVENT
DTSTART;TZID=America/Chicago:20230707T110000
DTEND;TZID=America/Chicago:20230707T130000
DTSTAMP:20260425T185410
CREATED:20230629T140947Z
LAST-MODIFIED:20230629T140947Z
UID:29863-1688727600-1688734800@www.mncorn.org
SUMMARY:Martin County fuel event
DESCRIPTION:$0.85 off per gallon of E85\n*********\n$0.40 off per gallon of E40\n$0.20 off per gallon of E20
URL:https://www.mncorn.org/single-event/martin-county-fuel-event-2/
LOCATION:Trimont Town Center\, Trimont\, MN\, United States
CATEGORIES:County Events,Fuel Promotion Events
END:VEVENT
BEGIN:VEVENT
DTSTART;TZID=America/Chicago:20230712T093000
DTEND;TZID=America/Chicago:20230712T093000
DTSTAMP:20260425T185410
CREATED:20230705T181116Z
LAST-MODIFIED:20230705T181116Z
UID:25231-1689154200-1689154200@www.mncorn.org
SUMMARY:Nicollet/Sibley County Golf Event
DESCRIPTION:Cobs and Pods Golf Tournament \n  \nWednesday\, July 12\, 2023 \nHeld at the Winthrop Golf Course \nThree rounds with tee times of 9:30a.m.\, noon and 2:30p.m. \nCome for as many rounds as you’d like! \nCost includes cart and meals: \nOne Round – $35\, Two Rounds – $60\, Three Rounds – $75 \n  \nPre-Registration requested by Friday\, July 7 \nWalk-in registration accepted \nScan the QR Code or visit https://z.umn.edu/CobsPodsGolf \n 
URL:https://www.mncorn.org/single-event/nicollet-sibley-county-golf-event/
LOCATION:Winthrop Golf Course – 55155 300th St\, Winthrop\, MN 55396\, United States
CATEGORIES:County Events
END:VEVENT
BEGIN:VEVENT
DTSTART;TZID=America/Chicago:20230712T093000
DTEND;TZID=America/Chicago:20230712T093000
DTSTAMP:20260425T185410
CREATED:20230705T181116Z
LAST-MODIFIED:20230705T181116Z
UID:29865-1689154200-1689154200@www.mncorn.org
SUMMARY:Nicollet/Sibley County Golf Event
DESCRIPTION:Cobs and Pods Golf Tournament \n  \nWednesday\, July 12\, 2023 \nHeld at the Winthrop Golf Course \nThree rounds with tee times of 9:30a.m.\, noon and 2:30p.m. \nCome for as many rounds as you’d like! \nCost includes cart and meals: \nOne Round – $35\, Two Rounds – $60\, Three Rounds – $75 \n  \nPre-Registration requested by Friday\, July 7 \nWalk-in registration accepted \nScan the QR Code or visit https://z.umn.edu/CobsPodsGolf \n 
URL:https://www.mncorn.org/single-event/nicollet-sibley-county-golf-event-2/
LOCATION:Winthrop Golf Course – 55155 300th St\, Winthrop\, MN 55396\, United States
CATEGORIES:County Events
END:VEVENT
BEGIN:VEVENT
DTSTART;TZID=America/Chicago:20230721T193000
DTEND;TZID=America/Chicago:20230721T210000
DTSTAMP:20260425T185410
CREATED:20230721T130348Z
LAST-MODIFIED:20230721T130348Z
UID:29876-1689967800-1689973200@www.mncorn.org
SUMMARY:Renville County Corn & Soybean Growers free night at the Little Crow Ski Show
DESCRIPTION:Renville County Corn & Soybean members get in free to this event! \n  \nThe Little Crow Ski Show takes place in Neer Park – New London\, MN \nThe show starts at 7:30pm \nThere is bleacher seating or bring a chair for hillside seating \nConcession stand treats are available!
URL:https://www.mncorn.org/single-event/renville-county-corn-soybean-growers-free-night-at-the-little-crow-ski-show-2/
LOCATION:Neer Park\, 311 2nd Ave SE\, New London\, MN
CATEGORIES:County Events
END:VEVENT
BEGIN:VEVENT
DTSTART;TZID=America/Chicago:20230721T193000
DTEND;TZID=America/Chicago:20230721T210000
DTSTAMP:20260425T185410
CREATED:20230721T130348Z
LAST-MODIFIED:20230721T130348Z
UID:25444-1689967800-1689973200@www.mncorn.org
SUMMARY:Renville County Corn & Soybean Growers free night at the Little Crow Ski Show
DESCRIPTION:Renville County Corn & Soybean members get in free to this event! \n  \nThe Little Crow Ski Show takes place in Neer Park – New London\, MN \nThe show starts at 7:30pm \nThere is bleacher seating or bring a chair for hillside seating \nConcession stand treats are available!
URL:https://www.mncorn.org/single-event/renville-county-corn-soybean-growers-free-night-at-the-little-crow-ski-show/
LOCATION:Neer Park\, 311 2nd Ave SE\, New London\, MN
CATEGORIES:County Events
END:VEVENT
BEGIN:VEVENT
DTSTART;TZID=America/Chicago:20230725T100000
DTEND;TZID=America/Chicago:20230725T140000
DTSTAMP:20260425T185410
CREATED:20230717T201750Z
LAST-MODIFIED:20230718T153249Z
UID:25344-1690279200-1690293600@www.mncorn.org
SUMMARY:Hoseth Plot Day
DESCRIPTION:Hoseth Plot Day \nTuesday\, July 25\, \n10:00am – 2:00pm \nDeb & Blair Hoseth Farm \n4685 140th Ave \nTwin Valley\, MN
URL:https://www.mncorn.org/single-event/hoseth-plot-day/
LOCATION:4685 140th Ave Twin Valley MN\, 4685 140th Ave\, Twin Valley\, MN
CATEGORIES:County Events
END:VEVENT
BEGIN:VEVENT
DTSTART;TZID=America/Chicago:20230725T100000
DTEND;TZID=America/Chicago:20230725T140000
DTSTAMP:20260425T185410
CREATED:20230717T201750Z
LAST-MODIFIED:20230717T201750Z
UID:29870-1690279200-1690293600@www.mncorn.org
SUMMARY:Hoseth Plot Day
DESCRIPTION:Hoseth Plot Day \nTuesday\, July 25\, \n10:00am – 2:00pm \nDeb & Blair Hoseth Farm \n4685 140th Ave \nTwin Valley\, MN
URL:https://www.mncorn.org/single-event/hoseth-plot-day-2/
LOCATION:4685 140th Ave Twin Valley MN\, 4685 140th Ave\, Twin Valley\, MN
CATEGORIES:County Events
END:VEVENT
BEGIN:VEVENT
DTSTART;TZID=America/Chicago:20230725T153000
DTEND;TZID=America/Chicago:20230725T153000
DTSTAMP:20260425T185410
CREATED:20230705T190322Z
LAST-MODIFIED:20230705T190621Z
UID:25236-1690299000-1690299000@www.mncorn.org
SUMMARY:Martin County Corn & Soybean Growers Golf Outing & Annual Meeting
DESCRIPTION:Join the Martin County Corn & Soybean Growers for their Annual Meeting and Golf Day \non Tuesday July 25\, 2023 \n  \nLocation: Fox Lake Golf Course\, Sherburn \nSchedule: Registration 3:00pm \nTee off 3:30pm \nAnnual Meeting 6:00pm \n  \nHear an update from the county board on what they have been up to over the last year \n  \nContact Lawrence Sukalski at 507-236-4880 or sukallnd@hotmail.com to RSVP for golf and/or supper by July 15 \n  \n*Be sure to renew your corn or soybean membership at the door to ensure a round of golf and a meal if you are not a current member \n  \n**Door Prizes include 2 barstools and other giveaways \n 
URL:https://www.mncorn.org/single-event/martin-county-corn-soybean-growers-golf-outing-annual-meeting/
LOCATION:Fox Lake Golf Course\, Sherburn\, MN\, 15 E Park Dr\, Sherburn\, MN\, 56171\, United States
CATEGORIES:County Events
END:VEVENT
BEGIN:VEVENT
DTSTART;TZID=America/Chicago:20230725T153000
DTEND;TZID=America/Chicago:20230725T153000
DTSTAMP:20260425T185410
CREATED:20230705T190322Z
LAST-MODIFIED:20230705T190322Z
UID:29866-1690299000-1690299000@www.mncorn.org
SUMMARY:Martin County Corn & Soybean Growers Golf Outing & Annual Meeting
DESCRIPTION:Join the Martin County Corn & Soybean Growers for their Annual Meeting and Golf Day \non Tuesday July 25\, 2023 \n  \nLocation: Fox Lake Golf Course\, Sherburn \nSchedule: Registration 3:00pm \nTee off 3:30pm \nAnnual Meeting 6:00pm \n  \nHear an update from the county board on what they have been up to over the last year \n  \nContact Lawrence Sukalski at 507-236-4880 or sukallnd@hotmail.com to RSVP for golf and/or supper by July 15 \n  \n*Be sure to renew your corn or soybean membership at the door to ensure a round of golf and a meal if you are not a current member \n  \n**Door Prizes include 2 barstools and other giveaways \n 
URL:https://www.mncorn.org/single-event/martin-county-corn-soybean-growers-golf-outing-annual-meeting-2/
LOCATION:Fox Lake Golf Course\, Sherburn\, MN\, 15 E Park Dr\, Sherburn\, MN\, 56171\, United States
CATEGORIES:County Events
END:VEVENT
BEGIN:VEVENT
DTSTART;TZID=America/Chicago:20230727T140000
DTEND;TZID=America/Chicago:20230727T140000
DTSTAMP:20260425T185410
CREATED:20230629T141425Z
LAST-MODIFIED:20230629T142232Z
UID:25194-1690466400-1690466400@www.mncorn.org
SUMMARY:Pipestone County golf event
DESCRIPTION:2p.m. tee off \n5-7p.m. steak supper\nText or call Matt Haraldson at 507-820-0284 to RSVP for golf\, supper or both by July 25th
URL:https://www.mncorn.org/single-event/pipestone-county-golf-event/
LOCATION:Pipestone Country Club\, 1003 8th Ave SE\, Pipestone\, MN\, 56164
CATEGORIES:County Events
END:VEVENT
BEGIN:VEVENT
DTSTART;TZID=America/Chicago:20230727T140000
DTEND;TZID=America/Chicago:20230727T140000
DTSTAMP:20260425T185410
CREATED:20230629T141425Z
LAST-MODIFIED:20230629T141425Z
UID:29864-1690466400-1690466400@www.mncorn.org
SUMMARY:Pipestone County golf event
DESCRIPTION:2p.m. tee off \n5-7p.m. steak supper\nText or call Matt Haraldson at 507-820-0284 to RSVP for golf\, supper or both by July 25th
URL:https://www.mncorn.org/single-event/pipestone-county-golf-event-2/
LOCATION:Pipestone Country Club\, 1003 8th Ave SE\, Pipestone\, MN\, 56164
CATEGORIES:County Events
END:VEVENT
BEGIN:VEVENT
DTSTART;TZID=America/Chicago:20230803T080000
DTEND;TZID=America/Chicago:20230803T080000
DTSTAMP:20260425T185410
CREATED:20230707T162600Z
LAST-MODIFIED:20230707T162600Z
UID:29869-1691049600-1691049600@www.mncorn.org
SUMMARY:Kandiyohi Corn & Soybean Growers Annual Meeting
DESCRIPTION:Thursday\, August 3rd\, 2023\nMcMillan’s Family Restaurant\n2620 1st St S\, Wilmar\, MN 56201 \n8 a.m. –  Breakfast & Annual Meeting \nJoin us for networking and checkoff updates from\nyour commodity organizations.
URL:https://www.mncorn.org/single-event/kandiyohi-county-annual-meeting-2-2/
LOCATION:McMillan’s Family Restaurant\, 2620 1st St S\, Willmar\, MN\, 56201
CATEGORIES:County Events
END:VEVENT
BEGIN:VEVENT
DTSTART;TZID=America/Chicago:20230803T080000
DTEND;TZID=America/Chicago:20230803T080000
DTSTAMP:20260425T185410
CREATED:20230707T162600Z
LAST-MODIFIED:20230707T162657Z
UID:25257-1691049600-1691049600@www.mncorn.org
SUMMARY:Kandiyohi Corn & Soybean Growers Annual Meeting
DESCRIPTION:Thursday\, August 3rd\, 2023\nMcMillan’s Family Restaurant\n2620 1st St S\, Wilmar\, MN 56201 \n8 a.m. –  Breakfast & Annual Meeting \nJoin us for networking and checkoff updates from\nyour commodity organizations.
URL:https://www.mncorn.org/single-event/kandiyohi-county-annual-meeting-2/
LOCATION:McMillan’s Family Restaurant\, 2620 1st St S\, Willmar\, MN\, 56201
CATEGORIES:County Events
END:VEVENT
BEGIN:VEVENT
DTSTART;TZID=America/Chicago:20230804T170000
DTEND;TZID=America/Chicago:20230804T190000
DTSTAMP:20260425T185410
CREATED:20230717T202635Z
LAST-MODIFIED:20230717T202844Z
UID:25349-1691168400-1691175600@www.mncorn.org
SUMMARY:Pope County Corn-Soybean Growers Political Meet n Greet/ Free Dinner
DESCRIPTION:Pope County Corn-Soybean Growers Political Meet n Greet/ Free Dinner \nFriday\, August 4\, 5:00pm – 7:00pm \nPope County Fairgrounds\, Glenwood\, MN \nwww.popecountyfair.org
URL:https://www.mncorn.org/single-event/pope-county-corn-soybean-growers-political-meet-n-greet-free-dinner/
LOCATION:230 Minnesota Ave W\, Glenwood\, MN\, United States\, Minnesota\, 230 Minnesota Ave W\, Glenwood\, MN
CATEGORIES:County Events
END:VEVENT
BEGIN:VEVENT
DTSTART;TZID=America/Chicago:20230804T170000
DTEND;TZID=America/Chicago:20230804T190000
DTSTAMP:20260425T185410
CREATED:20230717T202635Z
LAST-MODIFIED:20230717T202635Z
UID:29871-1691168400-1691175600@www.mncorn.org
SUMMARY:Pope County Corn-Soybean Growers Political Meet n Greet/ Free Dinner
DESCRIPTION:Pope County Corn-Soybean Growers Political Meet n Greet/ Free Dinner \nFriday\, August 4\, 5:00pm – 7:00pm \nPope County Fairgrounds\, Glenwood\, MN \nwww.popecountyfair.org
URL:https://www.mncorn.org/single-event/pope-county-corn-soybean-growers-political-meet-n-greet-free-dinner-2/
LOCATION:230 Minnesota Ave W\, Glenwood\, MN\, United States\, Minnesota\, 230 Minnesota Ave W\, Glenwood\, MN
CATEGORIES:County Events
END:VEVENT
BEGIN:VEVENT
DTSTART;TZID=America/Chicago:20230817T173000
DTEND;TZID=America/Chicago:20230817T190000
DTSTAMP:20260425T185410
CREATED:20230501T181311Z
LAST-MODIFIED:20230501T181311Z
UID:29843-1692293400-1692298800@www.mncorn.org
SUMMARY:Traverse Corn & Soybean Growers Annual Meeting
DESCRIPTION:Free Dinner \nThursday\, August 17\, 5:30pm – 7:00pm \nWheaton Golf Course\, Wheaton MN
URL:https://www.mncorn.org/single-event/traverse-corn-soybean-growers-annual-meeting-2/
LOCATION:Wheaton Country Club\, 6401 State Hwy 27\, Wheaton\, MN\, 56296\, United States
CATEGORIES:County Events
END:VEVENT
BEGIN:VEVENT
DTSTART;TZID=America/Chicago:20230817T173000
DTEND;TZID=America/Chicago:20230817T190000
DTSTAMP:20260425T185410
CREATED:20230501T181311Z
LAST-MODIFIED:20230718T153551Z
UID:24776-1692293400-1692298800@www.mncorn.org
SUMMARY:Traverse Corn & Soybean Growers Annual Meeting
DESCRIPTION:Free Dinner \nThursday\, August 17\, 5:30pm – 7:00pm \nWheaton Golf Course\, Wheaton MN
URL:https://www.mncorn.org/single-event/traverse-corn-soybean-growers-annual-meeting/
LOCATION:Wheaton Country Club\, 6401 State Hwy 27\, Wheaton\, MN\, 56296\, United States
CATEGORIES:County Events
END:VEVENT
END:VCALENDAR