BEGIN:VCALENDAR
VERSION:2.0
PRODID:-//Minnesota Corn Growers Association - ECPv6.15.20//NONSGML v1.0//EN
CALSCALE:GREGORIAN
METHOD:PUBLISH
X-WR-CALNAME:Minnesota Corn Growers Association
X-ORIGINAL-URL:https://www.mncorn.org
X-WR-CALDESC:Events for Minnesota Corn Growers Association
REFRESH-INTERVAL;VALUE=DURATION:PT1H
X-Robots-Tag:noindex
X-PUBLISHED-TTL:PT1H
BEGIN:VTIMEZONE
TZID:America/Chicago
BEGIN:DAYLIGHT
TZOFFSETFROM:-0600
TZOFFSETTO:-0500
TZNAME:CDT
DTSTART:20230312T080000
END:DAYLIGHT
BEGIN:STANDARD
TZOFFSETFROM:-0500
TZOFFSETTO:-0600
TZNAME:CST
DTSTART:20231105T070000
END:STANDARD
BEGIN:DAYLIGHT
TZOFFSETFROM:-0600
TZOFFSETTO:-0500
TZNAME:CDT
DTSTART:20240310T080000
END:DAYLIGHT
BEGIN:STANDARD
TZOFFSETFROM:-0500
TZOFFSETTO:-0600
TZNAME:CST
DTSTART:20241103T070000
END:STANDARD
BEGIN:DAYLIGHT
TZOFFSETFROM:-0600
TZOFFSETTO:-0500
TZNAME:CDT
DTSTART:20250309T080000
END:DAYLIGHT
BEGIN:STANDARD
TZOFFSETFROM:-0500
TZOFFSETTO:-0600
TZNAME:CST
DTSTART:20251102T070000
END:STANDARD
END:VTIMEZONE
BEGIN:VEVENT
DTSTART;TZID=America/Chicago:20241114T130000
DTEND;TZID=America/Chicago:20241114T170000
DTSTAMP:20260425T052140
CREATED:20241024T202544Z
LAST-MODIFIED:20241024T202544Z
UID:31632-1731589200-1731603600@www.mncorn.org
SUMMARY:Ag-Focused safeTALK Training - Park Rapids
DESCRIPTION:Agriculture-focused safeTALK is a 4-hour training in suicide alertness skills. This training will focus on farm/ranch stress and being suicide alert. Learn four basic steps to create a life-saving connection. Widely used by professionals and the general public. \nIf you know\, work with\, or are an ag producer…this training is for you! \nSponsored by Northwest Minnesota Foundation \nRegister here.
URL:https://www.mncorn.org/single-event/ag-focused-safetalk-training-park-rapids/
LOCATION:Northwoods Bank of MN\, 1200 1st Street East\, Park Rapids\, MN\, 56470
CATEGORIES:General Ag Events
END:VEVENT
END:VCALENDAR