BEGIN:VCALENDAR
VERSION:2.0
PRODID:-//Minnesota Corn Growers Association - ECPv6.15.20//NONSGML v1.0//EN
CALSCALE:GREGORIAN
METHOD:PUBLISH
X-ORIGINAL-URL:https://www.mncorn.org
X-WR-CALDESC:Events for Minnesota Corn Growers Association
REFRESH-INTERVAL;VALUE=DURATION:PT1H
X-Robots-Tag:noindex
X-PUBLISHED-TTL:PT1H
BEGIN:VTIMEZONE
TZID:America/Chicago
BEGIN:DAYLIGHT
TZOFFSETFROM:-0600
TZOFFSETTO:-0500
TZNAME:CDT
DTSTART:20240310T080000
END:DAYLIGHT
BEGIN:STANDARD
TZOFFSETFROM:-0500
TZOFFSETTO:-0600
TZNAME:CST
DTSTART:20241103T070000
END:STANDARD
BEGIN:DAYLIGHT
TZOFFSETFROM:-0600
TZOFFSETTO:-0500
TZNAME:CDT
DTSTART:20250309T080000
END:DAYLIGHT
BEGIN:STANDARD
TZOFFSETFROM:-0500
TZOFFSETTO:-0600
TZNAME:CST
DTSTART:20251102T070000
END:STANDARD
BEGIN:DAYLIGHT
TZOFFSETFROM:-0600
TZOFFSETTO:-0500
TZNAME:CDT
DTSTART:20260308T080000
END:DAYLIGHT
BEGIN:STANDARD
TZOFFSETFROM:-0500
TZOFFSETTO:-0600
TZNAME:CST
DTSTART:20261101T070000
END:STANDARD
END:VTIMEZONE
BEGIN:VEVENT
DTSTART;TZID=America/Chicago:20250326T080000
DTEND;TZID=America/Chicago:20250326T120000
DTSTAMP:20260424T222915
CREATED:20241024T203109Z
LAST-MODIFIED:20241024T203109Z
UID:31642-1742976000-1742990400@www.mncorn.org
SUMMARY:Native American-Focused safeTALK Training
DESCRIPTION:Indigenous/Native American-focused safeTALK is a 4-hour training in suicide alertness skills. This training will focus on being suicide alert. Learn four basic steps to create a life-saving connection. Widely used by professionals and the general public. \nSponsored by Northwest Minnesota Foundation \nRegister here.
URL:https://www.mncorn.org/single-event/native-american-focused-safetalk-training/
LOCATION:Red Apple Cafe\, 116 North Main Street\, Mahnomen\, MN\, 56557
CATEGORIES:General Ag Events
END:VEVENT
END:VCALENDAR