BEGIN:VCALENDAR
VERSION:2.0
PRODID:-//Minnesota Corn Growers Association - ECPv6.15.20//NONSGML v1.0//EN
CALSCALE:GREGORIAN
METHOD:PUBLISH
X-ORIGINAL-URL:https://www.mncorn.org
X-WR-CALDESC:Events for Minnesota Corn Growers Association
REFRESH-INTERVAL;VALUE=DURATION:PT1H
X-Robots-Tag:noindex
X-PUBLISHED-TTL:PT1H
BEGIN:VTIMEZONE
TZID:America/Chicago
BEGIN:DAYLIGHT
TZOFFSETFROM:-0600
TZOFFSETTO:-0500
TZNAME:CDT
DTSTART:20240310T080000
END:DAYLIGHT
BEGIN:STANDARD
TZOFFSETFROM:-0500
TZOFFSETTO:-0600
TZNAME:CST
DTSTART:20241103T070000
END:STANDARD
BEGIN:DAYLIGHT
TZOFFSETFROM:-0600
TZOFFSETTO:-0500
TZNAME:CDT
DTSTART:20250309T080000
END:DAYLIGHT
BEGIN:STANDARD
TZOFFSETFROM:-0500
TZOFFSETTO:-0600
TZNAME:CST
DTSTART:20251102T070000
END:STANDARD
BEGIN:DAYLIGHT
TZOFFSETFROM:-0600
TZOFFSETTO:-0500
TZNAME:CDT
DTSTART:20260308T080000
END:DAYLIGHT
BEGIN:STANDARD
TZOFFSETFROM:-0500
TZOFFSETTO:-0600
TZNAME:CST
DTSTART:20261101T070000
END:STANDARD
END:VTIMEZONE
BEGIN:VEVENT
DTSTART;TZID=America/Chicago:20251125T120000
DTEND;TZID=America/Chicago:20251125T133000
DTSTAMP:20260425T110745
CREATED:20251117T215436Z
LAST-MODIFIED:20251117T215436Z
UID:34660-1764072000-1764077400@www.mncorn.org
SUMMARY:Webinar: Preparing Agricultural Employers for Minnesota Paid Leave
DESCRIPTION:Register here. \nStarting Jan. 1\, 2026\, Minnesota Paid Leave will provide payments and job protections to Minnesotans when they need time off for some of life’s most important moments – like welcoming a child\, recovering from a serious illness\, or caring for a loved one. \nAs an employer\, you play an important role in helping your employees learn about and access Minnesota Paid Leave. To help you prepare for the new program\, Paid Leave is partnering with the Minnesota Farm Bureau Federation (MFBF) and the Farmers Union (MFU) to host a virtual information session for farmers and agricultural employers. We will provide an overview of the program\, answer your questions\, and help you get ready to meet your responsibilities under Paid Leave. \nTuesday\, November 25\n12 – 1:30 p.m. (Central)\n \nRegister here for the event. Once you register\, you will receive an email with a link to join the webinar. \nMore information about the Paid Leave program is available on our website: paidleave.mn.gov
URL:https://www.mncorn.org/single-event/webinar-preparing-agricultural-employers-for-minnesota-paid-leave/
LOCATION:North Dakota
CATEGORIES:General Ag Events
END:VEVENT
END:VCALENDAR