BEGIN:VCALENDAR
VERSION:2.0
PRODID:-//Minnesota Corn Growers Association - ECPv6.15.20//NONSGML v1.0//EN
CALSCALE:GREGORIAN
METHOD:PUBLISH
X-ORIGINAL-URL:https://www.mncorn.org
X-WR-CALDESC:Events for Minnesota Corn Growers Association
REFRESH-INTERVAL;VALUE=DURATION:PT1H
X-Robots-Tag:noindex
X-PUBLISHED-TTL:PT1H
BEGIN:VTIMEZONE
TZID:America/Chicago
BEGIN:DAYLIGHT
TZOFFSETFROM:-0600
TZOFFSETTO:-0500
TZNAME:CDT
DTSTART:20190310T080000
END:DAYLIGHT
BEGIN:STANDARD
TZOFFSETFROM:-0500
TZOFFSETTO:-0600
TZNAME:CST
DTSTART:20191103T070000
END:STANDARD
BEGIN:DAYLIGHT
TZOFFSETFROM:-0600
TZOFFSETTO:-0500
TZNAME:CDT
DTSTART:20200308T080000
END:DAYLIGHT
BEGIN:STANDARD
TZOFFSETFROM:-0500
TZOFFSETTO:-0600
TZNAME:CST
DTSTART:20201101T070000
END:STANDARD
BEGIN:DAYLIGHT
TZOFFSETFROM:-0600
TZOFFSETTO:-0500
TZNAME:CDT
DTSTART:20210314T080000
END:DAYLIGHT
BEGIN:STANDARD
TZOFFSETFROM:-0500
TZOFFSETTO:-0600
TZNAME:CST
DTSTART:20211107T070000
END:STANDARD
BEGIN:DAYLIGHT
TZOFFSETFROM:-0600
TZOFFSETTO:-0500
TZNAME:CDT
DTSTART:20220313T080000
END:DAYLIGHT
BEGIN:STANDARD
TZOFFSETFROM:-0500
TZOFFSETTO:-0600
TZNAME:CST
DTSTART:20221106T070000
END:STANDARD
BEGIN:DAYLIGHT
TZOFFSETFROM:-0600
TZOFFSETTO:-0500
TZNAME:CDT
DTSTART:20230312T080000
END:DAYLIGHT
BEGIN:STANDARD
TZOFFSETFROM:-0500
TZOFFSETTO:-0600
TZNAME:CST
DTSTART:20231105T070000
END:STANDARD
END:VTIMEZONE
BEGIN:VEVENT
DTSTART;VALUE=DATE:20220119
DTEND;VALUE=DATE:20220121
DTSTAMP:20260424T152233
CREATED:20210930T144429Z
LAST-MODIFIED:20210930T144429Z
UID:29705-1642550400-1642723199@www.mncorn.org
SUMMARY:2022 MN Ag Expo
DESCRIPTION:https://mnagexpo.com/ \nWEDNESDAY\, JANUARY 19TH\n\n7:30 a.m. – 5:30 pm. Registration Open  \n8:00 a.m. MSGA Delegate Session & Annual Meeting \n10:00 a.m. Trade Show Opens  \n10:00 a.m. Learning Session \n11:00 a.m. Learning Session \nNoon Boxed Lunch in Trade Show \n2:00 p.m. Keynote  Speaker Amanda Radke \n4:00 p.m. Trade Show Closes \n4:00 p.m. MCGA Reception & Silent Auction \n5:30 p.m. Dinner featuring comedian Todd Andrews \n7:00 p.m. MSGA Carnival at the Loose Moose* \nSchedule is draft and subject to change \n*$25 ticket needed for the fundraiser event  \n\n\n\n\n\n\n\n\n\n\n\n\n\n\n\n\n\nTHURSDAY\, JANUARY 20TH\n\n7:30 a.m.- 2:30 p.m.         Registration Open  \n7:30 a.m. MN Corn PAC Breakfast* \n8:00 a.m. Morning Markets \n8:00 a.m. Trade Show Opens  \n9:00 a.m. MCGA Delegate Session & Annual Meeting \n10:00 a.m. Learning Session \n11:00 a.m. Learning Session \n12:00 p.m. Food For Thought – Lunch featuring speaker Jack Zimmerman \n3:00 p.m. Trade Show Closes \nSchedule is draft and subject to change \n*Must be a MN Corn member. Additional cost to attend –  contact Amanda Bilek at abilek@mncorn.org.
URL:https://www.mncorn.org/single-event/2022-mn-ag-expo-2/
LOCATION:Mayo Civic Event Center\, 1 Civic Center Plaza\, Mankato\, Minnesota\, 56001
CATEGORIES:General Ag Events,MCGA Events
END:VEVENT
BEGIN:VEVENT
DTSTART;VALUE=DATE:20211214
DTEND;VALUE=DATE:20211216
DTSTAMP:20260424T152233
CREATED:20210930T141810Z
LAST-MODIFIED:20210930T141810Z
UID:17756-1639440000-1639612799@www.mncorn.org
SUMMARY:2021 Soil Management Summit
DESCRIPTION:The Soil Management Summit emphasizes proven farmer experience and applied science. Straight from the fields\, learn how heavier\, colder soils aren’t necessarily the challenge they’re made out to be. Hear from long-time no-till\, reduced tillage\, and cover crop farmers as they share their experiences\, so you can be spared the same hard-learned lessons. \nThe Summit features presentations and Q&A with researchers\, farmers and agricultural advisors\,  information from sponsors\, and conversations with farmers experienced in different soil health practices. \nAttendees who attend the entire conference will be offered 9.5 CCA continuing education units (CEUs). \n\nCost\nEarly bird registration for this event is $155 and includes all sessions for the two days.  After November 30\, the cost will be $185. \nScholarships are available to help with the registration cost. For more information\, contact Shane at sbugeja@umn.edu. \nRegistration\nWhen you register for the Soil Management Summit\, you’ll be prompted to create a UMN account. This will be your login for all UMN related events and SMS recordings and materials.  Your password needs to be 16 characters long. For ease\, you can use a sentence as spaces are allowed. \nRegister here.
URL:https://www.mncorn.org/single-event/2021-soil-management-summit/
LOCATION:Mayo Civic Event Center\, 1 Civic Center Plaza\, Mankato\, Minnesota\, 56001
CATEGORIES:Educational/Learning Opportunities,General Ag Events
END:VEVENT
BEGIN:VEVENT
DTSTART;VALUE=DATE:20211214
DTEND;VALUE=DATE:20211216
DTSTAMP:20260424T152233
CREATED:20210930T141810Z
LAST-MODIFIED:20210930T141810Z
UID:29698-1639440000-1639612799@www.mncorn.org
SUMMARY:2021 Soil Management Summit
DESCRIPTION:The Soil Management Summit emphasizes proven farmer experience and applied science. Straight from the fields\, learn how heavier\, colder soils aren’t necessarily the challenge they’re made out to be. Hear from long-time no-till\, reduced tillage\, and cover crop farmers as they share their experiences\, so you can be spared the same hard-learned lessons. \nThe Summit features presentations and Q&A with researchers\, farmers and agricultural advisors\,  information from sponsors\, and conversations with farmers experienced in different soil health practices. \nAttendees who attend the entire conference will be offered 9.5 CCA continuing education units (CEUs). \n\nCost\nEarly bird registration for this event is $155 and includes all sessions for the two days.  After November 30\, the cost will be $185. \nScholarships are available to help with the registration cost. For more information\, contact Shane at sbugeja@umn.edu. \nRegistration\nWhen you register for the Soil Management Summit\, you’ll be prompted to create a UMN account. This will be your login for all UMN related events and SMS recordings and materials.  Your password needs to be 16 characters long. For ease\, you can use a sentence as spaces are allowed. \nRegister here.
URL:https://www.mncorn.org/single-event/2021-soil-management-summit-2/
LOCATION:Mayo Civic Event Center\, 1 Civic Center Plaza\, Mankato\, Minnesota\, 56001
CATEGORIES:Educational/Learning Opportunities,General Ag Events
END:VEVENT
BEGIN:VEVENT
DTSTART;VALUE=DATE:20211210
DTEND;VALUE=DATE:20211212
DTSTAMP:20260424T152233
CREATED:20210930T142831Z
LAST-MODIFIED:20210930T142901Z
UID:17769-1639094400-1639267199@www.mncorn.org
SUMMARY:Minnesota Lamb and Wool Producers Association Annual Convention
DESCRIPTION:Visit the Minnesota Lamp and Wool Producers Association’s website to learn more.
URL:https://www.mncorn.org/single-event/minnesota-lamp-and-wool-producers-association-annual-convention/
LOCATION:Minnesota
CATEGORIES:General Ag Events
END:VEVENT
BEGIN:VEVENT
DTSTART;VALUE=DATE:20211210
DTEND;VALUE=DATE:20211212
DTSTAMP:20260424T152233
CREATED:20210930T142831Z
LAST-MODIFIED:20210930T142831Z
UID:29701-1639094400-1639267199@www.mncorn.org
SUMMARY:Minnesota Lamb and Wool Producers Association Annual Convention
DESCRIPTION:Visit the Minnesota Lamp and Wool Producers Association’s website to learn more.
URL:https://www.mncorn.org/single-event/minnesota-lamp-and-wool-producers-association-annual-convention-2/
LOCATION:Minnesota
CATEGORIES:General Ag Events
END:VEVENT
BEGIN:VEVENT
DTSTART;VALUE=DATE:20211208
DTEND;VALUE=DATE:20211210
DTSTAMP:20260424T152233
CREATED:20210930T142635Z
LAST-MODIFIED:20210930T142635Z
UID:17767-1638921600-1639094399@www.mncorn.org
SUMMARY:2021 Prairie Grains Conference
DESCRIPTION:Visit the Minnesota Association of Wheat Growers’ website to learn more.
URL:https://www.mncorn.org/single-event/2021-prairie-grains-conference/
LOCATION:Minnesota
CATEGORIES:Educational/Learning Opportunities,General Ag Events
END:VEVENT
BEGIN:VEVENT
DTSTART;VALUE=DATE:20211208
DTEND;VALUE=DATE:20211210
DTSTAMP:20260424T152233
CREATED:20210930T142635Z
LAST-MODIFIED:20210930T142635Z
UID:29700-1638921600-1639094399@www.mncorn.org
SUMMARY:2021 Prairie Grains Conference
DESCRIPTION:Visit the Minnesota Association of Wheat Growers’ website to learn more.
URL:https://www.mncorn.org/single-event/2021-prairie-grains-conference-2/
LOCATION:Minnesota
CATEGORIES:Educational/Learning Opportunities,General Ag Events
END:VEVENT
BEGIN:VEVENT
DTSTART;VALUE=DATE:20211202
DTEND;VALUE=DATE:20211205
DTSTAMP:20260424T152233
CREATED:20210930T142308Z
LAST-MODIFIED:20210930T142308Z
UID:17762-1638403200-1638662399@www.mncorn.org
SUMMARY:2021 Minnesota Cattle Industry Convention
DESCRIPTION:Visit the Minnesota State Cattlemen’s Association’s website to learn more.
URL:https://www.mncorn.org/single-event/2021-minnesota-cattle-industry-convention/
LOCATION:Grand Casino\, 777 Lady Luck Dr\, Hinckley\, Minnesota\, 55037
CATEGORIES:General Ag Events
END:VEVENT
BEGIN:VEVENT
DTSTART;VALUE=DATE:20211202
DTEND;VALUE=DATE:20211205
DTSTAMP:20260424T152233
CREATED:20210930T142308Z
LAST-MODIFIED:20210930T142308Z
UID:29699-1638403200-1638662399@www.mncorn.org
SUMMARY:2021 Minnesota Cattle Industry Convention
DESCRIPTION:Visit the Minnesota State Cattlemen’s Association’s website to learn more.
URL:https://www.mncorn.org/single-event/2021-minnesota-cattle-industry-convention-2/
LOCATION:Grand Casino\, 777 Lady Luck Dr\, Hinckley\, Minnesota\, 55037
CATEGORIES:General Ag Events
END:VEVENT
BEGIN:VEVENT
DTSTART;VALUE=DATE:20211119
DTEND;VALUE=DATE:20211122
DTSTAMP:20260424T152233
CREATED:20210928T180239Z
LAST-MODIFIED:20210928T180239Z
UID:17743-1637280000-1637539199@www.mncorn.org
SUMMARY:Minnesota Farmers Union Annual Convention
DESCRIPTION:For more information visit\, the Minnesota Farmers Union website.
URL:https://www.mncorn.org/single-event/minnesota-farmers-union-annual-convention/
LOCATION:Minnesota
CATEGORIES:General Ag Events
END:VEVENT
BEGIN:VEVENT
DTSTART;VALUE=DATE:20211119
DTEND;VALUE=DATE:20211122
DTSTAMP:20260424T152233
CREATED:20210928T180239Z
LAST-MODIFIED:20210928T180239Z
UID:29696-1637280000-1637539199@www.mncorn.org
SUMMARY:Minnesota Farmers Union Annual Convention
DESCRIPTION:For more information visit\, the Minnesota Farmers Union website.
URL:https://www.mncorn.org/single-event/minnesota-farmers-union-annual-convention-3-2/
LOCATION:Minnesota
CATEGORIES:General Ag Events
END:VEVENT
BEGIN:VEVENT
DTSTART;VALUE=DATE:20211118
DTEND;VALUE=DATE:20211121
DTSTAMP:20260424T152233
CREATED:20210928T175859Z
LAST-MODIFIED:20210928T175859Z
UID:29694-1637193600-1637452799@www.mncorn.org
SUMMARY:Minnesota Farm Bureau Annual Meeting
DESCRIPTION:Join Minnesota Farm Bureau for its 103rd Annual Meeting Nov. 18-20 at the DoubleTree in Bloomington. Registration is now open.
URL:https://www.mncorn.org/single-event/minnesota-farm-bureau-annual-meeting-2/
LOCATION:DoubleTree by Hilton – Bloomington\, 7800 Normandale Boulevard\, Bloomington\, MN\, 55439\, United States
CATEGORIES:General Ag Events
ORGANIZER;CN="Minnesota Farm Bureau":MAILTO:info@fbmn.org
END:VEVENT
BEGIN:VEVENT
DTSTART;VALUE=DATE:20211118
DTEND;VALUE=DATE:20211121
DTSTAMP:20260424T152233
CREATED:20210928T175859Z
LAST-MODIFIED:20210928T175859Z
UID:17733-1637193600-1637452799@www.mncorn.org
SUMMARY:Minnesota Farm Bureau Annual Meeting
DESCRIPTION:Join Minnesota Farm Bureau for its 103rd Annual Meeting Nov. 18-20 at the DoubleTree in Bloomington. Registration is now open.
URL:https://www.mncorn.org/single-event/minnesota-farm-bureau-annual-meeting/
LOCATION:DoubleTree by Hilton – Bloomington\, 7800 Normandale Boulevard\, Bloomington\, MN\, 55439\, United States
CATEGORIES:General Ag Events
ORGANIZER;CN="Minnesota Farm Bureau":MAILTO:info@fbmn.org
END:VEVENT
BEGIN:VEVENT
DTSTART;VALUE=DATE:20201203
DTEND;VALUE=DATE:20201206
DTSTAMP:20260424T152233
CREATED:20200924T203614Z
LAST-MODIFIED:20200924T203614Z
UID:29619-1606953600-1607212799@www.mncorn.org
SUMMARY:MN State Cattlemen’s Convention
DESCRIPTION:The Minnesota Cattle Industry convention is an event that brings together cattlemen and beef industry partners for educational opportunities\, cattle focused policy discussion and development\, and a cattle focused trade show. \nThe 2020 annual meeting will be held online. View the agenda here.
URL:https://www.mncorn.org/single-event/mn-state-cattlemens-convention-2/
LOCATION:Online/Virtual
CATEGORIES:General Ag Events
END:VEVENT
BEGIN:VEVENT
DTSTART;VALUE=DATE:20201203
DTEND;VALUE=DATE:20201206
DTSTAMP:20260424T152233
CREATED:20200924T203614Z
LAST-MODIFIED:20201113T182417Z
UID:14585-1606953600-1607212799@www.mncorn.org
SUMMARY:MN State Cattlemen’s Convention
DESCRIPTION:The Minnesota Cattle Industry convention is an event that brings together cattlemen and beef industry partners for educational opportunities\, cattle focused policy discussion and development\, and a cattle focused trade show. \nThe 2020 annual meeting will be held online. View the agenda here.
URL:https://www.mncorn.org/single-event/mn-state-cattlemens-convention/
LOCATION:Online/Virtual
CATEGORIES:General Ag Events
END:VEVENT
BEGIN:VEVENT
DTSTART;VALUE=DATE:20201006
DTEND;VALUE=DATE:20201008
DTSTAMP:20260424T152233
CREATED:20200924T200649Z
LAST-MODIFIED:20200928T154836Z
UID:14574-1601942400-1602115199@www.mncorn.org
SUMMARY:RFA Annual Meeting
DESCRIPTION:Virtual RFA Annual Membership Meeting \nContact Mary Giglio for more information
URL:https://www.mncorn.org/single-event/rfa-annual-meeting/
LOCATION:Online/Virtual
CATEGORIES:General Ag Events
END:VEVENT
BEGIN:VEVENT
DTSTART;VALUE=DATE:20201006
DTEND;VALUE=DATE:20201008
DTSTAMP:20260424T152233
CREATED:20200924T200649Z
LAST-MODIFIED:20200924T200649Z
UID:29614-1601942400-1602115199@www.mncorn.org
SUMMARY:RFA Annual Meeting
DESCRIPTION:Virtual RFA Annual Membership Meeting \nContact Mary Giglio for more information
URL:https://www.mncorn.org/single-event/rfa-annual-meeting-2/
LOCATION:Online/Virtual
CATEGORIES:General Ag Events
END:VEVENT
END:VCALENDAR