BEGIN:VCALENDAR
VERSION:2.0
PRODID:-//Minnesota Corn Growers Association - ECPv6.15.20//NONSGML v1.0//EN
CALSCALE:GREGORIAN
METHOD:PUBLISH
X-ORIGINAL-URL:https://www.mncorn.org
X-WR-CALDESC:Events for Minnesota Corn Growers Association
REFRESH-INTERVAL;VALUE=DURATION:PT1H
X-Robots-Tag:noindex
X-PUBLISHED-TTL:PT1H
BEGIN:VTIMEZONE
TZID:America/Chicago
BEGIN:DAYLIGHT
TZOFFSETFROM:-0600
TZOFFSETTO:-0500
TZNAME:CDT
DTSTART:20200308T080000
END:DAYLIGHT
BEGIN:STANDARD
TZOFFSETFROM:-0500
TZOFFSETTO:-0600
TZNAME:CST
DTSTART:20201101T070000
END:STANDARD
BEGIN:DAYLIGHT
TZOFFSETFROM:-0600
TZOFFSETTO:-0500
TZNAME:CDT
DTSTART:20210314T080000
END:DAYLIGHT
BEGIN:STANDARD
TZOFFSETFROM:-0500
TZOFFSETTO:-0600
TZNAME:CST
DTSTART:20211107T070000
END:STANDARD
BEGIN:DAYLIGHT
TZOFFSETFROM:-0600
TZOFFSETTO:-0500
TZNAME:CDT
DTSTART:20220313T080000
END:DAYLIGHT
BEGIN:STANDARD
TZOFFSETFROM:-0500
TZOFFSETTO:-0600
TZNAME:CST
DTSTART:20221106T070000
END:STANDARD
BEGIN:DAYLIGHT
TZOFFSETFROM:-0600
TZOFFSETTO:-0500
TZNAME:CDT
DTSTART:20230312T080000
END:DAYLIGHT
BEGIN:STANDARD
TZOFFSETFROM:-0500
TZOFFSETTO:-0600
TZNAME:CST
DTSTART:20231105T070000
END:STANDARD
BEGIN:DAYLIGHT
TZOFFSETFROM:-0600
TZOFFSETTO:-0500
TZNAME:CDT
DTSTART:20240310T080000
END:DAYLIGHT
BEGIN:STANDARD
TZOFFSETFROM:-0500
TZOFFSETTO:-0600
TZNAME:CST
DTSTART:20241103T070000
END:STANDARD
END:VTIMEZONE
BEGIN:VEVENT
DTSTART;VALUE=DATE:20230703
DTEND;VALUE=DATE:20230705
DTSTAMP:20260424T231455
CREATED:20230414T191503Z
LAST-MODIFIED:20230414T191503Z
UID:29833-1688342400-1688515199@www.mncorn.org
SUMMARY:MN Corn office closed for Fourth of July
DESCRIPTION:
URL:https://www.mncorn.org/single-event/mn-corn-office-closed-for-fourth-of-july-2/
CATEGORIES:General Public Events
END:VEVENT
BEGIN:VEVENT
DTSTART;VALUE=DATE:20230614
DTEND;VALUE=DATE:20230615
DTSTAMP:20260424T231455
CREATED:20230414T193222Z
LAST-MODIFIED:20230414T193222Z
UID:24685-1686700800-1686787199@www.mncorn.org
SUMMARY:2B CONTINUED Training Day
DESCRIPTION:A La Carte Suicide Prevention & Mental Health Trainings – open to professionals and community members! \nSeveral trainings will be offered – more details to come!
URL:https://www.mncorn.org/single-event/2b-continued-training-day/
LOCATION:Glencoe City Center\, 1107 11th St E\, Glencoe\, MN\, 55336
CATEGORIES:General Public Events
END:VEVENT
BEGIN:VEVENT
DTSTART;VALUE=DATE:20230614
DTEND;VALUE=DATE:20230615
DTSTAMP:20260424T231455
CREATED:20230414T193222Z
LAST-MODIFIED:20230414T193222Z
UID:29840-1686700800-1686787199@www.mncorn.org
SUMMARY:2B CONTINUED Training Day
DESCRIPTION:A La Carte Suicide Prevention & Mental Health Trainings – open to professionals and community members! \nSeveral trainings will be offered – more details to come!
URL:https://www.mncorn.org/single-event/2b-continued-training-day-2/
LOCATION:Glencoe City Center\, 1107 11th St E\, Glencoe\, MN\, 55336
CATEGORIES:General Public Events
END:VEVENT
BEGIN:VEVENT
DTSTART;VALUE=DATE:20230529
DTEND;VALUE=DATE:20230530
DTSTAMP:20260424T231455
CREATED:20230414T191247Z
LAST-MODIFIED:20230414T191247Z
UID:24668-1685318400-1685404799@www.mncorn.org
SUMMARY:MN Corn office closed for Memorial Day
DESCRIPTION:
URL:https://www.mncorn.org/single-event/mn-corn-office-closed-for-memorial-day/
CATEGORIES:General Public Events
END:VEVENT
BEGIN:VEVENT
DTSTART;VALUE=DATE:20230529
DTEND;VALUE=DATE:20230530
DTSTAMP:20260424T231455
CREATED:20230414T191247Z
LAST-MODIFIED:20230414T191247Z
UID:29832-1685318400-1685404799@www.mncorn.org
SUMMARY:MN Corn office closed for Memorial Day
DESCRIPTION:
URL:https://www.mncorn.org/single-event/mn-corn-office-closed-for-memorial-day-2/
CATEGORIES:General Public Events
END:VEVENT
BEGIN:VEVENT
DTSTART;VALUE=DATE:20230522
DTEND;VALUE=DATE:20230523
DTSTAMP:20260424T231455
CREATED:20230414T191217Z
LAST-MODIFIED:20230414T191217Z
UID:29831-1684713600-1684799999@www.mncorn.org
SUMMARY:Last day of 2023 state legislative session
DESCRIPTION:
URL:https://www.mncorn.org/single-event/last-day-of-2023-state-legislative-session-2/
CATEGORIES:General Public Events
END:VEVENT
BEGIN:VEVENT
DTSTART;VALUE=DATE:20230522
DTEND;VALUE=DATE:20230523
DTSTAMP:20260424T231455
CREATED:20230414T191217Z
LAST-MODIFIED:20230414T191316Z
UID:24666-1684713600-1684799999@www.mncorn.org
SUMMARY:Last day of 2023 state legislative session
DESCRIPTION:
URL:https://www.mncorn.org/single-event/last-day-of-2023-state-legislative-session/
CATEGORIES:General Public Events
END:VEVENT
BEGIN:VEVENT
DTSTART;TZID=America/Chicago:20230301T090000
DTEND;TZID=America/Chicago:20230301T120000
DTSTAMP:20260424T231455
CREATED:20230221T172503Z
LAST-MODIFIED:20230221T172503Z
UID:29820-1677661200-1677672000@www.mncorn.org
SUMMARY:Ag-Urban Partnership Forum
DESCRIPTION:Plan to participate in person to learn more about the ways that agricultural and urban partners are working together to prepare for extreme weather events and improve water quality around Minnesota. This fourth annual event will focus on extreme weather resiliency\, with keynote speaker\, Heidi Roop\, Ph.D.\, director\, Minnesota Climate Adaptation Partnership at the University of Minnesota. \nWho should attend?\nAgricultural\, government\, local\, and urban partners looking for ideas on how to develop and strengthen their relationships while improving the water quality of Minnesota lakes and streams are encouraged to attend. \nTentative agenda\n9 a.m.  Welcome \n9:15 a.m.  Keynote presentation: Coordination and collaboration for effective climate risk management in Minnesota (Heidi Roop\, Ph.D.\, director\, University of Minnesota Climate Adaptation Partnership) \n\nLearn more about the observed and projected impacts of climate change in Minnesota and how to leverage partnerships and collaborate to respond to a range of climate risks challenging Minnesota communities\, ecosystems and economy.\n\n10 a.m.  Break \n10:15 a.m.  Successful partnership perspectives \n\nMunicipal weatherproofing. Learn more from the City of Albany and Stearns County Soil & Water Conservation District about their water-based infiltration and wetland restoration project that is helping to manage heavy rain events and prevent flooding.\nBuilding resiliency through soil health. Wilkin County Soil & Water Conservation District is undergoing an extensive soil health study related tillage treatments and adapting to weather changes. Farmer Vance Johnson will share what he’s learned 2 years into the 5 year project\, and how soils\, water and economics are all being monitored through crop rotations.\nWater communities tackling climate change. Hear how Minnesota watersheds are using their local water management plans to build resiliency to climate change\, and their ideas for working with local partners.\n\n11:45 a.m.  Closing \n\n\nRegistration information\n\nOnline registration is open. Registrations are requested before Feb. 24\, 2023\, to help finalize preparations for the event. \nSponsoring partners\nThis forum is organized through collaboration among the Minnesota Board of Water and Soil Resources\, the Minnesota Department of Agriculture\, the Minnesota Pollution Control Agency\, and the Minnesota Agricultural Water Quality Certification Program\, along with the cooperation of agriculture\, community and water partners\, including: Water Resources Center at Minnesota State University\, Mankato\, Minnesota Farm Bureau Federation\, Minnesota Beef Council\, Minnesota Corn Growers Association\, Minnesota Pork Board\, Minnesota Farmers Union\, Minnesota Association of Soil & Water Conservation Districts\, Minnesota Association of Watershed Districts\, Capitol Regional Watershed District\, West Polk Soil & Water Conservation District\, City of Rochester\, City of Renville\, and City of Mankato.
URL:https://www.mncorn.org/single-event/ag-urban-partnership-forum-2/
LOCATION:Gorecki Center at the College of Saint Benedict\, 37 S. College Ave.\, St. Joseph\, MN\, 56374
CATEGORIES:General Ag Events,General Public Events
END:VEVENT
BEGIN:VEVENT
DTSTART;TZID=America/Chicago:20230301T090000
DTEND;TZID=America/Chicago:20230301T120000
DTSTAMP:20260424T231455
CREATED:20230221T172503Z
LAST-MODIFIED:20230221T172503Z
UID:24177-1677661200-1677672000@www.mncorn.org
SUMMARY:Ag-Urban Partnership Forum
DESCRIPTION:Plan to participate in person to learn more about the ways that agricultural and urban partners are working together to prepare for extreme weather events and improve water quality around Minnesota. This fourth annual event will focus on extreme weather resiliency\, with keynote speaker\, Heidi Roop\, Ph.D.\, director\, Minnesota Climate Adaptation Partnership at the University of Minnesota. \nWho should attend?\nAgricultural\, government\, local\, and urban partners looking for ideas on how to develop and strengthen their relationships while improving the water quality of Minnesota lakes and streams are encouraged to attend. \nTentative agenda\n9 a.m.  Welcome \n9:15 a.m.  Keynote presentation: Coordination and collaboration for effective climate risk management in Minnesota (Heidi Roop\, Ph.D.\, director\, University of Minnesota Climate Adaptation Partnership) \n\nLearn more about the observed and projected impacts of climate change in Minnesota and how to leverage partnerships and collaborate to respond to a range of climate risks challenging Minnesota communities\, ecosystems and economy.\n\n10 a.m.  Break \n10:15 a.m.  Successful partnership perspectives \n\nMunicipal weatherproofing. Learn more from the City of Albany and Stearns County Soil & Water Conservation District about their water-based infiltration and wetland restoration project that is helping to manage heavy rain events and prevent flooding.\nBuilding resiliency through soil health. Wilkin County Soil & Water Conservation District is undergoing an extensive soil health study related tillage treatments and adapting to weather changes. Farmer Vance Johnson will share what he’s learned 2 years into the 5 year project\, and how soils\, water and economics are all being monitored through crop rotations.\nWater communities tackling climate change. Hear how Minnesota watersheds are using their local water management plans to build resiliency to climate change\, and their ideas for working with local partners.\n\n11:45 a.m.  Closing \n\n\nRegistration information\n\nOnline registration is open. Registrations are requested before Feb. 24\, 2023\, to help finalize preparations for the event. \nSponsoring partners\nThis forum is organized through collaboration among the Minnesota Board of Water and Soil Resources\, the Minnesota Department of Agriculture\, the Minnesota Pollution Control Agency\, and the Minnesota Agricultural Water Quality Certification Program\, along with the cooperation of agriculture\, community and water partners\, including: Water Resources Center at Minnesota State University\, Mankato\, Minnesota Farm Bureau Federation\, Minnesota Beef Council\, Minnesota Corn Growers Association\, Minnesota Pork Board\, Minnesota Farmers Union\, Minnesota Association of Soil & Water Conservation Districts\, Minnesota Association of Watershed Districts\, Capitol Regional Watershed District\, West Polk Soil & Water Conservation District\, City of Rochester\, City of Renville\, and City of Mankato.
URL:https://www.mncorn.org/single-event/ag-urban-partnership-forum/
LOCATION:Gorecki Center at the College of Saint Benedict\, 37 S. College Ave.\, St. Joseph\, MN\, 56374
CATEGORIES:General Ag Events,General Public Events
END:VEVENT
BEGIN:VEVENT
DTSTART;VALUE=DATE:20220716
DTEND;VALUE=DATE:20220717
DTSTAMP:20260424T231455
CREATED:20220620T133138Z
LAST-MODIFIED:20220620T133138Z
UID:29767-1657929600-1658015999@www.mncorn.org
SUMMARY:Tasseldega Nights
DESCRIPTION:
URL:https://www.mncorn.org/single-event/tasseldega-nights-3-2/
LOCATION:Deer Creek Speedway\, 25262 US Hwy 63\, Spring Valley\, MN\, 55975\, United States
CATEGORIES:County Events,General Public Events
END:VEVENT
BEGIN:VEVENT
DTSTART;VALUE=DATE:20220716
DTEND;VALUE=DATE:20220717
DTSTAMP:20260424T231455
CREATED:20220620T133138Z
LAST-MODIFIED:20220620T133138Z
UID:22148-1657929600-1658015999@www.mncorn.org
SUMMARY:Tasseldega Nights
DESCRIPTION:
URL:https://www.mncorn.org/single-event/tasseldega-nights-3/
LOCATION:Deer Creek Speedway\, 25262 US Hwy 63\, Spring Valley\, MN\, 55975\, United States
CATEGORIES:County Events,General Public Events
END:VEVENT
BEGIN:VEVENT
DTSTART;VALUE=DATE:20211124
DTEND;VALUE=DATE:20211126
DTSTAMP:20260424T231455
CREATED:20210928T180345Z
LAST-MODIFIED:20210930T143129Z
UID:17746-1637712000-1637884799@www.mncorn.org
SUMMARY:MCGA office closed for Thanksgiving holiday
DESCRIPTION:
URL:https://www.mncorn.org/single-event/mcga-offices-closed-for-thanksgiving-holiday/
CATEGORIES:General Public Events,MCGA Events
END:VEVENT
BEGIN:VEVENT
DTSTART;VALUE=DATE:20211124
DTEND;VALUE=DATE:20211126
DTSTAMP:20260424T231455
CREATED:20210928T180345Z
LAST-MODIFIED:20210928T180345Z
UID:29697-1637712000-1637884799@www.mncorn.org
SUMMARY:MCGA office closed for Thanksgiving holiday
DESCRIPTION:
URL:https://www.mncorn.org/single-event/mcga-offices-closed-for-thanksgiving-holiday-2/
CATEGORIES:General Public Events,MCGA Events
END:VEVENT
END:VCALENDAR