BEGIN:VCALENDAR
VERSION:2.0
PRODID:-//Minnesota Corn Growers Association - ECPv6.15.20//NONSGML v1.0//EN
CALSCALE:GREGORIAN
METHOD:PUBLISH
X-ORIGINAL-URL:https://www.mncorn.org
X-WR-CALDESC:Events for Minnesota Corn Growers Association
REFRESH-INTERVAL;VALUE=DURATION:PT1H
X-Robots-Tag:noindex
X-PUBLISHED-TTL:PT1H
BEGIN:VTIMEZONE
TZID:America/Chicago
BEGIN:DAYLIGHT
TZOFFSETFROM:-0600
TZOFFSETTO:-0500
TZNAME:CDT
DTSTART:20220313T080000
END:DAYLIGHT
BEGIN:STANDARD
TZOFFSETFROM:-0500
TZOFFSETTO:-0600
TZNAME:CST
DTSTART:20221106T070000
END:STANDARD
BEGIN:DAYLIGHT
TZOFFSETFROM:-0600
TZOFFSETTO:-0500
TZNAME:CDT
DTSTART:20230312T080000
END:DAYLIGHT
BEGIN:STANDARD
TZOFFSETFROM:-0500
TZOFFSETTO:-0600
TZNAME:CST
DTSTART:20231105T070000
END:STANDARD
BEGIN:DAYLIGHT
TZOFFSETFROM:-0600
TZOFFSETTO:-0500
TZNAME:CDT
DTSTART:20240310T080000
END:DAYLIGHT
BEGIN:STANDARD
TZOFFSETFROM:-0500
TZOFFSETTO:-0600
TZNAME:CST
DTSTART:20241103T070000
END:STANDARD
BEGIN:DAYLIGHT
TZOFFSETFROM:-0600
TZOFFSETTO:-0500
TZNAME:CDT
DTSTART:20250309T080000
END:DAYLIGHT
BEGIN:STANDARD
TZOFFSETFROM:-0500
TZOFFSETTO:-0600
TZNAME:CST
DTSTART:20251102T070000
END:STANDARD
BEGIN:DAYLIGHT
TZOFFSETFROM:-0600
TZOFFSETTO:-0500
TZNAME:CDT
DTSTART:20260308T080000
END:DAYLIGHT
BEGIN:STANDARD
TZOFFSETFROM:-0500
TZOFFSETTO:-0600
TZNAME:CST
DTSTART:20261101T070000
END:STANDARD
BEGIN:DAYLIGHT
TZOFFSETFROM:-0600
TZOFFSETTO:-0500
TZNAME:CDT
DTSTART:20270314T080000
END:DAYLIGHT
BEGIN:STANDARD
TZOFFSETFROM:-0500
TZOFFSETTO:-0600
TZNAME:CST
DTSTART:20271107T070000
END:STANDARD
END:VTIMEZONE
BEGIN:VEVENT
DTSTART;TZID=America/Chicago:20260408T080000
DTEND;TZID=America/Chicago:20260408T100000
DTSTAMP:20260425T193624
CREATED:20260405T204435Z
LAST-MODIFIED:20260407T204728Z
UID:35440-1775635200-1775642400@www.mncorn.org
SUMMARY:MCR&PC/MCGA joint board meeting
DESCRIPTION:The Minnesota Corn Growers Association (MCGA) Board of Directors and the Minnesota Corn Research & Promotion Council (MCR&PC) will meet virtually on April 8. View the agenda for the meeting here.
URL:https://www.mncorn.org/single-event/mcrpc-mcga-joint-board-meeting-april-2026/
LOCATION:Online/Virtual
CATEGORIES:MCGA Events
END:VEVENT
BEGIN:VEVENT
DTSTART;VALUE=DATE:20260318
DTEND;VALUE=DATE:20260319
DTSTAMP:20260425T193624
CREATED:20260114T144644Z
LAST-MODIFIED:20260305T193908Z
UID:34875-1773792000-1773878399@www.mncorn.org
SUMMARY:Minnesota Trade Policy Academy
DESCRIPTION:The Trade Policy Academy is brought to you by a partnership with U.S. Grains & BioProducts Council\, National Corn Growers Association and Minnesota Corn. The academy is designed for growers who want to deepen their understanding of global trade policy\, market access\, and international advocacy. The academy will offer a unique opportunity to engage with experts\, gain firsthand insights into current trade dynamics and trade policy history\, and develop the skills needed to walk the walk and talk the talk about exports. \n\nExpand Your Expertise – Learn from top trade policy professionals about the complexities of international markets\, trade agreements\, and regulatory frameworks.\nEngage with Industry Leaders – Connect with peers and experts who are shaping the future of agricultural trade.\nAdvocate for U.S. Agriculture – Strengthen your ability to promote trade policies that support American farmers and agribusinesses.\nExclusive Access & Hands-On Learning – Participate in in-depth workshops\, case studies\, and interactive discussions that translate policy into action.\n\nBy joining a Trade Policy Academy\, you become part of a network of growers dedicated to ensuring the continued success of U.S. grains in the global marketplace. This experience will equip you with the tools to make a lasting impact. \nRegister for the event here.\n \nView the event agenda here.
URL:https://www.mncorn.org/single-event/minnesota-trade-policy-academy/
LOCATION:Hormel Institute\, 801 16th Ave NE\, Austin\, Minnesota\, 55912
CATEGORIES:MCGA Events
END:VEVENT
BEGIN:VEVENT
DTSTART;TZID=America/Chicago:20260311T080000
DTEND;TZID=America/Chicago:20260311T150000
DTSTAMP:20260425T193624
CREATED:20260304T222047Z
LAST-MODIFIED:20260304T222047Z
UID:35268-1773216000-1773241200@www.mncorn.org
SUMMARY:MCR&PC/MCGA joint board meeting
DESCRIPTION:The Minnesota Corn Growers Association (MCGA) Board of Directors and the Minnesota Corn Research & Promotion Council (MCR&PC) will meet jointly at the Minnesota Corn offices in Burnsville on March 11\, 2026. View the agenda for the meeting here.
URL:https://www.mncorn.org/single-event/mcrpc-mcga-joint-board-meeting-march-2026/
LOCATION:Minnesota Corn Office\, 500 E. Travelers Trail\, Suite 600\, Burnsville\, MN\, 55337\, United States
CATEGORIES:MCGA Events
END:VEVENT
BEGIN:VEVENT
DTSTART;TZID=America/Chicago:20260107T083000
DTEND;TZID=America/Chicago:20260107T160000
DTSTAMP:20260425T193624
CREATED:20251230T210626Z
LAST-MODIFIED:20251230T210653Z
UID:34816-1767774600-1767801600@www.mncorn.org
SUMMARY:MCR&PC/MCGA joint board meeting
DESCRIPTION:The Minnesota Corn Growers Association (MCGA) Board of Directors and the Minnesota Corn Research & Promotion Council (MCR&PC) will meet jointly at the Minnesota Corn offices in Burnsville on January 7th\, 2026. View the agenda for the meeting here.
URL:https://www.mncorn.org/single-event/mcrpc-mcga-joint-board-meeting-jan-2026/
LOCATION:Minnesota Corn Office\, 500 E. Travelers Trail\, Suite 600\, Burnsville\, MN\, 55337\, United States
CATEGORIES:MCGA Events
END:VEVENT
BEGIN:VEVENT
DTSTART;TZID=America/Chicago:20251119T073000
DTEND;TZID=America/Chicago:20251119T103000
DTSTAMP:20260425T193624
CREATED:20251113T185131Z
LAST-MODIFIED:20251113T185131Z
UID:34524-1763537400-1763548200@www.mncorn.org
SUMMARY:MCR&PC/MCGA joint board meeting
DESCRIPTION:Joint Meeting of the Minnesota Corn Growers Association (MCGA) and Minnesota Corn Research & Promotion Council (MCR&PC). \nView the agenda here.
URL:https://www.mncorn.org/single-event/mcrpc-mcga-joint-board-meeting-2/
LOCATION:Online/Virtual
CATEGORIES:MCGA Events
END:VEVENT
BEGIN:VEVENT
DTSTART;TZID=America/Chicago:20250904T083000
DTEND;TZID=America/Chicago:20250904T160000
DTSTAMP:20260425T193624
CREATED:20250828T142953Z
LAST-MODIFIED:20250828T142953Z
UID:33689-1756974600-1757001600@www.mncorn.org
SUMMARY:MCR&PC/MCGA joint board meeting
DESCRIPTION:View the agenda here.
URL:https://www.mncorn.org/single-event/mcrpc-mcga-joint-board-meeting/
LOCATION:MCGA Office\, Burnsville\, MN\, 500 E Travelers Trail\, Suite 600\, Burnsville\, MN\, 55337\, United States
CATEGORIES:MCGA Events
END:VEVENT
BEGIN:VEVENT
DTSTART;TZID=America/Chicago:20250625T080000
DTEND;TZID=America/Chicago:20250625T151500
DTSTAMP:20260425T193624
CREATED:20250619T133949Z
LAST-MODIFIED:20250619T133949Z
UID:33354-1750838400-1750864500@www.mncorn.org
SUMMARY:MCGA/MCRPC Jt. Board Meeting
DESCRIPTION:See the agenda here.
URL:https://www.mncorn.org/single-event/mcga-mcrpc-jt-board-meeting-16/
LOCATION:MCGA Office\, Burnsville\, MN\, 500 E Travelers Trail\, Suite 600\, Burnsville\, MN\, 55337\, United States
CATEGORIES:MCGA Events
END:VEVENT
BEGIN:VEVENT
DTSTART;TZID=America/Chicago:20250409T080000
DTEND;TZID=America/Chicago:20250409T120000
DTSTAMP:20260425T193624
CREATED:20250402T212303Z
LAST-MODIFIED:20250402T212303Z
UID:32836-1744185600-1744200000@www.mncorn.org
SUMMARY:MCGA/MCR&PC Joint Board meeting (virtual)
DESCRIPTION:See the agenda here.
URL:https://www.mncorn.org/single-event/mcga-mcrpc-joint-board-meeting-virtual/
CATEGORIES:MCGA Events
END:VEVENT
BEGIN:VEVENT
DTSTART;TZID=America/Chicago:20250219T083000
DTEND;TZID=America/Chicago:20250219T150000
DTSTAMP:20260425T193624
CREATED:20250214T204827Z
LAST-MODIFIED:20250214T204848Z
UID:32394-1739953800-1739977200@www.mncorn.org
SUMMARY:MCGA/MCR&PC Jt. board meeting
DESCRIPTION:View the agenda here.
URL:https://www.mncorn.org/single-event/mcga-mcrpc-jt-board-meeting-15/
LOCATION:Minnesota Corn Office\, 500 E. Travelers Trail\, Suite 600\, Burnsville\, MN\, 55337\, United States
CATEGORIES:MCGA Events
END:VEVENT
BEGIN:VEVENT
DTSTART;TZID=America/Chicago:20241120T073000
DTEND;TZID=America/Chicago:20241120T110000
DTSTAMP:20260425T193624
CREATED:20241113T215316Z
LAST-MODIFIED:20241113T215316Z
UID:31762-1732087800-1732100400@www.mncorn.org
SUMMARY:MCGA/MCR&PC joint meeting
DESCRIPTION:See the agenda here.
URL:https://www.mncorn.org/single-event/mcga-mcrpc-joint-meeting-4/
CATEGORIES:MCGA Events
END:VEVENT
BEGIN:VEVENT
DTSTART;VALUE=DATE:20240905
DTEND;VALUE=DATE:20240906
DTSTAMP:20260425T193624
CREATED:20240607T144239Z
LAST-MODIFIED:20240829T184253Z
UID:29942-1725494400-1725580799@www.mncorn.org
SUMMARY:MCGA/MCRPC Jt. Board Meeting
DESCRIPTION:See the meeting agenda here.
URL:https://www.mncorn.org/single-event/mcga-mcrpc-jt-board-meeting-14-2/
LOCATION:MCGA Office\, Burnsville\, MN\, 500 E Travelers Trail\, Suite 600\, Burnsville\, MN\, 55337\, United States
CATEGORIES:MCGA Events
END:VEVENT
BEGIN:VEVENT
DTSTART;VALUE=DATE:20240626
DTEND;VALUE=DATE:20240627
DTSTAMP:20260425T193624
CREATED:20240604T150437Z
LAST-MODIFIED:20240604T150437Z
UID:29936-1719360000-1719446399@www.mncorn.org
SUMMARY:MCGA/MCRPC Jt. Board Meeting
DESCRIPTION:Read the agenda for the meeting here.
URL:https://www.mncorn.org/single-event/mcga-mcrpc-jt-board-meeting-13-2/
LOCATION:MCGA Office\, Burnsville\, MN\, 500 E Travelers Trail\, Suite 600\, Burnsville\, MN\, 55337\, United States
CATEGORIES:MCGA Events
END:VEVENT
BEGIN:VEVENT
DTSTART;TZID=America/Chicago:20240410T083000
DTEND;TZID=America/Chicago:20240410T083000
DTSTAMP:20260425T193624
CREATED:20240329T165428Z
LAST-MODIFIED:20240329T165428Z
UID:29935-1712737800-1712737800@www.mncorn.org
SUMMARY:Joint MCGA/MCR&PC board meeting (virtual)
DESCRIPTION:See the agenda here.
URL:https://www.mncorn.org/single-event/joint-mcga-mcrpc-board-meeting-virtual-2/
CATEGORIES:MCGA Events
END:VEVENT
BEGIN:VEVENT
DTSTART;TZID=America/Chicago:20240410T083000
DTEND;TZID=America/Chicago:20240410T083000
DTSTAMP:20260425T193624
CREATED:20240329T165428Z
LAST-MODIFIED:20240403T180530Z
UID:27182-1712737800-1712737800@www.mncorn.org
SUMMARY:Joint MCGA/MCR&PC board meeting (virtual)
DESCRIPTION:See the agenda here.
URL:https://www.mncorn.org/single-event/joint-mcga-mcrpc-board-meeting-virtual/
CATEGORIES:MCGA Events
END:VEVENT
BEGIN:VEVENT
DTSTART;VALUE=DATE:20240221
DTEND;VALUE=DATE:20240222
DTSTAMP:20260425T193624
CREATED:20231207T151451Z
LAST-MODIFIED:20231207T151451Z
UID:29909-1708473600-1708559999@www.mncorn.org
SUMMARY:MCGA/MCRPC Jt. Board Meeting
DESCRIPTION:Meeting agenda here
URL:https://www.mncorn.org/single-event/mcga-mcrpc-jt-board-meeting-12-2/
LOCATION:MCGA Office\, Burnsville\, MN\, 500 E Travelers Trail\, Suite 600\, Burnsville\, MN\, 55337\, United States
CATEGORIES:MCGA Events
END:VEVENT
BEGIN:VEVENT
DTSTART;VALUE=DATE:20240221
DTEND;VALUE=DATE:20240222
DTSTAMP:20260425T193624
CREATED:20231207T151451Z
LAST-MODIFIED:20240214T223220Z
UID:26557-1708473600-1708559999@www.mncorn.org
SUMMARY:MCGA/MCRPC Jt. Board Meeting
DESCRIPTION:Meeting agenda here
URL:https://www.mncorn.org/single-event/mcga-mcrpc-jt-board-meeting-12/
LOCATION:MCGA Office\, Burnsville\, MN\, 500 E Travelers Trail\, Suite 600\, Burnsville\, MN\, 55337\, United States
CATEGORIES:MCGA Events
END:VEVENT
BEGIN:VEVENT
DTSTART;TZID=America/Chicago:20240118T083000
DTEND;TZID=America/Chicago:20240118T083000
DTSTAMP:20260425T193624
CREATED:20231207T151409Z
LAST-MODIFIED:20231207T151409Z
UID:26555-1705566600-1705566600@www.mncorn.org
SUMMARY:MCGA Resolutions Session & Annual Meeting
DESCRIPTION:Join the Minnesota Corn Growers Association for its resolutions session and annual meeting at MN Ag Expo. During the resolutions session\, the organization will finalize its resolutions book\, which guides grassroots advocacy for the year. During the annual meeting\, growers will hear a recap of Minnesota Corn’s 2023 activities and learn about the organization’s plans for 2024. Growers interested in becoming a county delegate for the resolutions sessions should contact their district field manager.
URL:https://www.mncorn.org/single-event/mcga-resolutions-session-annual-meeting/
LOCATION:Mayo Clinic Health System Event Center\, 1 Civic Center Plaza\, Mankato\, Minnesota\, 56001
CATEGORIES:MCGA Events
END:VEVENT
BEGIN:VEVENT
DTSTART;TZID=America/Chicago:20240118T083000
DTEND;TZID=America/Chicago:20240118T083000
DTSTAMP:20260425T193624
CREATED:20231207T151409Z
LAST-MODIFIED:20231207T151409Z
UID:29908-1705566600-1705566600@www.mncorn.org
SUMMARY:MCGA Resolutions Session & Annual Meeting
DESCRIPTION:Join the Minnesota Corn Growers Association for its resolutions session and annual meeting at MN Ag Expo. During the resolutions session\, the organization will finalize its resolutions book\, which guides grassroots advocacy for the year. During the annual meeting\, growers will hear a recap of Minnesota Corn’s 2023 activities and learn about the organization’s plans for 2024. Growers interested in becoming a county delegate for the resolutions sessions should contact their district field manager.
URL:https://www.mncorn.org/single-event/mcga-resolutions-session-annual-meeting-2/
LOCATION:Mayo Clinic Health System Event Center\, 1 Civic Center Plaza\, Mankato\, Minnesota\, 56001
CATEGORIES:MCGA Events
END:VEVENT
BEGIN:VEVENT
DTSTART;TZID=America/Chicago:20240117T080000
DTEND;TZID=America/Chicago:20240118T150000
DTSTAMP:20260425T193624
CREATED:20231207T150842Z
LAST-MODIFIED:20231207T150842Z
UID:29907-1705478400-1705590000@www.mncorn.org
SUMMARY:MN Ag EXPO
DESCRIPTION:Join Us For The 2024 MN AG EXPO! \nJointly Hosted Event Between The Minnesota Soybean Growers Association And The Minnesota Corn Growers Association. \nReunite with the agriculture community January 17-18\, 2024 during MN AG EXPO at the Mayo Clinic Health System Event Center in Mankato. Over the course of two days\, Minnesota’s marquee winter agriculture gathering sets our sights on the future by offering networking opportunities; educational sessions; a full trade show floor; dynamic speakers; fundraising events – and more!
URL:https://www.mncorn.org/single-event/mn-ag-expo-3-2/
LOCATION:Mayo Clinic Health System Event Center\, 1 Civic Center Plaza\, Mankato\, Minnesota\, 56001
CATEGORIES:Educational/Learning Opportunities,General Ag Events,MCGA Events
END:VEVENT
BEGIN:VEVENT
DTSTART;TZID=America/Chicago:20240117T080000
DTEND;TZID=America/Chicago:20240118T150000
DTSTAMP:20260425T193624
CREATED:20231207T150842Z
LAST-MODIFIED:20231207T150842Z
UID:26553-1705478400-1705590000@www.mncorn.org
SUMMARY:MN Ag EXPO
DESCRIPTION:Join Us For The 2024 MN AG EXPO! \nJointly Hosted Event Between The Minnesota Soybean Growers Association And The Minnesota Corn Growers Association. \nReunite with the agriculture community January 17-18\, 2024 during MN AG EXPO at the Mayo Clinic Health System Event Center in Mankato. Over the course of two days\, Minnesota’s marquee winter agriculture gathering sets our sights on the future by offering networking opportunities; educational sessions; a full trade show floor; dynamic speakers; fundraising events – and more!
URL:https://www.mncorn.org/single-event/mn-ag-expo-3/
LOCATION:Mayo Clinic Health System Event Center\, 1 Civic Center Plaza\, Mankato\, Minnesota\, 56001
CATEGORIES:Educational/Learning Opportunities,General Ag Events,MCGA Events
END:VEVENT
BEGIN:VEVENT
DTSTART;TZID=America/Chicago:20240116T140000
DTEND;TZID=America/Chicago:20240116T150000
DTSTAMP:20260425T193624
CREATED:20231218T154721Z
LAST-MODIFIED:20231218T154721Z
UID:29914-1705413600-1705417200@www.mncorn.org
SUMMARY:MCGA Marketing Webinar with Kluis Commodity Advisors
DESCRIPTION:Minnesota Corn has partnered with Kluis Commodity Advisors (KCA) to hold quarterly marketing webinars following the release of major USDA Crop Reports. A commodity advisor and broker since 1976\, Al Kluis will host each webinar providing valuable insight on how the crop report impacts price projections and marketing decisions. \nRegister here
URL:https://www.mncorn.org/single-event/mcga-marketing-webinar-with-kluis-commodity-advisors-7-2/
CATEGORIES:MCGA Events
END:VEVENT
BEGIN:VEVENT
DTSTART;TZID=America/Chicago:20240116T140000
DTEND;TZID=America/Chicago:20240116T150000
DTSTAMP:20260425T193624
CREATED:20231218T154721Z
LAST-MODIFIED:20231218T154721Z
UID:26599-1705413600-1705417200@www.mncorn.org
SUMMARY:MCGA Marketing Webinar with Kluis Commodity Advisors
DESCRIPTION:Minnesota Corn has partnered with Kluis Commodity Advisors (KCA) to hold quarterly marketing webinars following the release of major USDA Crop Reports. A commodity advisor and broker since 1976\, Al Kluis will host each webinar providing valuable insight on how the crop report impacts price projections and marketing decisions. \nRegister here
URL:https://www.mncorn.org/single-event/mcga-marketing-webinar-with-kluis-commodity-advisors-7/
CATEGORIES:MCGA Events
END:VEVENT
BEGIN:VEVENT
DTSTART;VALUE=DATE:20240104
DTEND;VALUE=DATE:20240105
DTSTAMP:20260425T193624
CREATED:20231207T150457Z
LAST-MODIFIED:20231207T150457Z
UID:29906-1704326400-1704412799@www.mncorn.org
SUMMARY:MCGA/MCRPC Jt. Board Meeting
DESCRIPTION:MN Corn Agenda January 4 2024 Final
URL:https://www.mncorn.org/single-event/mcga-mcrpc-jt-board-meeting-11-2/
LOCATION:MCGA Office\, Burnsville\, MN\, 500 E Travelers Trail\, Suite 600\, Burnsville\, MN\, 55337\, United States
CATEGORIES:MCGA Events
END:VEVENT
BEGIN:VEVENT
DTSTART;VALUE=DATE:20240104
DTEND;VALUE=DATE:20240105
DTSTAMP:20260425T193624
CREATED:20231207T150457Z
LAST-MODIFIED:20231226T203238Z
UID:26550-1704326400-1704412799@www.mncorn.org
SUMMARY:MCGA/MCRPC Jt. Board Meeting
DESCRIPTION:MN Corn Agenda January 4 2024 Final
URL:https://www.mncorn.org/single-event/mcga-mcrpc-jt-board-meeting-11/
LOCATION:MCGA Office\, Burnsville\, MN\, 500 E Travelers Trail\, Suite 600\, Burnsville\, MN\, 55337\, United States
CATEGORIES:MCGA Events
END:VEVENT
BEGIN:VEVENT
DTSTART;VALUE=DATE:20231129
DTEND;VALUE=DATE:20231130
DTSTAMP:20260425T193624
CREATED:20231107T145929Z
LAST-MODIFIED:20231107T145929Z
UID:29893-1701216000-1701302399@www.mncorn.org
SUMMARY:MCGA Pre-Resolutions Meeting
DESCRIPTION:
URL:https://www.mncorn.org/single-event/mcga-pre-resolutions-meeting-4-2/
CATEGORIES:MCGA Events
END:VEVENT
BEGIN:VEVENT
DTSTART;VALUE=DATE:20231129
DTEND;VALUE=DATE:20231130
DTSTAMP:20260425T193624
CREATED:20231107T145929Z
LAST-MODIFIED:20231107T145929Z
UID:26315-1701216000-1701302399@www.mncorn.org
SUMMARY:MCGA Pre-Resolutions Meeting
DESCRIPTION:
URL:https://www.mncorn.org/single-event/mcga-pre-resolutions-meeting-4/
CATEGORIES:MCGA Events
END:VEVENT
BEGIN:VEVENT
DTSTART;VALUE=DATE:20231122
DTEND;VALUE=DATE:20231123
DTSTAMP:20260425T193624
CREATED:20231107T145851Z
LAST-MODIFIED:20231107T145851Z
UID:29892-1700611200-1700697599@www.mncorn.org
SUMMARY:MCGA/MCRPC Jt. Board Meeting
DESCRIPTION:View the agenda here.
URL:https://www.mncorn.org/single-event/mcga-mcrpc-jt-board-meeting-10-2/
CATEGORIES:MCGA Events
END:VEVENT
BEGIN:VEVENT
DTSTART;VALUE=DATE:20231122
DTEND;VALUE=DATE:20231123
DTSTAMP:20260425T193624
CREATED:20231107T145851Z
LAST-MODIFIED:20231115T212307Z
UID:26312-1700611200-1700697599@www.mncorn.org
SUMMARY:MCGA/MCRPC Jt. Board Meeting
DESCRIPTION:View the agenda here.
URL:https://www.mncorn.org/single-event/mcga-mcrpc-jt-board-meeting-10/
CATEGORIES:MCGA Events
END:VEVENT
BEGIN:VEVENT
DTSTART;VALUE=DATE:20230907
DTEND;VALUE=DATE:20230908
DTSTAMP:20260425T193624
CREATED:20230414T191031Z
LAST-MODIFIED:20230414T191031Z
UID:29829-1694044800-1694131199@www.mncorn.org
SUMMARY:Joint MCGA/MCR&PC board meeting
DESCRIPTION:See agenda here.
URL:https://www.mncorn.org/single-event/joint-mcga-mcrpc-board-meeting-2-2/
CATEGORIES:MCGA Events
END:VEVENT
BEGIN:VEVENT
DTSTART;VALUE=DATE:20230907
DTEND;VALUE=DATE:20230908
DTSTAMP:20260425T193624
CREATED:20230414T191031Z
LAST-MODIFIED:20230831T155802Z
UID:24662-1694044800-1694131199@www.mncorn.org
SUMMARY:Joint MCGA/MCR&PC board meeting
DESCRIPTION:See agenda here.
URL:https://www.mncorn.org/single-event/joint-mcga-mcrpc-board-meeting-2/
CATEGORIES:MCGA Events
END:VEVENT
END:VCALENDAR