BEGIN:VCALENDAR
VERSION:2.0
PRODID:-//Minnesota Corn Growers Association - ECPv6.15.20//NONSGML v1.0//EN
CALSCALE:GREGORIAN
METHOD:PUBLISH
X-ORIGINAL-URL:https://www.mncorn.org
X-WR-CALDESC:Events for Minnesota Corn Growers Association
REFRESH-INTERVAL;VALUE=DURATION:PT1H
X-Robots-Tag:noindex
X-PUBLISHED-TTL:PT1H
BEGIN:VTIMEZONE
TZID:America/Chicago
BEGIN:DAYLIGHT
TZOFFSETFROM:-0600
TZOFFSETTO:-0500
TZNAME:CDT
DTSTART:20210314T080000
END:DAYLIGHT
BEGIN:STANDARD
TZOFFSETFROM:-0500
TZOFFSETTO:-0600
TZNAME:CST
DTSTART:20211107T070000
END:STANDARD
BEGIN:DAYLIGHT
TZOFFSETFROM:-0600
TZOFFSETTO:-0500
TZNAME:CDT
DTSTART:20220313T080000
END:DAYLIGHT
BEGIN:STANDARD
TZOFFSETFROM:-0500
TZOFFSETTO:-0600
TZNAME:CST
DTSTART:20221106T070000
END:STANDARD
BEGIN:DAYLIGHT
TZOFFSETFROM:-0600
TZOFFSETTO:-0500
TZNAME:CDT
DTSTART:20230312T080000
END:DAYLIGHT
BEGIN:STANDARD
TZOFFSETFROM:-0500
TZOFFSETTO:-0600
TZNAME:CST
DTSTART:20231105T070000
END:STANDARD
BEGIN:DAYLIGHT
TZOFFSETFROM:-0600
TZOFFSETTO:-0500
TZNAME:CDT
DTSTART:20240310T080000
END:DAYLIGHT
BEGIN:STANDARD
TZOFFSETFROM:-0500
TZOFFSETTO:-0600
TZNAME:CST
DTSTART:20241103T070000
END:STANDARD
END:VTIMEZONE
BEGIN:VEVENT
DTSTART;VALUE=DATE:20230801
DTEND;VALUE=DATE:20230804
DTSTAMP:20260425T232505
CREATED:20230414T192122Z
LAST-MODIFIED:20230414T192122Z
UID:29836-1690848000-1691107199@www.mncorn.org
SUMMARY:Farmfest 2023
DESCRIPTION:At Farmfest\, we strive to bring together the best in agribusiness from Minnesota and around the country. We endeavor to provide one place for farmers to network\, experience and learn to grow their farming operations. \nWe use 50 acres of land to showcase products\, services and technologies from over 500 exhibitors and vendors. Through careful planning and organization\, we provide live product demonstrations\, host smart and insightful educational sessions and organize fun family activities to not only help farmers grow their family businesses but also to celebrate farming and the rural lifestyle.
URL:https://www.mncorn.org/single-event/farmfest-2023-2/
LOCATION:Gilfillan Estate\, 28366 County Highway 13\, Morgan\, MN\, 56266
CATEGORIES:General Ag Events,MCGA Events
END:VEVENT
BEGIN:VEVENT
DTSTART;VALUE=DATE:20230801
DTEND;VALUE=DATE:20230804
DTSTAMP:20260425T232505
CREATED:20230414T192122Z
LAST-MODIFIED:20230414T192122Z
UID:24676-1690848000-1691107199@www.mncorn.org
SUMMARY:Farmfest 2023
DESCRIPTION:At Farmfest\, we strive to bring together the best in agribusiness from Minnesota and around the country. We endeavor to provide one place for farmers to network\, experience and learn to grow their farming operations. \nWe use 50 acres of land to showcase products\, services and technologies from over 500 exhibitors and vendors. Through careful planning and organization\, we provide live product demonstrations\, host smart and insightful educational sessions and organize fun family activities to not only help farmers grow their family businesses but also to celebrate farming and the rural lifestyle.
URL:https://www.mncorn.org/single-event/farmfest-2023/
LOCATION:Gilfillan Estate\, 28366 County Highway 13\, Morgan\, MN\, 56266
CATEGORIES:General Ag Events,MCGA Events
END:VEVENT
BEGIN:VEVENT
DTSTART;VALUE=DATE:20230717
DTEND;VALUE=DATE:20230721
DTSTAMP:20260425T232505
CREATED:20230414T191648Z
LAST-MODIFIED:20230414T191648Z
UID:29834-1689552000-1689897599@www.mncorn.org
SUMMARY:NCGA Corn Congress
DESCRIPTION:
URL:https://www.mncorn.org/single-event/ncga-corn-congress-2/
LOCATION:MN
CATEGORIES:MCGA Events
END:VEVENT
BEGIN:VEVENT
DTSTART;VALUE=DATE:20230717
DTEND;VALUE=DATE:20230721
DTSTAMP:20260425T232505
CREATED:20230414T191648Z
LAST-MODIFIED:20230414T191648Z
UID:24672-1689552000-1689897599@www.mncorn.org
SUMMARY:NCGA Corn Congress
DESCRIPTION:
URL:https://www.mncorn.org/single-event/ncga-corn-congress/
LOCATION:MN
CATEGORIES:MCGA Events
END:VEVENT
BEGIN:VEVENT
DTSTART;TZID=America/Chicago:20230713T140000
DTEND;TZID=America/Chicago:20230713T150000
DTSTAMP:20260425T232505
CREATED:20230530T195450Z
LAST-MODIFIED:20230530T195450Z
UID:29845-1689256800-1689260400@www.mncorn.org
SUMMARY:MCGA Marketing Webinar with Kluis Commodity Advisors
DESCRIPTION:The Minnesota Corn Growers Association (MCGA) has partnered with Kluis Commodity Advisors (KCA) to hold quarterly marketing webinars following the release of major USDA Crop Reports. A commodity advisor and broker since 1976\, Al Kluis will host each webinar providing valuable insight on how the crop report impacts price projections and marketing decisions. \nRegister here: https://attendee.gotowebinar.com/rt/5608601548490868054?source=MN+Corn+Growers
URL:https://www.mncorn.org/single-event/mcga-marketing-webinar-with-kluis-commodity-advisors-6-2/
LOCATION:MN
CATEGORIES:MCGA Events
END:VEVENT
BEGIN:VEVENT
DTSTART;TZID=America/Chicago:20230713T140000
DTEND;TZID=America/Chicago:20230713T150000
DTSTAMP:20260425T232505
CREATED:20230530T195450Z
LAST-MODIFIED:20230620T161133Z
UID:24895-1689256800-1689260400@www.mncorn.org
SUMMARY:MCGA Marketing Webinar with Kluis Commodity Advisors
DESCRIPTION:The Minnesota Corn Growers Association (MCGA) has partnered with Kluis Commodity Advisors (KCA) to hold quarterly marketing webinars following the release of major USDA Crop Reports. A commodity advisor and broker since 1976\, Al Kluis will host each webinar providing valuable insight on how the crop report impacts price projections and marketing decisions. \nRegister here: https://attendee.gotowebinar.com/rt/5608601548490868054?source=MN+Corn+Growers
URL:https://www.mncorn.org/single-event/mcga-marketing-webinar-with-kluis-commodity-advisors-6/
LOCATION:MN
CATEGORIES:MCGA Events
END:VEVENT
BEGIN:VEVENT
DTSTART;VALUE=DATE:20230628
DTEND;VALUE=DATE:20230629
DTSTAMP:20260425T232505
CREATED:20230414T190953Z
LAST-MODIFIED:20230621T145434Z
UID:24660-1687910400-1687996799@www.mncorn.org
SUMMARY:Joint MCGA/MCR&PC board meeting
DESCRIPTION:Click here to view the meeting agenda.
URL:https://www.mncorn.org/single-event/joint-mcga-mcrpc-board-meeting/
LOCATION:MN
CATEGORIES:MCGA Events
END:VEVENT
BEGIN:VEVENT
DTSTART;VALUE=DATE:20230628
DTEND;VALUE=DATE:20230629
DTSTAMP:20260425T232505
CREATED:20230414T190953Z
LAST-MODIFIED:20230414T190953Z
UID:29828-1687910400-1687996799@www.mncorn.org
SUMMARY:Joint MCGA/MCR&PC board meeting
DESCRIPTION:Click here to view the meeting agenda.
URL:https://www.mncorn.org/single-event/joint-mcga-mcrpc-board-meeting-3/
LOCATION:MN
CATEGORIES:MCGA Events
END:VEVENT
BEGIN:VEVENT
DTSTART;VALUE=DATE:20230501
DTEND;VALUE=DATE:20230502
DTSTAMP:20260425T232505
CREATED:20230414T191140Z
LAST-MODIFIED:20230414T191140Z
UID:29830-1682899200-1682985599@www.mncorn.org
SUMMARY:MCR&PC election results available
DESCRIPTION:
URL:https://www.mncorn.org/single-event/mcrpc-election-results-available-2/
LOCATION:MN
CATEGORIES:MCGA Events
END:VEVENT
BEGIN:VEVENT
DTSTART;VALUE=DATE:20230501
DTEND;VALUE=DATE:20230502
DTSTAMP:20260425T232505
CREATED:20230414T191140Z
LAST-MODIFIED:20230414T191344Z
UID:24664-1682899200-1682985599@www.mncorn.org
SUMMARY:MCR&PC election results available
DESCRIPTION:
URL:https://www.mncorn.org/single-event/mcrpc-election-results-available/
LOCATION:MN
CATEGORIES:MCGA Events
END:VEVENT
BEGIN:VEVENT
DTSTART;TZID=America/Chicago:20230413T140000
DTEND;TZID=America/Chicago:20230413T150000
DTSTAMP:20260425T232505
CREATED:20230404T150945Z
LAST-MODIFIED:20230404T150945Z
UID:29826-1681394400-1681398000@www.mncorn.org
SUMMARY:MCGA Marketing Webinar with Kluis Commodity Advisors
DESCRIPTION:The Minnesota Corn Growers Association (MCGA) has partnered with Kluis Commodity Advisors (KCA) to hold quarterly marketing webinars following the release of major USDA Crop Reports. A commodity advisor and broker since 1976\, Al Kluis will host each webinar providing valuable insight on how the crop report impacts price projections and marketing decisions.\n\n\n\nRegister here: https://register.gotowebinar.com/rt/77469820507167318?source=MN+Corn.\n\nThe webinar is free to attend.
URL:https://www.mncorn.org/single-event/mcga-marketing-webinar-with-kluis-commodity-advisors-5-2/
LOCATION:MN
CATEGORIES:MCGA Events
END:VEVENT
BEGIN:VEVENT
DTSTART;TZID=America/Chicago:20230413T140000
DTEND;TZID=America/Chicago:20230413T150000
DTSTAMP:20260425T232505
CREATED:20230404T150945Z
LAST-MODIFIED:20230404T150945Z
UID:24578-1681394400-1681398000@www.mncorn.org
SUMMARY:MCGA Marketing Webinar with Kluis Commodity Advisors
DESCRIPTION:The Minnesota Corn Growers Association (MCGA) has partnered with Kluis Commodity Advisors (KCA) to hold quarterly marketing webinars following the release of major USDA Crop Reports. A commodity advisor and broker since 1976\, Al Kluis will host each webinar providing valuable insight on how the crop report impacts price projections and marketing decisions.\n\n\n\nRegister here: https://register.gotowebinar.com/rt/77469820507167318?source=MN+Corn.\n\nThe webinar is free to attend.
URL:https://www.mncorn.org/single-event/mcga-marketing-webinar-with-kluis-commodity-advisors-5/
LOCATION:MN
CATEGORIES:MCGA Events
END:VEVENT
BEGIN:VEVENT
DTSTART;TZID=America/Chicago:20230412T083000
DTEND;TZID=America/Chicago:20230412T163000
DTSTAMP:20260425T232505
CREATED:20230405T211752Z
LAST-MODIFIED:20230405T211752Z
UID:29827-1681288200-1681317000@www.mncorn.org
SUMMARY:Minnesota Corn Growers Association (MCGA) and Minnesota Corn Research & Promotion Council (MCR&PC) joint meeting
DESCRIPTION:See the agenda here.
URL:https://www.mncorn.org/single-event/minnesota-corn-growers-association-mcga-and-minnesota-corn-research-promotion-council-mcrpc-joint-meeting-2/
LOCATION:MN
CATEGORIES:MCGA Events
END:VEVENT
BEGIN:VEVENT
DTSTART;TZID=America/Chicago:20230412T083000
DTEND;TZID=America/Chicago:20230412T163000
DTSTAMP:20260425T232505
CREATED:20230405T211752Z
LAST-MODIFIED:20230405T211752Z
UID:24599-1681288200-1681317000@www.mncorn.org
SUMMARY:Minnesota Corn Growers Association (MCGA) and Minnesota Corn Research & Promotion Council (MCR&PC) joint meeting
DESCRIPTION:See the agenda here.
URL:https://www.mncorn.org/single-event/minnesota-corn-growers-association-mcga-and-minnesota-corn-research-promotion-council-mcrpc-joint-meeting/
LOCATION:MN
CATEGORIES:MCGA Events
END:VEVENT
BEGIN:VEVENT
DTSTART;TZID=America/Chicago:20230301T083000
DTEND;TZID=America/Chicago:20230301T153000
DTSTAMP:20260425T232505
CREATED:20230215T151403Z
LAST-MODIFIED:20230215T151403Z
UID:29819-1677659400-1677684600@www.mncorn.org
SUMMARY:Joint MCGA/MCR&PC meeting
DESCRIPTION:See the agenda here.
URL:https://www.mncorn.org/single-event/joint-mcga-mcrpc-meeting-2-2/
LOCATION:MCGA Office\, Burnsville\, MN\, 500 E Travelers Trail\, Suite 600\, Burnsville\, MN\, 55337\, United States
CATEGORIES:MCGA Events
END:VEVENT
BEGIN:VEVENT
DTSTART;TZID=America/Chicago:20230301T083000
DTEND;TZID=America/Chicago:20230301T153000
DTSTAMP:20260425T232505
CREATED:20230215T151403Z
LAST-MODIFIED:20230223T225241Z
UID:24003-1677659400-1677684600@www.mncorn.org
SUMMARY:Joint MCGA/MCR&PC meeting
DESCRIPTION:See the agenda here.
URL:https://www.mncorn.org/single-event/joint-mcga-mcrpc-meeting-2/
LOCATION:MCGA Office\, Burnsville\, MN\, 500 E Travelers Trail\, Suite 600\, Burnsville\, MN\, 55337\, United States
CATEGORIES:MCGA Events
END:VEVENT
BEGIN:VEVENT
DTSTART;VALUE=DATE:20230105
DTEND;VALUE=DATE:20230106
DTSTAMP:20260425T232505
CREATED:20221229T153026Z
LAST-MODIFIED:20221229T153026Z
UID:29800-1672876800-1672963199@www.mncorn.org
SUMMARY:MCGA & MCR&PC Jt. Board Meeting
DESCRIPTION:Click here for meeting agenda
URL:https://www.mncorn.org/single-event/mcga-mcrpc-jt-board-meeting-9-2/
LOCATION:MN
CATEGORIES:MCGA Events
END:VEVENT
BEGIN:VEVENT
DTSTART;VALUE=DATE:20230105
DTEND;VALUE=DATE:20230106
DTSTAMP:20260425T232505
CREATED:20221229T153026Z
LAST-MODIFIED:20221229T153026Z
UID:23479-1672876800-1672963199@www.mncorn.org
SUMMARY:MCGA & MCR&PC Jt. Board Meeting
DESCRIPTION:Click here for meeting agenda
URL:https://www.mncorn.org/single-event/mcga-mcrpc-jt-board-meeting-9/
LOCATION:MN
CATEGORIES:MCGA Events
END:VEVENT
BEGIN:VEVENT
DTSTART;VALUE=DATE:20221130
DTEND;VALUE=DATE:20221201
DTSTAMP:20260425T232505
CREATED:20221107T170741Z
LAST-MODIFIED:20221107T170741Z
UID:29797-1669766400-1669852799@www.mncorn.org
SUMMARY:MCGA Pre-resolutions meeting
DESCRIPTION:
URL:https://www.mncorn.org/single-event/mcga-pre-resolutions-meeting-3-2/
LOCATION:MN
CATEGORIES:MCGA Events
END:VEVENT
BEGIN:VEVENT
DTSTART;VALUE=DATE:20221130
DTEND;VALUE=DATE:20221201
DTSTAMP:20260425T232505
CREATED:20221107T170741Z
LAST-MODIFIED:20221107T170741Z
UID:23229-1669766400-1669852799@www.mncorn.org
SUMMARY:MCGA Pre-resolutions meeting
DESCRIPTION:
URL:https://www.mncorn.org/single-event/mcga-pre-resolutions-meeting-3/
LOCATION:MN
CATEGORIES:MCGA Events
END:VEVENT
BEGIN:VEVENT
DTSTART;TZID=America/Chicago:20221116T080000
DTEND;TZID=America/Chicago:20221116T103000
DTSTAMP:20260425T232505
CREATED:20221109T215146Z
LAST-MODIFIED:20221109T215146Z
UID:29799-1668585600-1668594600@www.mncorn.org
SUMMARY:Joint MCGA/MCR&PC meeting
DESCRIPTION:See the meeting agenda here. \n 
URL:https://www.mncorn.org/single-event/joint-mcga-mcrpc-meeting-3/
LOCATION:MN
CATEGORIES:MCGA Events
END:VEVENT
BEGIN:VEVENT
DTSTART;TZID=America/Chicago:20221116T080000
DTEND;TZID=America/Chicago:20221116T103000
DTSTAMP:20260425T232505
CREATED:20221109T215146Z
LAST-MODIFIED:20221109T215246Z
UID:23279-1668585600-1668594600@www.mncorn.org
SUMMARY:Joint MCGA/MCR&PC meeting
DESCRIPTION:See the meeting agenda here. \n 
URL:https://www.mncorn.org/single-event/joint-mcga-mcrpc-meeting/
LOCATION:MN
CATEGORIES:MCGA Events
END:VEVENT
BEGIN:VEVENT
DTSTART;TZID=America/Chicago:20220707T140000
DTEND;TZID=America/Chicago:20220707T150000
DTSTAMP:20260425T232505
CREATED:20220614T210214Z
LAST-MODIFIED:20220614T210237Z
UID:22116-1657202400-1657206000@www.mncorn.org
SUMMARY:MCGA Marketing Webinar with Kluis Commodity Advisors
DESCRIPTION:The Minnesota Corn Growers Association (MCGA) partners with Kluis Commodity Advisors (KCA) to hold quarterly marketing webinars following the release of major USDA Crop Reports. A commodity advisor and broker since 1976\, Al Kluis will host each webinar providing valuable insight on how the crop report impacts price projections and marketing decisions. Al will review the June 30th USDA Reports. \n\n\n\nRegister here.
URL:https://www.mncorn.org/single-event/mcga-marketing-webinar-with-kluis-commodity-advisors-3/
LOCATION:MN
CATEGORIES:MCGA Events
END:VEVENT
BEGIN:VEVENT
DTSTART;TZID=America/Chicago:20220707T140000
DTEND;TZID=America/Chicago:20220707T150000
DTSTAMP:20260425T232505
CREATED:20220614T210214Z
LAST-MODIFIED:20220614T210214Z
UID:29765-1657202400-1657206000@www.mncorn.org
SUMMARY:MCGA Marketing Webinar with Kluis Commodity Advisors
DESCRIPTION:The Minnesota Corn Growers Association (MCGA) partners with Kluis Commodity Advisors (KCA) to hold quarterly marketing webinars following the release of major USDA Crop Reports. A commodity advisor and broker since 1976\, Al Kluis will host each webinar providing valuable insight on how the crop report impacts price projections and marketing decisions. Al will review the June 30th USDA Reports. \n\n\n\nRegister here.
URL:https://www.mncorn.org/single-event/mcga-marketing-webinar-with-kluis-commodity-advisors-3-2/
LOCATION:MN
CATEGORIES:MCGA Events
END:VEVENT
BEGIN:VEVENT
DTSTART;VALUE=DATE:20220622
DTEND;VALUE=DATE:20220623
DTSTAMP:20260425T232505
CREATED:20220615T193505Z
LAST-MODIFIED:20220615T193505Z
UID:29766-1655856000-1655942399@www.mncorn.org
SUMMARY:MCGA & MCRPC Jt. Board Meeting
DESCRIPTION:MCGA/MCR&PC Joint Board Meeting draft agenda
URL:https://www.mncorn.org/single-event/mcga-mcrpc-jt-board-meeting-8-2/
LOCATION:MCGA Office\, Burnsville\, MN\, 500 E Travelers Trail\, Suite 600\, Burnsville\, MN\, 55337\, United States
CATEGORIES:MCGA Events
END:VEVENT
BEGIN:VEVENT
DTSTART;VALUE=DATE:20220622
DTEND;VALUE=DATE:20220623
DTSTAMP:20260425T232505
CREATED:20220615T193505Z
LAST-MODIFIED:20220615T193505Z
UID:22123-1655856000-1655942399@www.mncorn.org
SUMMARY:MCGA & MCRPC Jt. Board Meeting
DESCRIPTION:MCGA/MCR&PC Joint Board Meeting draft agenda
URL:https://www.mncorn.org/single-event/mcga-mcrpc-jt-board-meeting-8/
LOCATION:MCGA Office\, Burnsville\, MN\, 500 E Travelers Trail\, Suite 600\, Burnsville\, MN\, 55337\, United States
CATEGORIES:MCGA Events
END:VEVENT
BEGIN:VEVENT
DTSTART;VALUE=DATE:20220429
DTEND;VALUE=DATE:20220430
DTSTAMP:20260425T232505
CREATED:20220321T222805Z
LAST-MODIFIED:20220321T222805Z
UID:29737-1651190400-1651276799@www.mncorn.org
SUMMARY:MCRPC Results Available
DESCRIPTION:
URL:https://www.mncorn.org/single-event/mcrpc-results-available-2/
LOCATION:MN
CATEGORIES:MCGA Events
END:VEVENT
BEGIN:VEVENT
DTSTART;VALUE=DATE:20220429
DTEND;VALUE=DATE:20220430
DTSTAMP:20260425T232505
CREATED:20220321T222805Z
LAST-MODIFIED:20220321T222805Z
UID:21002-1651190400-1651276799@www.mncorn.org
SUMMARY:MCRPC Results Available
DESCRIPTION:
URL:https://www.mncorn.org/single-event/mcrpc-results-available/
LOCATION:MN
CATEGORIES:MCGA Events
END:VEVENT
BEGIN:VEVENT
DTSTART;TZID=America/Chicago:20220412T140000
DTEND;TZID=America/Chicago:20220412T150000
DTSTAMP:20260425T232505
CREATED:20220322T155911Z
LAST-MODIFIED:20220322T155911Z
UID:29738-1649772000-1649775600@www.mncorn.org
SUMMARY:MCGA Marketing Webinar with Kluis Commodity Advisors
DESCRIPTION:This quarterly webinar will cover the April WASDE report. \nRegister here: https://attendee.gotowebinar.com/rt/2275485915048870672?source=MN+Corn \nThe Minnesota Corn Growers Association partners with Kluis Commodity Advisors on quarterly marketing webinars following the release of major USDA crop reports. The webinars are hosted by the firm’s managing director\, longtime commodity advisor and broker Al Kluis. He and his team provide insight into how the reports impact price projections and marketing decisions\, and they review and update ending stocks for corn and soybeans and their likely impact on basis in Minnesota.
URL:https://www.mncorn.org/single-event/mcga-marketing-webinar-with-kluis-commodity-advisors-2-2/
LOCATION:MN
CATEGORIES:Educational/Learning Opportunities,MCGA Events
END:VEVENT
BEGIN:VEVENT
DTSTART;TZID=America/Chicago:20220412T140000
DTEND;TZID=America/Chicago:20220412T150000
DTSTAMP:20260425T232505
CREATED:20220322T155911Z
LAST-MODIFIED:20220322T155911Z
UID:21006-1649772000-1649775600@www.mncorn.org
SUMMARY:MCGA Marketing Webinar with Kluis Commodity Advisors
DESCRIPTION:This quarterly webinar will cover the April WASDE report. \nRegister here: https://attendee.gotowebinar.com/rt/2275485915048870672?source=MN+Corn \nThe Minnesota Corn Growers Association partners with Kluis Commodity Advisors on quarterly marketing webinars following the release of major USDA crop reports. The webinars are hosted by the firm’s managing director\, longtime commodity advisor and broker Al Kluis. He and his team provide insight into how the reports impact price projections and marketing decisions\, and they review and update ending stocks for corn and soybeans and their likely impact on basis in Minnesota.
URL:https://www.mncorn.org/single-event/mcga-marketing-webinar-with-kluis-commodity-advisors-2/
LOCATION:MN
CATEGORIES:Educational/Learning Opportunities,MCGA Events
END:VEVENT
END:VCALENDAR