BEGIN:VCALENDAR
VERSION:2.0
PRODID:-//Minnesota Corn Growers Association - ECPv6.15.20//NONSGML v1.0//EN
CALSCALE:GREGORIAN
METHOD:PUBLISH
X-WR-CALNAME:Minnesota Corn Growers Association
X-ORIGINAL-URL:https://www.mncorn.org
X-WR-CALDESC:Events for Minnesota Corn Growers Association
REFRESH-INTERVAL;VALUE=DURATION:PT1H
X-Robots-Tag:noindex
X-PUBLISHED-TTL:PT1H
BEGIN:VTIMEZONE
TZID:America/Chicago
BEGIN:DAYLIGHT
TZOFFSETFROM:-0600
TZOFFSETTO:-0500
TZNAME:CDT
DTSTART:20220313T080000
END:DAYLIGHT
BEGIN:STANDARD
TZOFFSETFROM:-0500
TZOFFSETTO:-0600
TZNAME:CST
DTSTART:20221106T070000
END:STANDARD
BEGIN:DAYLIGHT
TZOFFSETFROM:-0600
TZOFFSETTO:-0500
TZNAME:CDT
DTSTART:20230312T080000
END:DAYLIGHT
BEGIN:STANDARD
TZOFFSETFROM:-0500
TZOFFSETTO:-0600
TZNAME:CST
DTSTART:20231105T070000
END:STANDARD
BEGIN:DAYLIGHT
TZOFFSETFROM:-0600
TZOFFSETTO:-0500
TZNAME:CDT
DTSTART:20240310T080000
END:DAYLIGHT
BEGIN:STANDARD
TZOFFSETFROM:-0500
TZOFFSETTO:-0600
TZNAME:CST
DTSTART:20241103T070000
END:STANDARD
BEGIN:DAYLIGHT
TZOFFSETFROM:-0600
TZOFFSETTO:-0500
TZNAME:CDT
DTSTART:20250309T080000
END:DAYLIGHT
BEGIN:STANDARD
TZOFFSETFROM:-0500
TZOFFSETTO:-0600
TZNAME:CST
DTSTART:20251102T070000
END:STANDARD
END:VTIMEZONE
BEGIN:VEVENT
DTSTART;TZID=America/Chicago:20240111T100000
DTEND;TZID=America/Chicago:20240111T100000
DTSTAMP:20260425T225139
CREATED:20231116T185633Z
LAST-MODIFIED:20231116T185633Z
UID:26416-1704967200-1704967200@www.mncorn.org
SUMMARY:Benton/Sherburne Corn Growers Annual Meeting
DESCRIPTION:Join the Benton/Sherburne Corn Growers at their annual meeting! \n  \nDate: January 11 \nTime: 10:00am \nLocation: Jack & Jims’s \n  \n 
URL:https://www.mncorn.org/single-event/benton-sherburne-corn-growers-annual-meeting/
LOCATION:Jack & Jim’s Event Center\, 11025 Duelm Rd NE\, Foley\, MN\, 56329\, United States
CATEGORIES:County Events
END:VEVENT
BEGIN:VEVENT
DTSTART;TZID=America/Chicago:20240111T100000
DTEND;TZID=America/Chicago:20240111T100000
DTSTAMP:20260425T225139
CREATED:20231116T185633Z
LAST-MODIFIED:20231116T185633Z
UID:29900-1704967200-1704967200@www.mncorn.org
SUMMARY:Benton/Sherburne Corn Growers Annual Meeting
DESCRIPTION:Join the Benton/Sherburne Corn Growers at their annual meeting! \n  \nDate: January 11 \nTime: 10:00am \nLocation: Jack & Jims’s \n  \n 
URL:https://www.mncorn.org/single-event/benton-sherburne-corn-growers-annual-meeting-2/
LOCATION:Jack & Jim’s Event Center\, 11025 Duelm Rd NE\, Foley\, MN\, 56329\, United States
CATEGORIES:County Events
END:VEVENT
BEGIN:VEVENT
DTSTART;TZID=America/Chicago:20240111T083000
DTEND;TZID=America/Chicago:20240111T083000
DTSTAMP:20260425T225139
CREATED:20240105T142753Z
LAST-MODIFIED:20240105T142753Z
UID:26673-1704961800-1704961800@www.mncorn.org
SUMMARY:Winter Crops Day
DESCRIPTION:This is an educational event open to the public and held at the Southern Research and Outreach Center\, Waseca. Receive emails for upcoming events of the Southern Research and Outreach Center Email your address to: nelso191@umn.edu \nLearn more about the event here.
URL:https://www.mncorn.org/single-event/winter-crops-day/
LOCATION:Southern Outreach and Research Center\, 35838 120th Street\, Waseca\, MN
CATEGORIES:Educational/Learning Opportunities,General Ag Events
END:VEVENT
BEGIN:VEVENT
DTSTART;TZID=America/Chicago:20240111T083000
DTEND;TZID=America/Chicago:20240111T083000
DTSTAMP:20260425T225139
CREATED:20240105T142753Z
LAST-MODIFIED:20240105T142753Z
UID:29917-1704961800-1704961800@www.mncorn.org
SUMMARY:Winter Crops Day
DESCRIPTION:This is an educational event open to the public and held at the Southern Research and Outreach Center\, Waseca. Receive emails for upcoming events of the Southern Research and Outreach Center Email your address to: nelso191@umn.edu \nLearn more about the event here.
URL:https://www.mncorn.org/single-event/winter-crops-day-2/
LOCATION:Southern Outreach and Research Center\, 35838 120th Street\, Waseca\, MN
CATEGORIES:Educational/Learning Opportunities,General Ag Events
END:VEVENT
BEGIN:VEVENT
DTSTART;TZID=America/Chicago:20240110T120000
DTEND;TZID=America/Chicago:20240110T120000
DTSTAMP:20260425T225139
CREATED:20231213T164714Z
LAST-MODIFIED:20231213T164714Z
UID:29912-1704888000-1704888000@www.mncorn.org
SUMMARY:Polk County Corn-Soybean Growers Annual Meeting
DESCRIPTION:Join the Polk County Corn-Soybean Growers at their Annual Meeting! \nWednesday\, January 1012:00 p.m. \nLocation: Crookston Inn*Held in conjunction with West Polk County Crop Improvement
URL:https://www.mncorn.org/single-event/polk-county-corn-soybean-growers-annual-meeting-2/
LOCATION:Crookston Inn\, 2200 University Ave\, Crookston\, MN\, 56716\, United States
CATEGORIES:County Events
END:VEVENT
BEGIN:VEVENT
DTSTART;TZID=America/Chicago:20240110T120000
DTEND;TZID=America/Chicago:20240110T120000
DTSTAMP:20260425T225139
CREATED:20231213T164714Z
LAST-MODIFIED:20231213T164714Z
UID:26588-1704888000-1704888000@www.mncorn.org
SUMMARY:Polk County Corn-Soybean Growers Annual Meeting
DESCRIPTION:Join the Polk County Corn-Soybean Growers at their Annual Meeting! \nWednesday\, January 1012:00 p.m. \nLocation: Crookston Inn*Held in conjunction with West Polk County Crop Improvement
URL:https://www.mncorn.org/single-event/polk-county-corn-soybean-growers-annual-meeting/
LOCATION:Crookston Inn\, 2200 University Ave\, Crookston\, MN\, 56716\, United States
CATEGORIES:County Events
END:VEVENT
BEGIN:VEVENT
DTSTART;TZID=America/Chicago:20240110T080000
DTEND;TZID=America/Chicago:20240110T080000
DTSTAMP:20260425T225139
CREATED:20231213T163425Z
LAST-MODIFIED:20231213T165240Z
UID:26584-1704873600-1704873600@www.mncorn.org
SUMMARY:Norman County Corn-Soybean Growers Annual Meeting
DESCRIPTION:Norman County Corn-Soybean Growers Annual Meeting \nWednesday\, January 108:00 a.m. \nLocation: Ada Event Center*Lunch served \n*In conjunction with Norman County Ag Day
URL:https://www.mncorn.org/single-event/norman-county-corn-soybean-growers-annual-meeting/
LOCATION:Ada Event Center\, 415 W Main St\, Ada\, MN\, 56510
CATEGORIES:County Events
END:VEVENT
BEGIN:VEVENT
DTSTART;TZID=America/Chicago:20240110T080000
DTEND;TZID=America/Chicago:20240110T080000
DTSTAMP:20260425T225139
CREATED:20231213T163425Z
LAST-MODIFIED:20231213T163425Z
UID:29911-1704873600-1704873600@www.mncorn.org
SUMMARY:Norman County Corn-Soybean Growers Annual Meeting
DESCRIPTION:Norman County Corn-Soybean Growers Annual Meeting \nWednesday\, January 108:00 a.m. \nLocation: Ada Event Center*Lunch served \n*In conjunction with Norman County Ag Day
URL:https://www.mncorn.org/single-event/norman-county-corn-soybean-growers-annual-meeting-2/
LOCATION:Ada Event Center\, 415 W Main St\, Ada\, MN\, 56510
CATEGORIES:County Events
END:VEVENT
BEGIN:VEVENT
DTSTART;TZID=America/Chicago:20240109T120000
DTEND;TZID=America/Chicago:20240109T120000
DTSTAMP:20260425T225139
CREATED:20231213T162913Z
LAST-MODIFIED:20231213T163503Z
UID:26581-1704801600-1704801600@www.mncorn.org
SUMMARY:Clay/Wilkin County Corn-Soybean Growers Annual Meeting
DESCRIPTION:Clay/Wilkin County Corn-Soybean Growers Annual Meeting\nTuesday\, January 9\n12:00 p.m. \nLocation: Dilworth Community Center\n*Lunch served
URL:https://www.mncorn.org/single-event/clay-wilkin-county-corn-soybean-growers-annual-meeting-2/
LOCATION:Dilworth Community Center\, 709 1st Ave NW\, Dilworth\, MN\, 56529
CATEGORIES:County Events
END:VEVENT
BEGIN:VEVENT
DTSTART;TZID=America/Chicago:20240109T120000
DTEND;TZID=America/Chicago:20240109T120000
DTSTAMP:20260425T225139
CREATED:20231213T162913Z
LAST-MODIFIED:20231213T162913Z
UID:29910-1704801600-1704801600@www.mncorn.org
SUMMARY:Clay/Wilkin County Corn-Soybean Growers Annual Meeting
DESCRIPTION:Clay/Wilkin County Corn-Soybean Growers Annual Meeting\nTuesday\, January 9\n12:00 p.m. \nLocation: Dilworth Community Center\n*Lunch served
URL:https://www.mncorn.org/single-event/clay-wilkin-county-corn-soybean-growers-annual-meeting-2-2/
LOCATION:Dilworth Community Center\, 709 1st Ave NW\, Dilworth\, MN\, 56529
CATEGORIES:County Events
END:VEVENT
BEGIN:VEVENT
DTSTART;TZID=America/Chicago:20240108T180000
DTEND;TZID=America/Chicago:20240108T180000
DTSTAMP:20260425T225139
CREATED:20240103T205844Z
LAST-MODIFIED:20240103T205844Z
UID:26669-1704736800-1704736800@www.mncorn.org
SUMMARY:Olmsted/Wabasha County Corn & Soybean Growers Annual Meeting
DESCRIPTION:Join the Olmsted/Wabasha Corn & Soybean Growers for their Annual Meeting at Blacktop Bar & Grill on January 8! \n6:00pm Registration \n6:30pm Banquet followed by Annual Meeting
URL:https://www.mncorn.org/single-event/olmsted-wabasha-county-corn-soybean-growers-annual-meeting/
LOCATION:Blacktop Bar & Grill\, 30 Main St E\, Elgin\, MN\, 55932
CATEGORIES:County Events
END:VEVENT
BEGIN:VEVENT
DTSTART;TZID=America/Chicago:20240108T180000
DTEND;TZID=America/Chicago:20240108T180000
DTSTAMP:20260425T225139
CREATED:20240103T205844Z
LAST-MODIFIED:20240103T205844Z
UID:29916-1704736800-1704736800@www.mncorn.org
SUMMARY:Olmsted/Wabasha County Corn & Soybean Growers Annual Meeting
DESCRIPTION:Join the Olmsted/Wabasha Corn & Soybean Growers for their Annual Meeting at Blacktop Bar & Grill on January 8! \n6:00pm Registration \n6:30pm Banquet followed by Annual Meeting
URL:https://www.mncorn.org/single-event/olmsted-wabasha-county-corn-soybean-growers-annual-meeting-2/
LOCATION:Blacktop Bar & Grill\, 30 Main St E\, Elgin\, MN\, 55932
CATEGORIES:County Events
END:VEVENT
BEGIN:VEVENT
DTSTART;VALUE=DATE:20240104
DTEND;VALUE=DATE:20240105
DTSTAMP:20260425T225139
CREATED:20231207T150457Z
LAST-MODIFIED:20231226T203238Z
UID:26550-1704326400-1704412799@www.mncorn.org
SUMMARY:MCGA/MCRPC Jt. Board Meeting
DESCRIPTION:MN Corn Agenda January 4 2024 Final
URL:https://www.mncorn.org/single-event/mcga-mcrpc-jt-board-meeting-11/
LOCATION:MCGA Office\, Burnsville\, MN\, 500 E Travelers Trail\, Suite 600\, Burnsville\, MN\, 55337\, United States
CATEGORIES:MCGA Events
END:VEVENT
BEGIN:VEVENT
DTSTART;VALUE=DATE:20240104
DTEND;VALUE=DATE:20240105
DTSTAMP:20260425T225139
CREATED:20231207T150457Z
LAST-MODIFIED:20231207T150457Z
UID:29906-1704326400-1704412799@www.mncorn.org
SUMMARY:MCGA/MCRPC Jt. Board Meeting
DESCRIPTION:MN Corn Agenda January 4 2024 Final
URL:https://www.mncorn.org/single-event/mcga-mcrpc-jt-board-meeting-11-2/
LOCATION:MCGA Office\, Burnsville\, MN\, 500 E Travelers Trail\, Suite 600\, Burnsville\, MN\, 55337\, United States
CATEGORIES:MCGA Events
END:VEVENT
BEGIN:VEVENT
DTSTART;TZID=America/Chicago:20231211T150000
DTEND;TZID=America/Chicago:20231211T180000
DTSTAMP:20260425T225139
CREATED:20231120T213903Z
LAST-MODIFIED:20231121T153522Z
UID:26445-1702306800-1702317600@www.mncorn.org
SUMMARY:Wright/Hennepin Corn Growers Fuel Event
DESCRIPTION:Wright/Hennepin Corn Growers Fuel Promotion \nDate: December 11 \nTime: 3:00-6:00pm \nPlace: The Pit Stop \n620 Dutch Lake Dr\, Howard Lake\, MN 55349 \n  \n$0.88 off per gallon of Unleaded 88 \n(limit of 20 gallons) \n(Unleaded 88 is approved for all passenger vehicles 2001 and newer) \n  \n 
URL:https://www.mncorn.org/single-event/hennepin-wright-corn-growers-fuel-event/
LOCATION:Howard Lake Pit Stop Minnoco\, 620 Dutch Lake Dr\, Howard Lake\, MN\, 55349\, United States
CATEGORIES:County Events
END:VEVENT
BEGIN:VEVENT
DTSTART;TZID=America/Chicago:20231211T150000
DTEND;TZID=America/Chicago:20231211T180000
DTSTAMP:20260425T225139
CREATED:20231120T213903Z
LAST-MODIFIED:20231120T213903Z
UID:29903-1702306800-1702317600@www.mncorn.org
SUMMARY:Wright/Hennepin Corn Growers Fuel Event
DESCRIPTION:Wright/Hennepin Corn Growers Fuel Promotion \nDate: December 11 \nTime: 3:00-6:00pm \nPlace: The Pit Stop \n620 Dutch Lake Dr\, Howard Lake\, MN 55349 \n  \n$0.88 off per gallon of Unleaded 88 \n(limit of 20 gallons) \n(Unleaded 88 is approved for all passenger vehicles 2001 and newer) \n  \n 
URL:https://www.mncorn.org/single-event/hennepin-wright-corn-growers-fuel-event-2/
LOCATION:Howard Lake Pit Stop Minnoco\, 620 Dutch Lake Dr\, Howard Lake\, MN\, 55349\, United States
CATEGORIES:County Events
END:VEVENT
BEGIN:VEVENT
DTSTART;VALUE=DATE:20231207
DTEND;VALUE=DATE:20231209
DTSTAMP:20260425T225139
CREATED:20230615T192454Z
LAST-MODIFIED:20230615T192454Z
UID:24980-1701907200-1702079999@www.mncorn.org
SUMMARY:2023 Soil Management Summit
DESCRIPTION:The Soil Management Summit emphasizes proven farmer experience and applied science. Straight from the fields\, learn how heavier\, colder soils aren’t necessarily the challenge they’re made out to be. Hear from long-time no-till\, reduced tillage\, and cover crop farmers as they share their experiences\, so you can be spared the same hard-learned lessons. \nThe summit features presentations and Q&A with researchers\, farmers and agricultural advisors\, information from sponsors\, and conversations with farmers experienced in different soil health practices. \nThose who attend the entire conference can earn Certified Crop Adviser continuing education units (CEUs). \nRegistration scholarships will be available for interested producers. Contact Shane Bugeja for more information\, sbugeja@umn.edu. \nFor more information about this event\, contact Jodi DeJong-Hughes\, dejon003@umn.edu. \nThe Soil Management Summit is presented by University of Minnesota Extension and the Minnesota Office for Soil Health.
URL:https://www.mncorn.org/single-event/2023-soil-management-summit/
LOCATION:Arrowwood Resort and Conference Center\, 2100 Arrowwood Lane NW\, Alexandria\, Minnesota\, 56308
CATEGORIES:General Ag Events
END:VEVENT
BEGIN:VEVENT
DTSTART;VALUE=DATE:20231207
DTEND;VALUE=DATE:20231209
DTSTAMP:20260425T225139
CREATED:20230615T192454Z
LAST-MODIFIED:20230615T192454Z
UID:29849-1701907200-1702079999@www.mncorn.org
SUMMARY:2023 Soil Management Summit
DESCRIPTION:The Soil Management Summit emphasizes proven farmer experience and applied science. Straight from the fields\, learn how heavier\, colder soils aren’t necessarily the challenge they’re made out to be. Hear from long-time no-till\, reduced tillage\, and cover crop farmers as they share their experiences\, so you can be spared the same hard-learned lessons. \nThe summit features presentations and Q&A with researchers\, farmers and agricultural advisors\, information from sponsors\, and conversations with farmers experienced in different soil health practices. \nThose who attend the entire conference can earn Certified Crop Adviser continuing education units (CEUs). \nRegistration scholarships will be available for interested producers. Contact Shane Bugeja for more information\, sbugeja@umn.edu. \nFor more information about this event\, contact Jodi DeJong-Hughes\, dejon003@umn.edu. \nThe Soil Management Summit is presented by University of Minnesota Extension and the Minnesota Office for Soil Health.
URL:https://www.mncorn.org/single-event/2023-soil-management-summit-2/
LOCATION:Arrowwood Resort and Conference Center\, 2100 Arrowwood Lane NW\, Alexandria\, Minnesota\, 56308
CATEGORIES:General Ag Events
END:VEVENT
BEGIN:VEVENT
DTSTART;TZID=America/Chicago:20231201T083000
DTEND;TZID=America/Chicago:20231201T083000
DTSTAMP:20260425T225139
CREATED:20231107T163823Z
LAST-MODIFIED:20231107T163823Z
UID:26321-1701419400-1701419400@www.mncorn.org
SUMMARY:Nicollet/Sibley County Corn & Soybean Growers Plot Results Meeting
DESCRIPTION:2023 Plot Results Meeting \nJoin us for breakfast as we share our 2023 corn plot results and get an update from Craig Tomera of Grain Millers. Craig is an Identity Preserved Crop Specialist\, CCA\, and Sustainability Specialist. \nFriday\, December 1\nBreakfast: 8:30am\nResults Analysis: 9:00am\nSpeaker to follow \nLafayette Community Center\n540 7th St.\nLafayette\, MN 56054 \n 
URL:https://www.mncorn.org/single-event/nicollet-sibley-county-corn-soybean-growers-plot-results-meeting/
LOCATION:Lafayette Community Center\, 540 7th St\, Lafayette\, MN\, 56054
CATEGORIES:County Events
END:VEVENT
BEGIN:VEVENT
DTSTART;TZID=America/Chicago:20231201T083000
DTEND;TZID=America/Chicago:20231201T083000
DTSTAMP:20260425T225139
CREATED:20231107T163823Z
LAST-MODIFIED:20231107T163823Z
UID:29894-1701419400-1701419400@www.mncorn.org
SUMMARY:Nicollet/Sibley County Corn & Soybean Growers Plot Results Meeting
DESCRIPTION:2023 Plot Results Meeting \nJoin us for breakfast as we share our 2023 corn plot results and get an update from Craig Tomera of Grain Millers. Craig is an Identity Preserved Crop Specialist\, CCA\, and Sustainability Specialist. \nFriday\, December 1\nBreakfast: 8:30am\nResults Analysis: 9:00am\nSpeaker to follow \nLafayette Community Center\n540 7th St.\nLafayette\, MN 56054 \n 
URL:https://www.mncorn.org/single-event/nicollet-sibley-county-corn-soybean-growers-plot-results-meeting-2/
LOCATION:Lafayette Community Center\, 540 7th St\, Lafayette\, MN\, 56054
CATEGORIES:County Events
END:VEVENT
BEGIN:VEVENT
DTSTART;VALUE=DATE:20231129
DTEND;VALUE=DATE:20231130
DTSTAMP:20260425T225139
CREATED:20231107T145929Z
LAST-MODIFIED:20231107T145929Z
UID:26315-1701216000-1701302399@www.mncorn.org
SUMMARY:MCGA Pre-Resolutions Meeting
DESCRIPTION:
URL:https://www.mncorn.org/single-event/mcga-pre-resolutions-meeting-4/
LOCATION:MN
CATEGORIES:MCGA Events
END:VEVENT
BEGIN:VEVENT
DTSTART;VALUE=DATE:20231129
DTEND;VALUE=DATE:20231130
DTSTAMP:20260425T225139
CREATED:20231107T145929Z
LAST-MODIFIED:20231107T145929Z
UID:29893-1701216000-1701302399@www.mncorn.org
SUMMARY:MCGA Pre-Resolutions Meeting
DESCRIPTION:
URL:https://www.mncorn.org/single-event/mcga-pre-resolutions-meeting-4-2/
LOCATION:MN
CATEGORIES:MCGA Events
END:VEVENT
BEGIN:VEVENT
DTSTART;TZID=America/Chicago:20231123T183000
DTEND;TZID=America/Chicago:20231123T183000
DTSTAMP:20260425T225139
CREATED:20231116T171028Z
LAST-MODIFIED:20231116T171028Z
UID:26399-1700764200-1700764200@www.mncorn.org
SUMMARY:Brown County Corn & Soybean Growers Annual Meeting
DESCRIPTION:Tuesday\, November 21\, 2023\nSocial at 6:30 p.m. with handmade pizza\,\nfollowed by annual meeting & 2023 plot results \nSleepy Eye Brewing Company\n121 Main St. W\, Sleepy Eye\, MN \nSpeakers: Bruce Potter is an Extension\nIntegrated Pest Management (IPM) Specialist\nat the University of Minnesota Southwest\nResearch and Outreach Center near Lamberton. \nA legislative update will also be provided after\nthe annual meeting. \n  \n2023 Annual Meeting
URL:https://www.mncorn.org/single-event/brown-county-corn-soybean-growers-annual-meeting/
LOCATION:Sleepy Eye Brewing Company\, 121 Main St W\, Sleepy Eye\, MN
CATEGORIES:County Events
END:VEVENT
BEGIN:VEVENT
DTSTART;TZID=America/Chicago:20231123T183000
DTEND;TZID=America/Chicago:20231123T183000
DTSTAMP:20260425T225139
CREATED:20231116T171028Z
LAST-MODIFIED:20231116T171028Z
UID:29895-1700764200-1700764200@www.mncorn.org
SUMMARY:Brown County Corn & Soybean Growers Annual Meeting
DESCRIPTION:Tuesday\, November 21\, 2023\nSocial at 6:30 p.m. with handmade pizza\,\nfollowed by annual meeting & 2023 plot results \nSleepy Eye Brewing Company\n121 Main St. W\, Sleepy Eye\, MN \nSpeakers: Bruce Potter is an Extension\nIntegrated Pest Management (IPM) Specialist\nat the University of Minnesota Southwest\nResearch and Outreach Center near Lamberton. \nA legislative update will also be provided after\nthe annual meeting. \n  \n2023 Annual Meeting
URL:https://www.mncorn.org/single-event/brown-county-corn-soybean-growers-annual-meeting-2/
LOCATION:Sleepy Eye Brewing Company\, 121 Main St W\, Sleepy Eye\, MN
CATEGORIES:County Events
END:VEVENT
BEGIN:VEVENT
DTSTART;VALUE=DATE:20231122
DTEND;VALUE=DATE:20231123
DTSTAMP:20260425T225139
CREATED:20231107T145851Z
LAST-MODIFIED:20231115T212307Z
UID:26312-1700611200-1700697599@www.mncorn.org
SUMMARY:MCGA/MCRPC Jt. Board Meeting
DESCRIPTION:View the agenda here.
URL:https://www.mncorn.org/single-event/mcga-mcrpc-jt-board-meeting-10/
LOCATION:MN
CATEGORIES:MCGA Events
END:VEVENT
BEGIN:VEVENT
DTSTART;VALUE=DATE:20231122
DTEND;VALUE=DATE:20231123
DTSTAMP:20260425T225139
CREATED:20231107T145851Z
LAST-MODIFIED:20231107T145851Z
UID:29892-1700611200-1700697599@www.mncorn.org
SUMMARY:MCGA/MCRPC Jt. Board Meeting
DESCRIPTION:View the agenda here.
URL:https://www.mncorn.org/single-event/mcga-mcrpc-jt-board-meeting-10-2/
LOCATION:MN
CATEGORIES:MCGA Events
END:VEVENT
BEGIN:VEVENT
DTSTART;TZID=America/Chicago:20231114T083000
DTEND;TZID=America/Chicago:20231114T083000
DTSTAMP:20260425T225139
CREATED:20230919T172003Z
LAST-MODIFIED:20231009T191331Z
UID:25882-1699950600-1699950600@www.mncorn.org
SUMMARY:Renville County Corn & Soybean Growers Plot Results Meeting
DESCRIPTION:Tuesday\, November 14 \nBreakfast: 8:30am \nSpeakers to follow \n  \nLocation: Max’s Grill & Sheep Shedde Inn \n2425 W Lincoln Ave\, \nOlivia\, MN 56277 \n  \n\nJoin us for breakfast as we share our 2023 corn plot results and get agronomy updates from: \nJim Emter\, Van Ahn and Company\, Inc.\, CEO Understand\, Simplify\, and Thrive in Ag Marketing \nBruce Potter\, U of MN IPM Specialist\, Lamberton Research and Outreach Center Corn Rootworm and an IPM Update \nDave Nicolai\, U of MN Crops Educator Waterhemp: Is Herbicide Resistance Increasing or is it just a Bad Weed? \n\n  \n 
URL:https://www.mncorn.org/single-event/renville-county-corn-soybean-growers-plot-results-meeting/
LOCATION:Max’s Bar and Grill\, 2425 W Lincoln Ave\, Olivia\, MN\, 56277\, United States
CATEGORIES:County Events
END:VEVENT
BEGIN:VEVENT
DTSTART;TZID=America/Chicago:20231114T083000
DTEND;TZID=America/Chicago:20231114T083000
DTSTAMP:20260425T225139
CREATED:20230919T172003Z
LAST-MODIFIED:20230919T172003Z
UID:29891-1699950600-1699950600@www.mncorn.org
SUMMARY:Renville County Corn & Soybean Growers Plot Results Meeting
DESCRIPTION:Tuesday\, November 14 \nBreakfast: 8:30am \nSpeakers to follow \n  \nLocation: Max’s Grill & Sheep Shedde Inn \n2425 W Lincoln Ave\, \nOlivia\, MN 56277 \n  \n\nJoin us for breakfast as we share our 2023 corn plot results and get agronomy updates from: \nJim Emter\, Van Ahn and Company\, Inc.\, CEO Understand\, Simplify\, and Thrive in Ag Marketing \nBruce Potter\, U of MN IPM Specialist\, Lamberton Research and Outreach Center Corn Rootworm and an IPM Update \nDave Nicolai\, U of MN Crops Educator Waterhemp: Is Herbicide Resistance Increasing or is it just a Bad Weed? \n\n  \n 
URL:https://www.mncorn.org/single-event/renville-county-corn-soybean-growers-plot-results-meeting-2/
LOCATION:Max’s Bar and Grill\, 2425 W Lincoln Ave\, Olivia\, MN\, 56277\, United States
CATEGORIES:County Events
END:VEVENT
BEGIN:VEVENT
DTSTART;TZID=America/Chicago:20230915T160000
DTEND;TZID=America/Chicago:20230915T180000
DTSTAMP:20260425T225139
CREATED:20230823T181113Z
LAST-MODIFIED:20230823T181113Z
UID:25678-1694793600-1694800800@www.mncorn.org
SUMMARY:Todd County Corn & Soybean Growers Fuel Event
DESCRIPTION:September 15\, 2023 \n4:00-6:00pm \nCoburn’s/Little Dukes \nLong Prairie\, MN \n  \n2:00-6:00pm Corn Grocery Giveaway \n  \nDiscounts \nE-15 – $1.15 off/gal \nE-30 – $1.30 off/gal \nE-85 – $0.85/gal \nBiodiesel – $1.20 off/gal \n*25 gal MAZIMUM on all fuels \n*E15 approved for all passenger vehicles 2001 and newer.\n*E85 & E30 are for use in Flex Fuel Vehicles (FFVs) only. \n  \n*Brought to you by Todd County Corn & Soybean Growers and their checkoffs
URL:https://www.mncorn.org/single-event/todd-county-corn-soybean-growers-fuel-event/
LOCATION:Coborn’s Long Prairie\, 645 Lake St S\, Long Prairie\, MN\, 56347
CATEGORIES:County Events
END:VEVENT
BEGIN:VEVENT
DTSTART;TZID=America/Chicago:20230915T160000
DTEND;TZID=America/Chicago:20230915T180000
DTSTAMP:20260425T225139
CREATED:20230823T181113Z
LAST-MODIFIED:20230823T181113Z
UID:29879-1694793600-1694800800@www.mncorn.org
SUMMARY:Todd County Corn & Soybean Growers Fuel Event
DESCRIPTION:September 15\, 2023 \n4:00-6:00pm \nCoburn’s/Little Dukes \nLong Prairie\, MN \n  \n2:00-6:00pm Corn Grocery Giveaway \n  \nDiscounts \nE-15 – $1.15 off/gal \nE-30 – $1.30 off/gal \nE-85 – $0.85/gal \nBiodiesel – $1.20 off/gal \n*25 gal MAZIMUM on all fuels \n*E15 approved for all passenger vehicles 2001 and newer.\n*E85 & E30 are for use in Flex Fuel Vehicles (FFVs) only. \n  \n*Brought to you by Todd County Corn & Soybean Growers and their checkoffs
URL:https://www.mncorn.org/single-event/todd-county-corn-soybean-growers-fuel-event-2/
LOCATION:Coborn’s Long Prairie\, 645 Lake St S\, Long Prairie\, MN\, 56347
CATEGORIES:County Events
END:VEVENT
END:VCALENDAR