BEGIN:VCALENDAR
VERSION:2.0
PRODID:-//Minnesota Corn Growers Association - ECPv6.15.20//NONSGML v1.0//EN
CALSCALE:GREGORIAN
METHOD:PUBLISH
X-WR-CALNAME:Minnesota Corn Growers Association
X-ORIGINAL-URL:https://www.mncorn.org
X-WR-CALDESC:Events for Minnesota Corn Growers Association
REFRESH-INTERVAL;VALUE=DURATION:PT1H
X-Robots-Tag:noindex
X-PUBLISHED-TTL:PT1H
BEGIN:VTIMEZONE
TZID:America/Chicago
BEGIN:DAYLIGHT
TZOFFSETFROM:-0600
TZOFFSETTO:-0500
TZNAME:CDT
DTSTART:20230312T080000
END:DAYLIGHT
BEGIN:STANDARD
TZOFFSETFROM:-0500
TZOFFSETTO:-0600
TZNAME:CST
DTSTART:20231105T070000
END:STANDARD
BEGIN:DAYLIGHT
TZOFFSETFROM:-0600
TZOFFSETTO:-0500
TZNAME:CDT
DTSTART:20240310T080000
END:DAYLIGHT
BEGIN:STANDARD
TZOFFSETFROM:-0500
TZOFFSETTO:-0600
TZNAME:CST
DTSTART:20241103T070000
END:STANDARD
BEGIN:DAYLIGHT
TZOFFSETFROM:-0600
TZOFFSETTO:-0500
TZNAME:CDT
DTSTART:20250309T080000
END:DAYLIGHT
BEGIN:STANDARD
TZOFFSETFROM:-0500
TZOFFSETTO:-0600
TZNAME:CST
DTSTART:20251102T070000
END:STANDARD
END:VTIMEZONE
BEGIN:VEVENT
DTSTART;TZID=America/Chicago:20240327T111500
DTEND;TZID=America/Chicago:20240327T150000
DTSTAMP:20260425T085148
CREATED:20240314T193841Z
LAST-MODIFIED:20240314T193841Z
UID:27080-1711538100-1711551600@www.mncorn.org
SUMMARY:Fillmore SWCD spring farmers meeting
DESCRIPTION:Southeast Minnesota corn growers are invited to an upcoming meeting hosted by the Fillmore Soil and Water Conservation District focused on nitrates\, groundwater\, and nutrient management. The meeting will be held on March 27 from 11:15 a.m. to 3 p.m. at the Fountain Community Center (95 Main Street\, Fountain\, MN 55935). The event is free\, but growers are asked to register by March 22. \nThe meeting will cover the state’s plan to address nitrates in southeast Minnesota\, best practices for fertilizing corn in the region\, and the Minnesota Agricultural Water Quality Certification Program. Lunch will be provided. \nGrowers can register for the event by calling or texting the Fillmore SWCD office at 507-887-0240 or emailing Theresa Baker. Learn more about the event on the Fillmore SWCD website. \n\n11:15 – Registration Opens\n11:30 – Free Lunch\n12:00 – SWCD Intro\n12:15 – MN Dept of Health\n12:40 – MN Dept of Ag\n1:05 – Break\n1:15 – MN Pollution Control Agency\n1:40 – MN Ag Water Quality Cert Program\n2:05 – Q & A Panel\n3:00 – Door Prizes
URL:https://www.mncorn.org/single-event/fillmore-swcd-spring-farmers-meeting/
LOCATION:Fountain Community Center\, 95 Main Street\, Fountain\, MN\, 55935
CATEGORIES:Educational/Learning Opportunities,General Ag Events
END:VEVENT
BEGIN:VEVENT
DTSTART;TZID=America/Chicago:20240327T111500
DTEND;TZID=America/Chicago:20240327T150000
DTSTAMP:20260425T085148
CREATED:20240314T193841Z
LAST-MODIFIED:20240314T193841Z
UID:29931-1711538100-1711551600@www.mncorn.org
SUMMARY:Fillmore SWCD spring farmers meeting
DESCRIPTION:Southeast Minnesota corn growers are invited to an upcoming meeting hosted by the Fillmore Soil and Water Conservation District focused on nitrates\, groundwater\, and nutrient management. The meeting will be held on March 27 from 11:15 a.m. to 3 p.m. at the Fountain Community Center (95 Main Street\, Fountain\, MN 55935). The event is free\, but growers are asked to register by March 22. \nThe meeting will cover the state’s plan to address nitrates in southeast Minnesota\, best practices for fertilizing corn in the region\, and the Minnesota Agricultural Water Quality Certification Program. Lunch will be provided. \nGrowers can register for the event by calling or texting the Fillmore SWCD office at 507-887-0240 or emailing Theresa Baker. Learn more about the event on the Fillmore SWCD website. \n\n11:15 – Registration Opens\n11:30 – Free Lunch\n12:00 – SWCD Intro\n12:15 – MN Dept of Health\n12:40 – MN Dept of Ag\n1:05 – Break\n1:15 – MN Pollution Control Agency\n1:40 – MN Ag Water Quality Cert Program\n2:05 – Q & A Panel\n3:00 – Door Prizes
URL:https://www.mncorn.org/single-event/fillmore-swcd-spring-farmers-meeting-2/
LOCATION:Fountain Community Center\, 95 Main Street\, Fountain\, MN\, 55935
CATEGORIES:Educational/Learning Opportunities,General Ag Events
END:VEVENT
BEGIN:VEVENT
DTSTART;TZID=America/Chicago:20240326T090000
DTEND;TZID=America/Chicago:20240326T113000
DTSTAMP:20260425T085148
CREATED:20240320T161536Z
LAST-MODIFIED:20240320T161615Z
UID:27113-1711443600-1711452600@www.mncorn.org
SUMMARY:3rd Annual Multi-State Discovery Farms Webinar
DESCRIPTION:Register here \nOn March 26\, 2024 the Discovery Farms® Programs in Wisconsin\, Vermont\, Arkansas and Minnesota will host a virtual webinar titled “Emerging Contaminants and Water Quality: The Importance of On-Farm Research”. Join this interactive webinar to learn more about farmer-led water quality research in these four states and how the Discovery Farms® network is responding to emerging concerns. This 2 ½ hour webinar will begin at 9:00 am Central Time and 10:00 am Eastern Time. CEUs will be available.
URL:https://www.mncorn.org/single-event/3rd-annual-multi-state-discovery-farms-webinar/
CATEGORIES:Educational/Learning Opportunities,General Ag Events
END:VEVENT
BEGIN:VEVENT
DTSTART;TZID=America/Chicago:20240326T090000
DTEND;TZID=America/Chicago:20240326T113000
DTSTAMP:20260425T085148
CREATED:20240320T161536Z
LAST-MODIFIED:20240320T161536Z
UID:29933-1711443600-1711452600@www.mncorn.org
SUMMARY:3rd Annual Multi-State Discovery Farms Webinar
DESCRIPTION:Register here \nOn March 26\, 2024 the Discovery Farms® Programs in Wisconsin\, Vermont\, Arkansas and Minnesota will host a virtual webinar titled “Emerging Contaminants and Water Quality: The Importance of On-Farm Research”. Join this interactive webinar to learn more about farmer-led water quality research in these four states and how the Discovery Farms® network is responding to emerging concerns. This 2 ½ hour webinar will begin at 9:00 am Central Time and 10:00 am Eastern Time. CEUs will be available.
URL:https://www.mncorn.org/single-event/3rd-annual-multi-state-discovery-farms-webinar-2/
CATEGORIES:Educational/Learning Opportunities,General Ag Events
END:VEVENT
BEGIN:VEVENT
DTSTART;TZID=America/Chicago:20240325T170000
DTEND;TZID=America/Chicago:20240325T170000
DTSTAMP:20260425T085148
CREATED:20231116T172231Z
LAST-MODIFIED:20240301T190255Z
UID:26414-1711386000-1711386000@www.mncorn.org
SUMMARY:Redwood County Corn Growers Annual Meeting
DESCRIPTION:The Redwood County Corn & Soybean Growers invite you to their annual meeting on March 25th! \n  \nLocation: Wabasso Community Center \n1429 Front St\, Wabasso\, MN 56293 \n  \nSocial Hour: 5:00pm \nSupper: 6:00pm \nMeeting: 7:00pm
URL:https://www.mncorn.org/single-event/redwood-county-corn-growers-annual-meeting/
LOCATION:Wabasso Community Center\, 1429 Front St\, Wabasso\, MN\, 56293
CATEGORIES:County Events
END:VEVENT
BEGIN:VEVENT
DTSTART;TZID=America/Chicago:20240325T170000
DTEND;TZID=America/Chicago:20240325T170000
DTSTAMP:20260425T085148
CREATED:20231116T172231Z
LAST-MODIFIED:20231116T172231Z
UID:29899-1711386000-1711386000@www.mncorn.org
SUMMARY:Redwood County Corn Growers Annual Meeting
DESCRIPTION:The Redwood County Corn & Soybean Growers invite you to their annual meeting on March 25th! \n  \nLocation: Wabasso Community Center \n1429 Front St\, Wabasso\, MN 56293 \n  \nSocial Hour: 5:00pm \nSupper: 6:00pm \nMeeting: 7:00pm
URL:https://www.mncorn.org/single-event/redwood-county-corn-growers-annual-meeting-2/
LOCATION:Wabasso Community Center\, 1429 Front St\, Wabasso\, MN\, 56293
CATEGORIES:County Events
END:VEVENT
BEGIN:VEVENT
DTSTART;TZID=America/Chicago:20240321T173000
DTEND;TZID=America/Chicago:20240321T173000
DTSTAMP:20260425T085148
CREATED:20240301T190039Z
LAST-MODIFIED:20240301T190039Z
UID:29930-1711042200-1711042200@www.mncorn.org
SUMMARY:Blue Earth County Corn & Soybean Growers Annual Meeting
DESCRIPTION:The Blue Earth County Corn and Soybean Growers would like to invite you to their annual meeting on Thursday\, March 21st! \n  \n5:30pm Social \nWith a supper\, meeting\, & speaker to follow \n  \nLocation: American Legion \n600 County Rd 20 \nLake Crystal\, MN 56055
URL:https://www.mncorn.org/single-event/blue-earth-county-corn-soybean-growers-annual-meeting-2-2/
LOCATION:Lake Crystal American Legion\, 600 County Rd 20\, Lake Crystal\, MN\, 56055\, United States
CATEGORIES:County Events
END:VEVENT
BEGIN:VEVENT
DTSTART;TZID=America/Chicago:20240321T173000
DTEND;TZID=America/Chicago:20240321T173000
DTSTAMP:20260425T085148
CREATED:20240301T190039Z
LAST-MODIFIED:20240301T190039Z
UID:27032-1711042200-1711042200@www.mncorn.org
SUMMARY:Blue Earth County Corn & Soybean Growers Annual Meeting
DESCRIPTION:The Blue Earth County Corn and Soybean Growers would like to invite you to their annual meeting on Thursday\, March 21st! \n  \n5:30pm Social \nWith a supper\, meeting\, & speaker to follow \n  \nLocation: American Legion \n600 County Rd 20 \nLake Crystal\, MN 56055
URL:https://www.mncorn.org/single-event/blue-earth-county-corn-soybean-growers-annual-meeting-2/
LOCATION:Lake Crystal American Legion\, 600 County Rd 20\, Lake Crystal\, MN\, 56055\, United States
CATEGORIES:County Events
END:VEVENT
BEGIN:VEVENT
DTSTART;TZID=America/Chicago:20240321T173000
DTEND;TZID=America/Chicago:20240321T173000
DTSTAMP:20260425T085148
CREATED:20240213T150142Z
LAST-MODIFIED:20240219T151959Z
UID:26897-1711042200-1711042200@www.mncorn.org
SUMMARY:Todd County Corn & Soybean Growers Annual Meeting
DESCRIPTION:The Todd County Corn & Soybean Growers invite you to their\nannual meeting on Thursday\, March 21st at the Clarissa\nBallroom in Clarissa\, MN. The annual meeting will include\nupdates from the county organization\, MN Corn and MN\nSoybean and a keynote address from Joe Smentek\, executive\ndirector of the Minnesota Soybean Growers Association. \n  \nSocial – 5:30 p.m.\nMeal – 6:00 p.m.\nAnnual Meeting – 6:45 p.m. \n  \nLocation: \nClarissa Ballroom \n19281 kotter Rd\, Clarissa\, MN 56440 \n  \nFY24 Todd Annual Postcard 8.5×5.5
URL:https://www.mncorn.org/single-event/todd-county-corn-soybean-growers-annual-meeting-2/
LOCATION:Clarissa Ballroom\, 19281 Kotter Rd\, Clarissa\, MN\, 56440\, United States
CATEGORIES:County Events
END:VEVENT
BEGIN:VEVENT
DTSTART;TZID=America/Chicago:20240321T173000
DTEND;TZID=America/Chicago:20240321T173000
DTSTAMP:20260425T085148
CREATED:20240213T150142Z
LAST-MODIFIED:20240213T150142Z
UID:29923-1711042200-1711042200@www.mncorn.org
SUMMARY:Todd County Corn & Soybean Growers Annual Meeting
DESCRIPTION:The Todd County Corn & Soybean Growers invite you to their\nannual meeting on Thursday\, March 21st at the Clarissa\nBallroom in Clarissa\, MN. The annual meeting will include\nupdates from the county organization\, MN Corn and MN\nSoybean and a keynote address from Joe Smentek\, executive\ndirector of the Minnesota Soybean Growers Association. \n  \nSocial – 5:30 p.m.\nMeal – 6:00 p.m.\nAnnual Meeting – 6:45 p.m. \n  \nLocation: \nClarissa Ballroom \n19281 kotter Rd\, Clarissa\, MN 56440 \n  \nFY24 Todd Annual Postcard 8.5×5.5
URL:https://www.mncorn.org/single-event/todd-county-corn-soybean-growers-annual-meeting-2-2/
LOCATION:Clarissa Ballroom\, 19281 Kotter Rd\, Clarissa\, MN\, 56440\, United States
CATEGORIES:County Events
END:VEVENT
BEGIN:VEVENT
DTSTART;TZID=America/Chicago:20240321T173000
DTEND;TZID=America/Chicago:20240321T173000
DTSTAMP:20260425T085148
CREATED:20231201T192956Z
LAST-MODIFIED:20240318T143947Z
UID:26512-1711042200-1711042200@www.mncorn.org
SUMMARY:Nicollet/Sibley County Corn & Soybean Growers Annual Meeting
DESCRIPTION:Join the Nicollet/Sibley County Corn & Soybean Growers at their annual meeting! \nDate: March 21st \nLocation: The Warehouse \n106 Carver St N\, Winthrop\, MN 55396 \nTime: 5:30pm Supper \n6:30pm Annual Meeting \n7:00pm Speaker
URL:https://www.mncorn.org/single-event/nicollet-sibley-county-corn-soybean-growers-annual-meeting-2/
LOCATION:The Warehouse\, 106 Carver St N\, Winthrop\, MN\, 55396\, United States
CATEGORIES:County Events
END:VEVENT
BEGIN:VEVENT
DTSTART;TZID=America/Chicago:20240321T173000
DTEND;TZID=America/Chicago:20240321T173000
DTSTAMP:20260425T085148
CREATED:20231201T192956Z
LAST-MODIFIED:20231201T192956Z
UID:29904-1711042200-1711042200@www.mncorn.org
SUMMARY:Nicollet/Sibley County Corn & Soybean Growers Annual Meeting
DESCRIPTION:Join the Nicollet/Sibley County Corn & Soybean Growers at their annual meeting! \nDate: March 21st \nLocation: The Warehouse \n106 Carver St N\, Winthrop\, MN 55396 \nTime: 5:30pm Supper \n6:30pm Annual Meeting \n7:00pm Speaker
URL:https://www.mncorn.org/single-event/nicollet-sibley-county-corn-soybean-growers-annual-meeting-2-2/
LOCATION:The Warehouse\, 106 Carver St N\, Winthrop\, MN\, 55396\, United States
CATEGORIES:County Events
END:VEVENT
BEGIN:VEVENT
DTSTART;TZID=America/Chicago:20240321T110000
DTEND;TZID=America/Chicago:20240321T120000
DTSTAMP:20260425T085148
CREATED:20240320T161054Z
LAST-MODIFIED:20240320T161054Z
UID:27109-1711018800-1711022400@www.mncorn.org
SUMMARY:Farmamerica Drainage Water Management Webinar
DESCRIPTION:Register here. \nDiscovery Farms – Farmamerica Drainage Water Management Project \nMarch 21st – 11 to Noon – Zoom Webinar \n• 11:00-11:15 Drainage water management project introduction\, site layout\, & design – Tim Radatz\, Discovery Farms Minnesota\n• 11:15-11:30 2023 Farmamerica data review – Scott Matteson\, MDA\n• 11:30-11:45 Farmamerica history & upcoming events – Jessica Rollins\, Farmamerica\n• 11:45-12:00 Southeast Minnesota Nitrogen update – Warren Formo\, MAWRC
URL:https://www.mncorn.org/single-event/farmamerica-drainage-water-management-webinar/
CATEGORIES:Educational/Learning Opportunities,General Ag Events
END:VEVENT
BEGIN:VEVENT
DTSTART;TZID=America/Chicago:20240321T110000
DTEND;TZID=America/Chicago:20240321T120000
DTSTAMP:20260425T085148
CREATED:20240320T161054Z
LAST-MODIFIED:20240320T161054Z
UID:29932-1711018800-1711022400@www.mncorn.org
SUMMARY:Farmamerica Drainage Water Management Webinar
DESCRIPTION:Register here. \nDiscovery Farms – Farmamerica Drainage Water Management Project \nMarch 21st – 11 to Noon – Zoom Webinar \n• 11:00-11:15 Drainage water management project introduction\, site layout\, & design – Tim Radatz\, Discovery Farms Minnesota\n• 11:15-11:30 2023 Farmamerica data review – Scott Matteson\, MDA\n• 11:30-11:45 Farmamerica history & upcoming events – Jessica Rollins\, Farmamerica\n• 11:45-12:00 Southeast Minnesota Nitrogen update – Warren Formo\, MAWRC
URL:https://www.mncorn.org/single-event/farmamerica-drainage-water-management-webinar-2/
CATEGORIES:Educational/Learning Opportunities,General Ag Events
END:VEVENT
BEGIN:VEVENT
DTSTART;TZID=America/Chicago:20240320T120000
DTEND;TZID=America/Chicago:20240320T120000
DTSTAMP:20260425T085148
CREATED:20240301T185104Z
LAST-MODIFIED:20240301T185104Z
UID:27028-1710936000-1710936000@www.mncorn.org
SUMMARY:Dodge County Corn & Soybean Growers Annual Meeting
DESCRIPTION:The Dodge County Corn & Soybean Growers invite you to their annual meeting on Wednesday\, March 20th! It will be a noon lunch followed by their annual meeting & a speaker. \n  \nLocation: American Legion \n401 Hwy St W\, \nDodge Center\, MN 55927
URL:https://www.mncorn.org/single-event/dodge-county-corn-soybean-growers-annual-meeting/
LOCATION:American Legion\, 401 Hwy St W\, Dodge Center\, MN\, 55927
CATEGORIES:County Events
END:VEVENT
BEGIN:VEVENT
DTSTART;TZID=America/Chicago:20240320T120000
DTEND;TZID=America/Chicago:20240320T120000
DTSTAMP:20260425T085148
CREATED:20240301T185104Z
LAST-MODIFIED:20240301T185104Z
UID:29929-1710936000-1710936000@www.mncorn.org
SUMMARY:Dodge County Corn & Soybean Growers Annual Meeting
DESCRIPTION:The Dodge County Corn & Soybean Growers invite you to their annual meeting on Wednesday\, March 20th! It will be a noon lunch followed by their annual meeting & a speaker. \n  \nLocation: American Legion \n401 Hwy St W\, \nDodge Center\, MN 55927
URL:https://www.mncorn.org/single-event/dodge-county-corn-soybean-growers-annual-meeting-2/
LOCATION:American Legion\, 401 Hwy St W\, Dodge Center\, MN\, 55927
CATEGORIES:County Events
END:VEVENT
BEGIN:VEVENT
DTSTART;TZID=America/Chicago:20240320T103000
DTEND;TZID=America/Chicago:20240320T103000
DTSTAMP:20260425T085148
CREATED:20240212T195446Z
LAST-MODIFIED:20240212T195446Z
UID:29922-1710930600-1710930600@www.mncorn.org
SUMMARY:Wright/Hennepin County Corn Growers Annual Meeting
DESCRIPTION:Join the Wright/Hennepin County Corn Growers for their 2024 Annual Meeting! \nWednesday\, March 20\, 2024 \nRegistration: 10:30am \nSpeaker: 11:00am \nLocation\nHuikko’s Bowling Center\n1207 MN-25\, Buffalo\, MN \nSpeaker: Thom Petersen\nThom Petersen was appointed Commissioner of the Minnesota Department of Agriculture in 2019 and reappointed in 2023. He has a wide range of experience in state and federal farm policy\, and travels to almost every county in Minnesota each year to fully understand how these policies affect farmers’ daily lives. \n 
URL:https://www.mncorn.org/single-event/wright-hennepin-county-corn-growers-annual-meeting-2-2/
LOCATION:Huikko’s Bowling & Entertainment Center – Buffalo\, MN\, 1207 MN-25\, Buffalo\, MN\, 55313\, United States
CATEGORIES:County Events
END:VEVENT
BEGIN:VEVENT
DTSTART;TZID=America/Chicago:20240320T103000
DTEND;TZID=America/Chicago:20240320T103000
DTSTAMP:20260425T085148
CREATED:20240212T195446Z
LAST-MODIFIED:20240213T150516Z
UID:26893-1710930600-1710930600@www.mncorn.org
SUMMARY:Wright/Hennepin County Corn Growers Annual Meeting
DESCRIPTION:Join the Wright/Hennepin County Corn Growers for their 2024 Annual Meeting! \nWednesday\, March 20\, 2024 \nRegistration: 10:30am \nSpeaker: 11:00am \nLocation\nHuikko’s Bowling Center\n1207 MN-25\, Buffalo\, MN \nSpeaker: Thom Petersen\nThom Petersen was appointed Commissioner of the Minnesota Department of Agriculture in 2019 and reappointed in 2023. He has a wide range of experience in state and federal farm policy\, and travels to almost every county in Minnesota each year to fully understand how these policies affect farmers’ daily lives. \n 
URL:https://www.mncorn.org/single-event/wright-hennepin-county-corn-growers-annual-meeting-2/
LOCATION:Huikko’s Bowling & Entertainment Center – Buffalo\, MN\, 1207 MN-25\, Buffalo\, MN\, 55313\, United States
CATEGORIES:County Events
END:VEVENT
BEGIN:VEVENT
DTSTART;TZID=America/Chicago:20240319T171500
DTEND;TZID=America/Chicago:20240319T171500
DTSTAMP:20260425T085148
CREATED:20240215T153821Z
LAST-MODIFIED:20240215T190442Z
UID:26921-1710868500-1710868500@www.mncorn.org
SUMMARY:Winona County Corn Growers Promoting Modern Agriculture (PMA) Event
DESCRIPTION:Winona County Corn Growers Promoting Modern Agriculture (PMA) Event on March 19 \n  \nTime: 5:15pm Registration and Social Hour \n6:00pm Meal with speaker to follow \n  \nLocation: Witoka Tavern & Reception Hall \n27999 County Rd 9\, Winona\, MN 55987
URL:https://www.mncorn.org/single-event/winona-county-corn-soybean-growers-promoting-modern-agriculture-pma-event/
LOCATION:Witoka Tavern & Reception Hall\, 27999 County Rd 9\, Winona\, Minnesota\, 55987
CATEGORIES:County Events
END:VEVENT
BEGIN:VEVENT
DTSTART;TZID=America/Chicago:20240319T171500
DTEND;TZID=America/Chicago:20240319T171500
DTSTAMP:20260425T085148
CREATED:20240215T153821Z
LAST-MODIFIED:20240215T153821Z
UID:29925-1710868500-1710868500@www.mncorn.org
SUMMARY:Winona County Corn Growers Promoting Modern Agriculture (PMA) Event
DESCRIPTION:Winona County Corn Growers Promoting Modern Agriculture (PMA) Event on March 19 \n  \nTime: 5:15pm Registration and Social Hour \n6:00pm Meal with speaker to follow \n  \nLocation: Witoka Tavern & Reception Hall \n27999 County Rd 9\, Winona\, MN 55987
URL:https://www.mncorn.org/single-event/winona-county-corn-soybean-growers-promoting-modern-agriculture-pma-event-2/
LOCATION:Witoka Tavern & Reception Hall\, 27999 County Rd 9\, Winona\, Minnesota\, 55987
CATEGORIES:County Events
END:VEVENT
BEGIN:VEVENT
DTSTART;TZID=America/Chicago:20240318T170000
DTEND;TZID=America/Chicago:20240318T170000
DTSTAMP:20260425T085148
CREATED:20231116T192056Z
LAST-MODIFIED:20231116T192056Z
UID:26422-1710781200-1710781200@www.mncorn.org
SUMMARY:Renville County Corn & Soybean Growers Annual Meeting
DESCRIPTION:Join Renville County Corn & Soybean Growers for their Annual Meeting! \n  \nDate: March 18 \nLocation: Max’s Grill \nSocial: 5:00pm \nSupper: 6:00pm \nEntertainment: 7:00pm
URL:https://www.mncorn.org/single-event/renville-county-corn-soybean-growers-annual-meeting-2/
LOCATION:Max’s Bar and Grill\, 2425 W Lincoln Ave\, Olivia\, MN\, 56277\, United States
CATEGORIES:County Events
END:VEVENT
BEGIN:VEVENT
DTSTART;TZID=America/Chicago:20240318T170000
DTEND;TZID=America/Chicago:20240318T170000
DTSTAMP:20260425T085148
CREATED:20231116T192056Z
LAST-MODIFIED:20231116T192056Z
UID:29902-1710781200-1710781200@www.mncorn.org
SUMMARY:Renville County Corn & Soybean Growers Annual Meeting
DESCRIPTION:Join Renville County Corn & Soybean Growers for their Annual Meeting! \n  \nDate: March 18 \nLocation: Max’s Grill \nSocial: 5:00pm \nSupper: 6:00pm \nEntertainment: 7:00pm
URL:https://www.mncorn.org/single-event/renville-county-corn-soybean-growers-annual-meeting-2-2/
LOCATION:Max’s Bar and Grill\, 2425 W Lincoln Ave\, Olivia\, MN\, 56277\, United States
CATEGORIES:County Events
END:VEVENT
BEGIN:VEVENT
DTSTART;TZID=America/Chicago:20240313T173000
DTEND;TZID=America/Chicago:20240313T173000
DTSTAMP:20260425T085148
CREATED:20240215T152520Z
LAST-MODIFIED:20240215T152520Z
UID:26918-1710351000-1710351000@www.mncorn.org
SUMMARY:Mower County Corn & Soybean Growers Annual Meeting
DESCRIPTION:Join the Mower County Corn & Soybean Growers for their Annual Meeting on March 13th! \n  \nTime: 5:30pm Social Hour \n6:00pm Dinner followed by annual meeting and speaker \n  \nLocation: American Legion \n321 W Main St \nAdams\, MN \n  \nSpeaker: Kent Thiesse \nKent Thiesse is a Farm Management Analyst based in south\ncentral Minnesota. He recently retired after a 20-year career\nas Vice President and Chief Ag Loan Officer for MinnStar\nBank in Lake Crystal\, MN. Prior to that time\, Thiesse\nserved as an Extension Educator in farm management\nand marketing with the University of Minnesota (U of M)\nExtension Service. He has both a masters and bachelor’s\ndegree in agriculture from the U of M. He writes a weekly\ncolumn titled “FOCUS ON AG” that’s distributed to Midwest\nagriculture publications\, websites and to a weekly e-mail\nlist. He is also a frequent speaker on farm management\ntopics\, and serves as the coordinator for the feature forums\nat FARMFEST each year. \n  \nMower annual postcard
URL:https://www.mncorn.org/single-event/mower-county-corn-soybean-growers-annual-meeting/
LOCATION:Adams American Legion\, 321 W Main St\, Adams\, 55909\, United States
CATEGORIES:County Events
END:VEVENT
BEGIN:VEVENT
DTSTART;TZID=America/Chicago:20240313T173000
DTEND;TZID=America/Chicago:20240313T173000
DTSTAMP:20260425T085148
CREATED:20240215T152520Z
LAST-MODIFIED:20240215T152520Z
UID:29924-1710351000-1710351000@www.mncorn.org
SUMMARY:Mower County Corn & Soybean Growers Annual Meeting
DESCRIPTION:Join the Mower County Corn & Soybean Growers for their Annual Meeting on March 13th! \n  \nTime: 5:30pm Social Hour \n6:00pm Dinner followed by annual meeting and speaker \n  \nLocation: American Legion \n321 W Main St \nAdams\, MN \n  \nSpeaker: Kent Thiesse \nKent Thiesse is a Farm Management Analyst based in south\ncentral Minnesota. He recently retired after a 20-year career\nas Vice President and Chief Ag Loan Officer for MinnStar\nBank in Lake Crystal\, MN. Prior to that time\, Thiesse\nserved as an Extension Educator in farm management\nand marketing with the University of Minnesota (U of M)\nExtension Service. He has both a masters and bachelor’s\ndegree in agriculture from the U of M. He writes a weekly\ncolumn titled “FOCUS ON AG” that’s distributed to Midwest\nagriculture publications\, websites and to a weekly e-mail\nlist. He is also a frequent speaker on farm management\ntopics\, and serves as the coordinator for the feature forums\nat FARMFEST each year. \n  \nMower annual postcard
URL:https://www.mncorn.org/single-event/mower-county-corn-soybean-growers-annual-meeting-2/
LOCATION:Adams American Legion\, 321 W Main St\, Adams\, 55909\, United States
CATEGORIES:County Events
END:VEVENT
BEGIN:VEVENT
DTSTART;TZID=America/Chicago:20240313T110000
DTEND;TZID=America/Chicago:20240313T110000
DTSTAMP:20260425T085148
CREATED:20240229T162408Z
LAST-MODIFIED:20240229T162408Z
UID:27018-1710327600-1710327600@www.mncorn.org
SUMMARY:Stearns County Corn Growers 2024 Annual Meeting
DESCRIPTION:Join the Stearns County Corn Growers for their Annual Meeting! \nWednesday\, March 13\, 2024 \n  \nLocation: Greenwald Pub \n310 1st Ave N\, Greenwald\, MN \n  \n11:00am Annual Meeting \nLunch to follow \n  \nSpeaker: Steve Frericks – FSA County Executive Director \n  \nStearns County Annual Meeting 2024 (1)
URL:https://www.mncorn.org/single-event/stearns-county-corn-growers-2024-annual-meeting/
LOCATION:Greenwald Pub\, 310 1st Ave N\, Greenwald\, MN\, 56335\, United States
CATEGORIES:County Events
END:VEVENT
BEGIN:VEVENT
DTSTART;TZID=America/Chicago:20240313T110000
DTEND;TZID=America/Chicago:20240313T110000
DTSTAMP:20260425T085148
CREATED:20240229T162408Z
LAST-MODIFIED:20240229T162408Z
UID:29927-1710327600-1710327600@www.mncorn.org
SUMMARY:Stearns County Corn Growers 2024 Annual Meeting
DESCRIPTION:Join the Stearns County Corn Growers for their Annual Meeting! \nWednesday\, March 13\, 2024 \n  \nLocation: Greenwald Pub \n310 1st Ave N\, Greenwald\, MN \n  \n11:00am Annual Meeting \nLunch to follow \n  \nSpeaker: Steve Frericks – FSA County Executive Director \n  \nStearns County Annual Meeting 2024 (1)
URL:https://www.mncorn.org/single-event/stearns-county-corn-growers-2024-annual-meeting-2/
LOCATION:Greenwald Pub\, 310 1st Ave N\, Greenwald\, MN\, 56335\, United States
CATEGORIES:County Events
END:VEVENT
BEGIN:VEVENT
DTSTART;TZID=America/Chicago:20240311T170000
DTEND;TZID=America/Chicago:20240311T170000
DTSTAMP:20260425T085148
CREATED:20240229T165338Z
LAST-MODIFIED:20240229T165338Z
UID:27021-1710176400-1710176400@www.mncorn.org
SUMMARY:Yellow Medicine County Corn & Soybean Growers Annual Meeting
DESCRIPTION:Join the Yellow Medicine County Corn & Soybean Growers for their Annual Meeting! \nMonday\, March 11\, 2024 \n  \nLocation: The Rock \n1940 11th Ave\, Granite Falls\, MN \n  \n5:00pm Social \n5:30pm Supper followed by annual meeting and entertainment\, magician Maxwell Fleet \n  \nPlease RSVP by March 1 to \nEric Jahn: 320-841-0018 \nWalk-In’s Welcome \n  \nYellow med annual mtg postcard
URL:https://www.mncorn.org/single-event/yellow-medicine-county-corn-soybean-growers-annual-meeting-2/
LOCATION:The Rock\, 1940 11th Ave\, Granite Falls\, MN\, 56241
CATEGORIES:County Events
END:VEVENT
BEGIN:VEVENT
DTSTART;TZID=America/Chicago:20240311T170000
DTEND;TZID=America/Chicago:20240311T170000
DTSTAMP:20260425T085148
CREATED:20240229T165338Z
LAST-MODIFIED:20240229T165338Z
UID:29928-1710176400-1710176400@www.mncorn.org
SUMMARY:Yellow Medicine County Corn & Soybean Growers Annual Meeting
DESCRIPTION:Join the Yellow Medicine County Corn & Soybean Growers for their Annual Meeting! \nMonday\, March 11\, 2024 \n  \nLocation: The Rock \n1940 11th Ave\, Granite Falls\, MN \n  \n5:00pm Social \n5:30pm Supper followed by annual meeting and entertainment\, magician Maxwell Fleet \n  \nPlease RSVP by March 1 to \nEric Jahn: 320-841-0018 \nWalk-In’s Welcome \n  \nYellow med annual mtg postcard
URL:https://www.mncorn.org/single-event/yellow-medicine-county-corn-soybean-growers-annual-meeting-2-2/
LOCATION:The Rock\, 1940 11th Ave\, Granite Falls\, MN\, 56241
CATEGORIES:County Events
END:VEVENT
BEGIN:VEVENT
DTSTART;TZID=America/Chicago:20240229T180000
DTEND;TZID=America/Chicago:20240229T180000
DTSTAMP:20260425T085148
CREATED:20231213T165020Z
LAST-MODIFIED:20231213T165020Z
UID:26590-1709229600-1709229600@www.mncorn.org
SUMMARY:Douglas County Corn-Soybean Growers Annual Meeting
DESCRIPTION:Join the Douglas County Corn-Soybean Growers for their Annual Meeting! \nThursday\, February 29 \nLocation: Broadway Ballroom Event Center\, Alexandria \n6:00 pm Social \n6:30 pm Dinner
URL:https://www.mncorn.org/single-event/douglas-county-corn-soybean-growers-annual-meeting-4/
LOCATION:Broadway Ballroom Event Center\, 115 30th Ave E\, Alexandria\, MN\, 56308
END:VEVENT
BEGIN:VEVENT
DTSTART;TZID=America/Chicago:20240229T180000
DTEND;TZID=America/Chicago:20240229T180000
DTSTAMP:20260425T085148
CREATED:20231213T165020Z
LAST-MODIFIED:20231213T165020Z
UID:29913-1709229600-1709229600@www.mncorn.org
SUMMARY:Douglas County Corn-Soybean Growers Annual Meeting
DESCRIPTION:Join the Douglas County Corn-Soybean Growers for their Annual Meeting! \nThursday\, February 29 \nLocation: Broadway Ballroom Event Center\, Alexandria \n6:00 pm Social \n6:30 pm Dinner
URL:https://www.mncorn.org/single-event/douglas-county-corn-soybean-growers-annual-meeting-4-2/
LOCATION:Broadway Ballroom Event Center\, 115 30th Ave E\, Alexandria\, MN\, 56308
END:VEVENT
END:VCALENDAR