BEGIN:VCALENDAR
VERSION:2.0
PRODID:-//Minnesota Corn Growers Association - ECPv6.15.20//NONSGML v1.0//EN
CALSCALE:GREGORIAN
METHOD:PUBLISH
X-WR-CALNAME:Minnesota Corn Growers Association
X-ORIGINAL-URL:https://www.mncorn.org
X-WR-CALDESC:Events for Minnesota Corn Growers Association
REFRESH-INTERVAL;VALUE=DURATION:PT1H
X-Robots-Tag:noindex
X-PUBLISHED-TTL:PT1H
BEGIN:VTIMEZONE
TZID:America/Chicago
BEGIN:DAYLIGHT
TZOFFSETFROM:-0600
TZOFFSETTO:-0500
TZNAME:CDT
DTSTART:20240310T080000
END:DAYLIGHT
BEGIN:STANDARD
TZOFFSETFROM:-0500
TZOFFSETTO:-0600
TZNAME:CST
DTSTART:20241103T070000
END:STANDARD
BEGIN:DAYLIGHT
TZOFFSETFROM:-0600
TZOFFSETTO:-0500
TZNAME:CDT
DTSTART:20250309T080000
END:DAYLIGHT
BEGIN:STANDARD
TZOFFSETFROM:-0500
TZOFFSETTO:-0600
TZNAME:CST
DTSTART:20251102T070000
END:STANDARD
BEGIN:DAYLIGHT
TZOFFSETFROM:-0600
TZOFFSETTO:-0500
TZNAME:CDT
DTSTART:20260308T080000
END:DAYLIGHT
BEGIN:STANDARD
TZOFFSETFROM:-0500
TZOFFSETTO:-0600
TZNAME:CST
DTSTART:20261101T070000
END:STANDARD
END:VTIMEZONE
BEGIN:VEVENT
DTSTART;TZID=America/Chicago:20250721T100000
DTEND;TZID=America/Chicago:20250721T100000
DTSTAMP:20260425T083400
CREATED:20250630T143826Z
LAST-MODIFIED:20250630T143826Z
UID:33401-1753092000-1753092000@www.mncorn.org
SUMMARY:Nicollet/Sibley County Corn & Soybean Growers Golf Tournament - New Date!
DESCRIPTION:The Nicollet/Sibley County Corn & Soybean Growers are holding their Cobs & Pods Golf Tournament on Monday\, July 21 at the Winthrop Golf Course. This is a rescheduled date! \n  \nThree rounds with tee times of 10:00am\, 1:00pm and 3:00pm\nCome for as many rounds as you’d like! Cost includes cart & meals:\nOne Round – $40\, Two Rounds – $65\, Three Rounds – $80 \n  \nBest Ball Tournament & awards for the top team of 4 in each round\nHole-in-One on hole #5 wins $10\,000! Plus many more prizes! \n  \nFor more information\, visit https://z.umn.edu/2025CobsPodsGolf \n  \nCall Joleen at 507-237-4100 if you have questions! \n  \nNicolletSibley Golf Postcard 2025 (3)
URL:https://www.mncorn.org/single-event/nicollet-sibley-county-corn-soybean-growers-golf-tournament-new-date/
LOCATION:Winthrop Golf Club\, 55155 300th St\, Winthrop\, 55396\, United States
CATEGORIES:County Events
END:VEVENT
BEGIN:VEVENT
DTSTART;TZID=America/Chicago:20250719T170000
DTEND;TZID=America/Chicago:20250719T170000
DTSTAMP:20260425T083400
CREATED:20250523T145857Z
LAST-MODIFIED:20250523T150428Z
UID:33182-1752944400-1752944400@www.mncorn.org
SUMMARY:Tasseldega - Proudly presented by the Southeast Minnesota Corn Growers Associations 
DESCRIPTION:Join the Southeast Minnesota Corn Growers Associations on Saturday\, July 19\, for a FREE night at the races at Deer Creek Speedway for Tasseldega! Weekly racing action featuring USRA Modifieds\, Stock Cars\, B-Mods & Hobby Stocks\, and grandstand admission is free! \n  \nLocation: Deer Creek Speedway \n25262 US-63\, Spring Valley\, MN 55975 \n  \nSchedule: \nGates Open: 5:00pm \nHot Laps: 6:30pm \nRacing starts: 7:00pm \n  \nProudly presented by the Southeast Minnesota Corn Growers Associations \nFREE Grandstands courtesy of the Mower\, Freeborn\, Dodge\, Goodhue\, Fillmore\, and Olmsted-Wabasha County Corn & Soybean Growers Associations and many local supporting businesses
URL:https://www.mncorn.org/single-event/tasseldega-proudly-presented-by-the-southeast-minnesota-corn-growers-associations/
LOCATION:Deer Creek Speedway\, 25262 US Hwy 63\, Spring Valley\, MN\, 55975\, United States
CATEGORIES:County Events
END:VEVENT
BEGIN:VEVENT
DTSTART;TZID=America/Chicago:20250718T183000
DTEND;TZID=America/Chicago:20250718T183000
DTSTAMP:20260425T083400
CREATED:20250701T143119Z
LAST-MODIFIED:20250701T143119Z
UID:33429-1752863400-1752863400@www.mncorn.org
SUMMARY:Rochester Honkers Corn & Soybean Appreciation Night - Sponsored by the Olmsted/Wabasha Corn & Soybean Growers
DESCRIPTION:Join the Olmsted/Wabasha Corn & Soybean Growers at the Rochester Honkers Corn & Soybean Appreciation Night on July 18th! \n  \nLocation: Mayo Field \n403 E Center St\, Rochester\, MN \n  \nGame starts at 6:35pm \n  \nhttps://rochester-honkers.nwltickets.com/SingleGame/Tickets/SelectSeats/7872?_gl=1*1ujitw*_gcl_au*MTM5ODI5NjIwOS4xNzQ3ODQwNTk5*_ga*MTIwOTMxNjA2MS4xNzQ3ODQwNTgz*_ga_W1Q4YW3442*czE3NTEzNzYzMzYkbzckZzEkdDE3NTEzNzY0MjEkajQwJGwwJGgw
URL:https://www.mncorn.org/single-event/rochester-honkers-corn-soybean-appreciation-night-sponsored-by-the-olmsted-wabasha-corn-soybean-growers/
LOCATION:Mayo Field\, 403 E Center St\, Rochester\, MN\, 55904
CATEGORIES:County Events
END:VEVENT
BEGIN:VEVENT
DTSTART;TZID=America/Chicago:20250717T140000
DTEND;TZID=America/Chicago:20250717T140000
DTSTAMP:20260425T083400
CREATED:20250528T173353Z
LAST-MODIFIED:20250630T165115Z
UID:33223-1752760800-1752760800@www.mncorn.org
SUMMARY:Pipestone County Corn & Soybean Growers Golf Outing & Annual Meeting
DESCRIPTION:The Pipestone County Corn & Soybean Growers are holding their golf outing and annual meeting on July 17 at the Pipestone Country Club! \n  \nDate: Thursday\, July 17 \nLocation: Pipestone Country Club \n1003 8th Ave SE\, Pipestone\, MN 56164 \nSchedule: 2:00pm Tee-off \n5:00-7:00pm Steak Supper \n  \nText or call Matt Haraldson at 507-820-0284 to RSVP for golf\, supper or both by July 15. \n  \nPipestone GolfAnnual Meeting – 7.17.25
URL:https://www.mncorn.org/single-event/pipestone-county-corn-soybean-growers-golf-outing-annual-meeting/
LOCATION:Pipestone Country Club\, 1003 8th Ave SE\, Pipestone\, MN\, 56164
CATEGORIES:County Events
END:VEVENT
BEGIN:VEVENT
DTSTART;TZID=America/Chicago:20250717T103000
DTEND;TZID=America/Chicago:20250717T103000
DTSTAMP:20260425T083400
CREATED:20250620T165503Z
LAST-MODIFIED:20250620T165503Z
UID:33362-1752748200-1752748200@www.mncorn.org
SUMMARY:Renville County Corn & Soybean Growers 26th Annual Golf Outing
DESCRIPTION:The Renville County Corn & Soybean Growers are holding their 26th Annual Golf Outing on Thursday\, July 17\, 2025 at Oakdale Golf Club. \n  \nSchedule: 18-Hole\, 4 Person Scramble \n10:30-11:30am – Registration\, lunch & driving range \n12:00pm – Shotgun Start \n5:00pm – Prime Rib Dinner & Awards \n  \nLocation: Oakdale Golf Club \n55106 County Road 38\, Buffalo Lake \n  \nTo register or to be a sponsor\, head over to the Renville County Corn & Soybean Growers Facebook page!
URL:https://www.mncorn.org/single-event/renville-county-corn-soybean-growers-26th-annual-golf-outing/
LOCATION:Oakdale Golf Club\, 55106 County Road 38\, Buffalo Lako\, MN\, 55314\, United States
CATEGORIES:County Events
END:VEVENT
BEGIN:VEVENT
DTSTART;TZID=America/Chicago:20250716T100000
DTEND;TZID=America/Chicago:20250716T140000
DTSTAMP:20260425T083400
CREATED:20250611T181619Z
LAST-MODIFIED:20250611T181946Z
UID:33273-1752660000-1752674400@www.mncorn.org
SUMMARY:4-H Plant Science Summer Field Days - Waseca
DESCRIPTION:For youth in grades 3+ (families welcome): We’re excited to promote a brand new in-person opportunity for youth to experience the world of crop scouting up close and personal! Join University of Minnesota Extension for Minnesota 4-H Plant Science Summer Field Days and get hands-on experience. \nWhether you’re a future agronomist or just plant-curious\, this field day is your backstage pass to the science behind the crops! \nTime: 10:00 AM – 2:00 PM\, Lunch Provided \n\n4-H members: Register in 4-H Online by June 30. For assistance\, refer to the event registration guide or contact your local Extension educator.\nNon-members: Complete the online form by June 30 to register.
URL:https://www.mncorn.org/single-event/4-h-plant-science-summer-field-days-lamberton-2-2/
LOCATION:University of Minnesota Southern Research and Outreach Center\, 35838 120th St.\, Waseca\, MN\, 56093\, United States
END:VEVENT
BEGIN:VEVENT
DTSTART;TZID=America/Chicago:20250716T080000
DTEND;TZID=America/Chicago:20250716T170000
DTSTAMP:20260425T083400
CREATED:20250611T183339Z
LAST-MODIFIED:20250611T183339Z
UID:33280-1752652800-1752685200@www.mncorn.org
SUMMARY:NWROC Crops & Soils Day 2025
DESCRIPTION:Minnesota Corn is proud to partner with the University of Minnesota Extension to support the Northwest Research and Outreach Center’s (NWROC) annual Crops and Soils Day on Wednesday\, July 16\, 2024. \nHosted at the NWROC Maintenance/Farm Operations Building—just south of Polk County Hwy 71 near the U of M Crookston campus—this event offers valuable in-field learning opportunities for Minnesota’s ag community. \nMorning small grains tours begin with registration and CEU sign-up at 7:30 a.m.\, with tours kicking off at 8:00. Afternoon sugar beet tours begin with registration at 12:15 p.m. and start at 12:45. \nAll guests are invited to enjoy a complimentary lunch around noon. Parking is available across the street from NWROC’s office building and will be clearly marked. \nQuestions? Contact Leah Stroot at stroot@umn.edu or 218.281.8610.
URL:https://www.mncorn.org/single-event/nwroc-crops-soils-day-2025/
LOCATION:NWROC’s Maintenance/Farm Operations Building\, 2900 University Ave\, Crookston\, MN\, 56716\, United States
END:VEVENT
BEGIN:VEVENT
DTSTART;TZID=America/Chicago:20250712T120000
DTEND;TZID=America/Chicago:20250712T140000
DTSTAMP:20260425T083400
CREATED:20250630T163413Z
LAST-MODIFIED:20250630T163413Z
UID:33410-1752321600-1752328800@www.mncorn.org
SUMMARY:Martin County Corn & Soybean Growers Fuel Promotion Event
DESCRIPTION:The Martin County Corn & Soybean Growers are holding a fuel promotion event on Saturday\, July 12 from 12:00-2:00pm at the Trimont Town Center. \n  \nLocation: Trimont Town Center \n500 State Hwy 4 S\, Trimont \n  \nDiscounts \n$0.85 off E-85 \n$0.40 off E-40 \n$0.20 off E-20 \n$0.15 off E-15 \n  \nMartin Fuel Event – 7.12 \n 
URL:https://www.mncorn.org/single-event/martin-county-corn-soybean-growers-fuel-promotion-event/
LOCATION:Trimont Town Center\, 500 State Hwy 4 South\, Trimont\, MN\, 56176\, United States
CATEGORIES:County Events
END:VEVENT
BEGIN:VEVENT
DTSTART;TZID=America/Chicago:20250710T140000
DTEND;TZID=America/Chicago:20250710T170000
DTSTAMP:20260425T083400
CREATED:20250619T202756Z
LAST-MODIFIED:20250619T202756Z
UID:33357-1752156000-1752166800@www.mncorn.org
SUMMARY:Meeker County Corn Growers Fuel Promotion Event
DESCRIPTION:The Meeker County Corn Growers are hosting their annual fuel promotion on Thursday\, July 10 from 2:00-5:00pm at the Litchfield Cenex! \n  \nLocation: Central Counties Cooperative Cenex \n1025 E. Frontage Road\, Litchfield \n  \nDiscounts \nE-15 – $0.88 off/gal \nE-85 – $0.85 off/gal \n  \nMeeker County Fuel Event 2025 (1)
URL:https://www.mncorn.org/single-event/meeker-county-corn-growers-fuel-promotion-event/
LOCATION:Central Counties Cooperative Cenex\, 1025 E. Frontage Road\, Litchfield\, MN\, 55355
CATEGORIES:County Events
END:VEVENT
BEGIN:VEVENT
DTSTART;TZID=America/Chicago:20250709T100000
DTEND;TZID=America/Chicago:20250709T140000
DTSTAMP:20260425T083400
CREATED:20250611T181316Z
LAST-MODIFIED:20250611T182126Z
UID:33270-1752055200-1752069600@www.mncorn.org
SUMMARY:4-H Plant Science Summer Field Days - Rosemont
DESCRIPTION:For youth in grades 3+ (families welcome): We’re excited to promote a brand new in-person opportunity for youth to experience the world of crop scouting up close and personal! Join University of Minnesota Extension for Minnesota 4-H Plant Science Summer Field Days and get hands-on experience. \nWhether you’re a future agronomist or just plant-curious\, this field day is your backstage pass to the science behind the crops! \nTime: 10:00 AM – 2:00 PM\, Lunch Provided \n\n4-H members: Register in 4-H Online by June 30. For assistance\, refer to the event registration guide or contact your local Extension educator.\nNon-members: Complete the online form by June 30 to register.
URL:https://www.mncorn.org/single-event/4-h-plant-science-summer-field-days-lamberton-2/
LOCATION:University of Minnesota Rosemount Research and Outreach Center\, 16085 Alverno Ave\, Rosemont\, 55068\, United States
END:VEVENT
BEGIN:VEVENT
DTSTART;TZID=America/Chicago:20250708T100000
DTEND;TZID=America/Chicago:20250708T140000
DTSTAMP:20260425T083400
CREATED:20250611T181039Z
LAST-MODIFIED:20250611T182213Z
UID:33267-1751968800-1751983200@www.mncorn.org
SUMMARY:4-H Plant Science Summer Field Days - Lamberton
DESCRIPTION:For youth in grades 3+ (families welcome): We’re excited to promote a brand new in-person opportunity for youth to experience the world of crop scouting up close and personal! Join University of Minnesota Extension for Minnesota 4-H Plant Science Summer Field Days and get hands-on experience. \nWhether you’re a future agronomist or just plant-curious\, this field day is your backstage pass to the science behind the crops! \nTime: 10:00 AM – 2:00 PM\, Lunch Provided \n\n4-H members: Register in 4-H Online by June 30. For assistance\, refer to the event registration guide or contact your local Extension educator.\nNon-members: Complete the online form by June 30 to register.
URL:https://www.mncorn.org/single-event/4-h-plant-science-summer-field-days-lamberton/
LOCATION:University of Minnesota Southwest Research and Outreach Center\, L23669 130th St.\, Lamberton\, MN\, 56152\, United States
END:VEVENT
BEGIN:VEVENT
DTSTART;TZID=America/Chicago:20250625T173000
DTEND;TZID=America/Chicago:20250625T173000
DTSTAMP:20260425T083400
CREATED:20250528T145219Z
LAST-MODIFIED:20250528T145617Z
UID:33196-1750872600-1750872600@www.mncorn.org
SUMMARY:Salute to Ag Night at Fairmont Raceway
DESCRIPTION:The counties of Cottonwood\, Fairbault\, Jackson\, Martin and Watonwan have sponsored free entry for their Corn & Soybean Growers on June 25 at Fairmont Raceway. Look for your postcard in the early part of June. All 6 classes will be racing! \n  \nGates Open – 5:30pm \nHot Laps – 7:15pm \nRacing Starts – 7:25pm \n  \nLocation: Fairmont Raceway \n1300 N Bixby Rd\, Fairmont\, MN 56031
URL:https://www.mncorn.org/single-event/salute-to-ag-night-at-fairmont-raceway/
LOCATION:Fairmont Raceway\, 1300 N Bixby Rd\, Fairmont\, MN\, 56031
CATEGORIES:County Events
END:VEVENT
BEGIN:VEVENT
DTSTART;TZID=America/Chicago:20250625T100000
DTEND;TZID=America/Chicago:20250625T100000
DTSTAMP:20260425T083400
CREATED:20250416T151810Z
LAST-MODIFIED:20250625T165647Z
UID:32968-1750845600-1750845600@www.mncorn.org
SUMMARY:Nicollet/Sibley County Corn & Soybean Growers Golf Tournament (Rescheduled to July 21)
DESCRIPTION:Join the Nicollet/Sibley County Corn & Soybean growers at their 2025 Cobs & Pods Golf Tournament on Wednesday\, June 25th at the Winthrop Golf Course! \n  \nThree rounds with tee times of 10:00am\, 1:00pm and 3:00pm\nCome for as many rounds as you’d like!\nCost includes cart and meals:\nOne Round – $40\, Two Rounds – $65\, Three Rounds – $80 \n  \nPre-Register by Friday\, June 20 \nWalk-in registration accepted \nVisit https://z.umn.edu/2025CobsPodsGolf to register! \n  \nBest Ball Tournament with awards for the top team of four in each round.\nHole-in-One on hole #5 wins $10\,000! Plus many more prizes! \n  \nCall Joleen at 507-237-4199 if you have any questions!
URL:https://www.mncorn.org/single-event/nicollet-sibley-county-corn-soybean-growers-golf-tournament/
LOCATION:Winthrop Golf Club\, 55155 300th St\, Winthrop\, 55396\, United States
CATEGORIES:County Events
END:VEVENT
BEGIN:VEVENT
DTSTART;TZID=America/Chicago:20250625T080000
DTEND;TZID=America/Chicago:20250625T151500
DTSTAMP:20260425T083400
CREATED:20250619T133949Z
LAST-MODIFIED:20250619T133949Z
UID:33354-1750838400-1750864500@www.mncorn.org
SUMMARY:MCGA/MCRPC Jt. Board Meeting
DESCRIPTION:See the agenda here.
URL:https://www.mncorn.org/single-event/mcga-mcrpc-jt-board-meeting-16/
LOCATION:MCGA Office\, Burnsville\, MN\, 500 E Travelers Trail\, Suite 600\, Burnsville\, MN\, 55337\, United States
CATEGORIES:MCGA Events
END:VEVENT
BEGIN:VEVENT
DTSTART;VALUE=DATE:20250623
DTEND;VALUE=DATE:20250627
DTSTAMP:20260425T083400
CREATED:20250611T183915Z
LAST-MODIFIED:20250611T183915Z
UID:33285-1750636800-1750982399@www.mncorn.org
SUMMARY:Lakes\, Lands\, and Legends: National Agriculture in the Classroom 2025 Conference
DESCRIPTION:“Lakes\, Lands\, and Legends” is a premier professional development event for K-12 teachers\, volunteers\, and professionals in agricultural literacy.
URL:https://www.mncorn.org/single-event/lakes-lands-and-legends-national-agriculture-in-the-classroom-2025-conference/
LOCATION:Hyatt Regency Minneapolis\, 1300 Nicollett Mall\, Minneapolis\, MN\, 55403\, United States
END:VEVENT
BEGIN:VEVENT
DTSTART;TZID=America/Chicago:20250622T170000
DTEND;TZID=America/Chicago:20250622T170000
DTSTAMP:20260425T083400
CREATED:20250523T144031Z
LAST-MODIFIED:20250523T144031Z
UID:33180-1750611600-1750611600@www.mncorn.org
SUMMARY:Fairbault County Corn & Soybean Growers Annual Meeting
DESCRIPTION:Join the Fairbault County Corn & Soybean Growers at their annual meeting on Sunday\, June 22 at Margaret’s Pub in Easton! \n  \nSchedule: \n5:00pm – Silent Auction \n6:00pm – Meal & Annual Meeting \n7:00pm – Silent Auction Winners Announced \n  \nLocation: \nMargaret’s Pub\, 54 Main Street\, Easton\, MN
URL:https://www.mncorn.org/single-event/fairbault-county-corn-soybean-growers-annual-meeting/
LOCATION:Margaret’s Pub\, 54 Main Street\, Easton\, Minnesota\, 56025
CATEGORIES:County Events
END:VEVENT
BEGIN:VEVENT
DTSTART;TZID=America/Chicago:20250618T190000
DTEND;TZID=America/Chicago:20250618T190000
DTSTAMP:20260425T083400
CREATED:20250523T143529Z
LAST-MODIFIED:20250610T135737Z
UID:33175-1750273200-1750273200@www.mncorn.org
SUMMARY:Goodhue County Corn & Soybean Growers Annual Meeting
DESCRIPTION:Join the Goodhue County Corn & Soybean Growers at their annual meeting on Wednesday\, June 18th at Bridget’s Cafe in Zumbrota! \n  \nSchedule: Social – 7:00pm \nAnnual Meeting – 8:00pm \n  \nLocation: Bridget’s Cafe \n365 S Main St\, Zumbrota \n 
URL:https://www.mncorn.org/single-event/goodhue-county-corn-soybean-growers-annual-meeting/
LOCATION:Bridget’s Cafe\, 365 S Main St\, Zumbrota\, MN\, 55992
CATEGORIES:County Events
END:VEVENT
BEGIN:VEVENT
DTSTART;TZID=America/Chicago:20250617T140000
DTEND;TZID=America/Chicago:20250617T140000
DTSTAMP:20260425T083400
CREATED:20250528T151502Z
LAST-MODIFIED:20250528T151502Z
UID:33206-1750168800-1750168800@www.mncorn.org
SUMMARY:Nobles County Corn & Soybean Growers Golf Outing
DESCRIPTION:The Nobles County Corn & Soybean Growers are hosting a golf outing on Tuesday\, June 17\, 2025! It is free to the members of the Nobles County Corn & Soybean Growers and the Rock-Nobles Cattleman’s Association. Join today so you can golf and eat for free! \n  \nLocation: Adrian Country Club \n849 Maine Ave\, Adrian\, MN 56110 \n  \nSchedule: 2:00pm – Tee Off \n5:30pm – Steak Dinner \n  \nCall the Adrian Country Club at 507-483-2722 to reserve your spot by June 16th. \n  \nNobles Golf Day 2025
URL:https://www.mncorn.org/single-event/nobles-county-corn-soybean-growers-golf-outing/
LOCATION:Adrian Country Club\, 849 Maine Ave\, Adrian\, MN\, 56110\, United States
CATEGORIES:County Events
END:VEVENT
BEGIN:VEVENT
DTSTART;TZID=America/Chicago:20250617T080000
DTEND;TZID=America/Chicago:20250617T113000
DTSTAMP:20260425T083400
CREATED:20250611T184419Z
LAST-MODIFIED:20250611T184419Z
UID:33288-1750147200-1750159800@www.mncorn.org
SUMMARY:2025 SROC Agronomy Field Tour
DESCRIPTION:Minnesota Corn is excited to support a day packed with agronomy insights at this year’s Crops and Soils Day. The speaker lineup includes University of Minnesota experts Dan Kaiser\, Gregg Johnson\, Ryan Miller\, Liz Stahl\, Axel Garcia y Garcia\, and Jeff Vetsch—bringing a wealth of knowledge from across the state’s research and outreach centers. \nWe hope you’ll join us to hear the latest in agronomic research and practices shaping Minnesota agriculture.
URL:https://www.mncorn.org/single-event/2025-sroc-agronomy-field-tour/
LOCATION:Southern Research and Outreach Center\, 35838 120th Street\, Waseca\, MN\, 56093-4521\, United States
END:VEVENT
BEGIN:VEVENT
DTSTART;TZID=America/Chicago:20250605T160000
DTEND;TZID=America/Chicago:20250605T200000
DTSTAMP:20260425T083400
CREATED:20250416T151029Z
LAST-MODIFIED:20250416T151029Z
UID:32963-1749139200-1749153600@www.mncorn.org
SUMMARY:Benton/Sherburne County Corn Growers Member Appreciation
DESCRIPTION:The Benton/Sherburne Corn Growers are holding a membership appreciation picnic on Thursday\, June 5th at the Gilman Park from 4:00-8:00pm. \nThe meal will be provided by Jimmy Z’s food truck. Enjoy a night out with great company\, good food and drinks on us! \n  \nLocation: Gilman Park \n10193 115th St NE\, Foley \n 
URL:https://www.mncorn.org/single-event/benton-sherburne-county-corn-growers-member-appreciation/
LOCATION:Gilman Park\, 10193 115th St NE\, Foley\, MN\, 56329
CATEGORIES:County Events
END:VEVENT
BEGIN:VEVENT
DTSTART;TZID=America/Chicago:20250605T110000
DTEND;TZID=America/Chicago:20250605T130000
DTSTAMP:20260425T083400
CREATED:20250523T142439Z
LAST-MODIFIED:20250523T142439Z
UID:33169-1749121200-1749128400@www.mncorn.org
SUMMARY:Renville County Corn & Soybean Growers Fuel Event
DESCRIPTION:The Renville County Corn & Soybean Growers are hosting a fuel promotion event on Thursday\, June 5 from 11:00-1:00pm at the Renville Cenex. We hope to see you there! \n  \nLocation: Renville Cenex \n712 Park Ave E\, Renville \n  \nDiscounts: \nE-20 – $0.20 off/gal\nE-30 – $0.30 off/gal\nE-85 – $0.85 off/gal \nBiodiesel – $0.20 off/gal \n  \nRenville County Fuel Event 2025 (1)
URL:https://www.mncorn.org/single-event/renville-county-corn-soybean-growers-fuel-event/
LOCATION:Renville Cenex\, 712 Park Ave E\, Renville\, MN\, 56284
CATEGORIES:County Events
END:VEVENT
BEGIN:VEVENT
DTSTART;TZID=America/Chicago:20250415T110000
DTEND;TZID=America/Chicago:20250415T130000
DTSTAMP:20260425T083400
CREATED:20250219T143757Z
LAST-MODIFIED:20250411T150811Z
UID:32441-1744714800-1744722000@www.mncorn.org
SUMMARY:Stearns County Corn Growers Annual Meeting
DESCRIPTION:Join the Stearns County Corn Growers at their annual meeting on April 15th at the Greenwald Pub! The annual meeting will start at 11:00am followed by lunch at noon. \n  \nLocation: Greenwald Pub \n310 1st Ave N\, Greenwald\, MN 56335 \n  \nSpeakers: \nSteve Frericks – FSA County Executive Director \n  \nAlex Trunnel – Public Policy Manager at Minnesota Corn
URL:https://www.mncorn.org/single-event/todd-county-corn-soybean-growers-annual-meeting-5/
LOCATION:Greenwald Pub\, 310 1st Ave N\, Greenwald\, MN\, 56335\, United States
CATEGORIES:County Events
END:VEVENT
BEGIN:VEVENT
DTSTART;TZID=America/Chicago:20250410T083000
DTEND;TZID=America/Chicago:20250410T123000
DTSTAMP:20260425T083400
CREATED:20241024T203353Z
LAST-MODIFIED:20241024T203353Z
UID:31648-1744273800-1744288200@www.mncorn.org
SUMMARY:Ag-Focused safeTALK Training - Grygla
DESCRIPTION:Agriculture-focused safeTALK is a 4-hour training in suicide alertness skills. This training will focus on farm/ranch stress and being suicide alert. Learn four basic steps to create a life-saving connection. Widely used by professionals and the general public. \nIf you know\, work with\, or are an ag producer…this training is for you! \nSponsored by Northwest Minnesota Foundation \nRegister here.
URL:https://www.mncorn.org/single-event/ag-focused-safetalk-training-grygla/
LOCATION:The Hound Pub and Dining\, 411 West State Street\, Grygla\, MN\, 56727
CATEGORIES:General Ag Events
END:VEVENT
BEGIN:VEVENT
DTSTART;TZID=America/Chicago:20250409T080000
DTEND;TZID=America/Chicago:20250409T120000
DTSTAMP:20260425T083400
CREATED:20250402T212303Z
LAST-MODIFIED:20250402T212303Z
UID:32836-1744185600-1744200000@www.mncorn.org
SUMMARY:MCGA/MCR&PC Joint Board meeting (virtual)
DESCRIPTION:See the agenda here.
URL:https://www.mncorn.org/single-event/mcga-mcrpc-joint-board-meeting-virtual/
LOCATION:MN
CATEGORIES:MCGA Events
END:VEVENT
BEGIN:VEVENT
DTSTART;TZID=America/Chicago:20250407T180000
DTEND;TZID=America/Chicago:20250407T180000
DTSTAMP:20260425T083400
CREATED:20250324T152522Z
LAST-MODIFIED:20250324T152522Z
UID:32796-1744048800-1744048800@www.mncorn.org
SUMMARY:Waseca County Corn & Soybean Growers Annual Meeting
DESCRIPTION:Join the Waseca County Corn & Soybean Growers at their annual meeting on Monday\, April 7 at Ward House Brewery in Waseca! \n  \nLocation: Ward House Brewery – 308 S State St Waseca\, MN \n  \nSchedule: 6:00pm Social \n6:15pm Annual Meeting \n6:30pm Supper\, Entertainment to follow \n  \nWaseca FY25 Annual Postcard
URL:https://www.mncorn.org/single-event/waseca-county-corn-soybean-growers-annual-meeting/
LOCATION:Ward House Brewery\, 308 S State St\, Waseca\, MN\, 56093
CATEGORIES:County Events
END:VEVENT
BEGIN:VEVENT
DTSTART;VALUE=DATE:20250407
DTEND;VALUE=DATE:20250408
DTSTAMP:20260425T083400
CREATED:20241118T205052Z
LAST-MODIFIED:20241118T205052Z
UID:31782-1743984000-1744070399@www.mncorn.org
SUMMARY:Nobles County Corn & Soybean Growers Annual Meeting
DESCRIPTION:The Nobles County Corn & Soybean Growers are holding their annual meeting on April 7th. \nDetails TBD. Hope to see you there! \n 
URL:https://www.mncorn.org/single-event/nobles-county-corn-soybean-growers-annual-meeting-3/
LOCATION:MN
CATEGORIES:County Events
END:VEVENT
BEGIN:VEVENT
DTSTART;TZID=America/Chicago:20250404T160000
DTEND;TZID=America/Chicago:20250404T180000
DTSTAMP:20260425T083400
CREATED:20250314T184501Z
LAST-MODIFIED:20250314T185230Z
UID:32731-1743782400-1743789600@www.mncorn.org
SUMMARY:Todd County Corn & Soybean Growers Fuel Event
DESCRIPTION:The Todd County Corn & Soybean growers will be holding a fuel event on Friday\, April 4 from 4:00pm – 6:00pm. \n  \nLocation: Little Duke’s in Long Prairie \n645 Lake St S\, Long Prairie\, MN 56347 \n  \nDiscounts Offered: \nE-15 – $1.15 off/gal\nE-30 – $1.30 off/gal\nE-85 – $0.85/ gal\nBiodiesel – $1.20 off/gal \n  \n*Free Meat Packages will be given out* \nSponsored by the Beef Council
URL:https://www.mncorn.org/single-event/stearns-county-corn-growers-annual-meeting-3/
LOCATION:Coborn’s Little Dukes (645 Lake St S\, Long Prairie\, MN 56347)\, 645 Lake St S\, Long Prairie\, 56347\, United States
CATEGORIES:County Events
END:VEVENT
BEGIN:VEVENT
DTSTART;TZID=America/Chicago:20250403T083000
DTEND;TZID=America/Chicago:20250403T123000
DTSTAMP:20260425T083400
CREATED:20241024T203244Z
LAST-MODIFIED:20241024T203244Z
UID:31645-1743669000-1743683400@www.mncorn.org
SUMMARY:Ag-Focused safeTALK Training - Twin Valley
DESCRIPTION:Agriculture-focused safeTALK is a 4-hour training in suicide alertness skills. This training will focus on farm/ranch stress and being suicide alert. Learn four basic steps to create a life-saving connection. Widely used by professionals and the general public. \nIf you know\, work with\, or are an ag producer…this training is for you! \nSponsored by Northwest Minnesota Foundation \nRegister here.
URL:https://www.mncorn.org/single-event/ag-focused-safetalk-training-twin-valley/
LOCATION:The Grove Restaurant\, 104 Main Avenue East\, Twin Valley\, MN\, 56584
CATEGORIES:General Ag Events
END:VEVENT
BEGIN:VEVENT
DTSTART;TZID=America/Chicago:20250330T160000
DTEND;TZID=America/Chicago:20250330T160000
DTSTAMP:20260425T083400
CREATED:20250305T150220Z
LAST-MODIFIED:20250305T150220Z
UID:32606-1743350400-1743350400@www.mncorn.org
SUMMARY:Nicollet/Sibley County Corn & Soybean Growers Annual Meeting
DESCRIPTION:The Nicollet/Sibley County Corn & Soybean Growers are hosting their annual meeting at the American Legion in Nicollet on March 30. The evening will begin with a business meeting including updates from the county board\, MN Corn and MN Soybean. The dinner buffet and casino gaming will begin at 5:00p.m. The games will close at 8:00p.m.\, followed by 3 large prize drawings\, including a Blackstone griddle. Must be present to win. \n  \nLocation: American Legion\n715 N 3rd St\, Nicollet\, MN 56074 \n  \nSchedule:\n4:00p.m. Social\n4:30 p.m. Annual Meeting\n5:00 – 8:00 p.m. Dinner Buffet and Casino Night
URL:https://www.mncorn.org/single-event/nicollet-sibley-county-corn-soybean-growers-annual-meeting-3/
LOCATION:Nicollet American Legion\, 715 N 3rd St\, Nicollet\, MN\, 56074
CATEGORIES:County Events
END:VEVENT
BEGIN:VEVENT
DTSTART;TZID=America/Chicago:20250326T080000
DTEND;TZID=America/Chicago:20250326T120000
DTSTAMP:20260425T083400
CREATED:20241024T203109Z
LAST-MODIFIED:20241024T203109Z
UID:31642-1742976000-1742990400@www.mncorn.org
SUMMARY:Native American-Focused safeTALK Training
DESCRIPTION:Indigenous/Native American-focused safeTALK is a 4-hour training in suicide alertness skills. This training will focus on being suicide alert. Learn four basic steps to create a life-saving connection. Widely used by professionals and the general public. \nSponsored by Northwest Minnesota Foundation \nRegister here.
URL:https://www.mncorn.org/single-event/native-american-focused-safetalk-training/
LOCATION:Red Apple Cafe\, 116 North Main Street\, Mahnomen\, MN\, 56557
CATEGORIES:General Ag Events
END:VEVENT
END:VCALENDAR