BEGIN:VCALENDAR
VERSION:2.0
PRODID:-//Minnesota Corn Growers Association - ECPv6.15.20//NONSGML v1.0//EN
CALSCALE:GREGORIAN
METHOD:PUBLISH
X-WR-CALNAME:Minnesota Corn Growers Association
X-ORIGINAL-URL:https://www.mncorn.org
X-WR-CALDESC:Events for Minnesota Corn Growers Association
REFRESH-INTERVAL;VALUE=DURATION:PT1H
X-Robots-Tag:noindex
X-PUBLISHED-TTL:PT1H
BEGIN:VTIMEZONE
TZID:America/Chicago
BEGIN:DAYLIGHT
TZOFFSETFROM:-0600
TZOFFSETTO:-0500
TZNAME:CDT
DTSTART:20230312T080000
END:DAYLIGHT
BEGIN:STANDARD
TZOFFSETFROM:-0500
TZOFFSETTO:-0600
TZNAME:CST
DTSTART:20231105T070000
END:STANDARD
BEGIN:DAYLIGHT
TZOFFSETFROM:-0600
TZOFFSETTO:-0500
TZNAME:CDT
DTSTART:20240310T080000
END:DAYLIGHT
BEGIN:STANDARD
TZOFFSETFROM:-0500
TZOFFSETTO:-0600
TZNAME:CST
DTSTART:20241103T070000
END:STANDARD
BEGIN:DAYLIGHT
TZOFFSETFROM:-0600
TZOFFSETTO:-0500
TZNAME:CDT
DTSTART:20250309T080000
END:DAYLIGHT
BEGIN:STANDARD
TZOFFSETFROM:-0500
TZOFFSETTO:-0600
TZNAME:CST
DTSTART:20251102T070000
END:STANDARD
BEGIN:DAYLIGHT
TZOFFSETFROM:-0600
TZOFFSETTO:-0500
TZNAME:CDT
DTSTART:20260308T080000
END:DAYLIGHT
BEGIN:STANDARD
TZOFFSETFROM:-0500
TZOFFSETTO:-0600
TZNAME:CST
DTSTART:20261101T070000
END:STANDARD
END:VTIMEZONE
BEGIN:VEVENT
DTSTART;TZID=America/Chicago:20250306T180000
DTEND;TZID=America/Chicago:20250306T180000
DTSTAMP:20260425T095737
CREATED:20250210T204941Z
LAST-MODIFIED:20250210T204941Z
UID:32360-1741284000-1741284000@www.mncorn.org
SUMMARY:Swift County Corn & Soybean Growers Annual Meeting
DESCRIPTION:Join the Swift County Corn & Soybean Growers Association for their\nannual meeting\, updates from corn and soybean organizations\nand keynote speaker\, Edward Ussett on Thursday\, March 6. \n  \nTime: 6:00pm – Social \n6:30pm – Supper (Free for Corn/Soybean members) \n  \nLocation: Track Bar & Grill \n1135 Pacific Ave\, Benson\, MN \n  \nKeynote Speaker – Edward Usset\, Grain Marketing Economist \nEd is a grain marketing economist for the Center for Farm Financial Management at the University of Minnesota. Ed will present on the Five Common Mistakes in Grain Marketing and how eliminating mistakes can create a solid foundation in the development of pre and post harvest marketing plans. \n  \nPlease RSVP to one of the following if you plan to attend:\nRandy Ascheman – (320) 808-7581 | rpascheman@gmail.com\nLarry Mahoney – (320) 808-3427 | detroitdiesel56208@yahoo.com\nTodd Wentzel – (320) 760-1347 | wentzeltodd@gmail.com \n  \n2025 Swift Annual Postcard 8.5×5.5
URL:https://www.mncorn.org/single-event/swift-county-corn-soybean-growers-annual-meeting/
LOCATION:Track Bar & Grill\, 1135 Pacific Ave\, Benson\, MN\, 56215
CATEGORIES:County Events
END:VEVENT
BEGIN:VEVENT
DTSTART;TZID=America/Chicago:20250304T173000
DTEND;TZID=America/Chicago:20250304T173000
DTSTAMP:20260425T095737
CREATED:20250225T203908Z
LAST-MODIFIED:20250225T203908Z
UID:32502-1741109400-1741109400@www.mncorn.org
SUMMARY:Yellow Medicine Corn & Soybean Growers Annual Meeting
DESCRIPTION:Join the Yellow Medicine Corn & Soybean Growers at their annual meeting on Tuesday\, March 4! \n  \nLocation: P K Egans Family Restaurant\n115 St Olaf Ave N\, Canby\, MN 56220 \n  \nSchedule: 5:30 p.m. Social\n6:00 p.m. Supper followed by annual meeting and speaker\, Brad Anderson \n  \nAbout Brad: \nBrad grew up on a farm 1 mile east of Clarkfield\, MN. He graduated\nfrom NDSU with a bachelor’s degree in agronomy and farmed before\ngetting a master’s degree in ag economics at the University of\nMinnesota.\nHe then went to Washington DC\, where he served on the staffs of\nCongressman Vin Weber and Senator Rudy Boschwitz. After his\ntime on Capitol Hill\, Brad joined USDA as a feed grain analyst for\nASCS where he contributed to USDA’s monthly supply and demand\nreports.\nBrad worked for Informa (formerly Sparks\, now S&P Global)\, Global\nAg (a Memphis-based CTA) and Bunge at its headquarters in White\nPlains\, NY. For the past 5 years\, Brad has been a crop analyst for\nCargill based in the Wayzata\, MN headquarters. He works with a\ngroup that forecasts U.S. corn\, soybean and wheat crops. \n  \nYM 25 Annual Postcard 8.5×5.5
URL:https://www.mncorn.org/single-event/yellow-medicine-corn-soybean-growers-annual-meeting/
LOCATION:P K Egans Family Restaurant\, 115 St Olaf Ave N\, Canby\, 56220
CATEGORIES:County Events
END:VEVENT
BEGIN:VEVENT
DTSTART;TZID=America/Chicago:20250219T083000
DTEND;TZID=America/Chicago:20250219T150000
DTSTAMP:20260425T095737
CREATED:20250214T204827Z
LAST-MODIFIED:20250214T204848Z
UID:32394-1739953800-1739977200@www.mncorn.org
SUMMARY:MCGA/MCR&PC Jt. board meeting
DESCRIPTION:View the agenda here.
URL:https://www.mncorn.org/single-event/mcga-mcrpc-jt-board-meeting-15/
LOCATION:Minnesota Corn Office\, 500 E. Travelers Trail\, Suite 600\, Burnsville\, MN\, 55337\, United States
CATEGORIES:MCGA Events
END:VEVENT
BEGIN:VEVENT
DTSTART;TZID=America/Chicago:20250208T170000
DTEND;TZID=America/Chicago:20250208T170000
DTSTAMP:20260425T095737
CREATED:20241118T205733Z
LAST-MODIFIED:20241118T205733Z
UID:31784-1739034000-1739034000@www.mncorn.org
SUMMARY:Lincoln County Corn & Soybean Growers Annual Meeting
DESCRIPTION:The Lincoln County Corn & Soybean Growers are holding their annual meeting on February 8th at the Lake Benton Event Center starting at 5:00pm. Hope to see you there! \n  \n 
URL:https://www.mncorn.org/single-event/lincoln-county-corn-soybean-growers-annual-meeting/
LOCATION:Lake Benton Event Center\, 114 Center St S\, Lake Benton\, MN\, 56149
CATEGORIES:County Events
END:VEVENT
BEGIN:VEVENT
DTSTART;VALUE=DATE:20250203
DTEND;VALUE=DATE:20250204
DTSTAMP:20260425T095737
CREATED:20241015T184218Z
LAST-MODIFIED:20241015T184218Z
UID:31560-1738540800-1738627199@www.mncorn.org
SUMMARY:Watonwan County Corn Growers Annual Meeting
DESCRIPTION:The Watonwan County Corn Growers’ Annual meeting will be February 3rd at the St. James Legion. Details to follow! \n 
URL:https://www.mncorn.org/single-event/watonwan-county-corn-growers-annual-meeting-3/
LOCATION:St. James American Legion\, 620 1st Ave S\, St James\, MN\, 56081\, United States
CATEGORIES:County Events
END:VEVENT
BEGIN:VEVENT
DTSTART;TZID=America/Chicago:20250125T170000
DTEND;TZID=America/Chicago:20250125T170000
DTSTAMP:20260425T095737
CREATED:20241015T185544Z
LAST-MODIFIED:20250115T164757Z
UID:31568-1737824400-1737824400@www.mncorn.org
SUMMARY:McLeod County Corn & Soybean Growers Annual Meeting
DESCRIPTION:The McLeod County Corn & Soybean Growers’ Annual Meeting will be Saturday\, January 25 at the Glencoe City Center. \nAnnual Meeting: 5:00pm \nSocial Hour: 5:30pm \nBanquet: 6:30pm \nSpeaker (Machinery Pete): 8:00pm
URL:https://www.mncorn.org/single-event/mcleod-county-corn-growers-annual-meeting/
LOCATION:Glencoe City Center\, 1107 11th St E\, Glencoe\, MN\, 55336
CATEGORIES:County Events
END:VEVENT
BEGIN:VEVENT
DTSTART;TZID=America/Chicago:20250124T170000
DTEND;TZID=America/Chicago:20250124T170000
DTSTAMP:20260425T095737
CREATED:20241015T185150Z
LAST-MODIFIED:20241217T205342Z
UID:31566-1737738000-1737738000@www.mncorn.org
SUMMARY:Meeker County Corn Growers Annual Meeting
DESCRIPTION:The Meeker County Corn Growers are holding their 2025 Annual Meeting on Friday\, January 24th at the Litchfield Eagles Club starting at 5:00pm with a social hour followed by 6:00pm supper and annual meeting. \n 
URL:https://www.mncorn.org/single-event/meeker-county-corn-growers-annual-meeting-3/
LOCATION:Litchfield Eagles Club\, 389 CSAH 34 S\, Litchfield\, MN\, 55355
CATEGORIES:County Events
END:VEVENT
BEGIN:VEVENT
DTSTART;TZID=America/Chicago:20250116T093000
DTEND;TZID=America/Chicago:20250116T093000
DTSTAMP:20260425T095737
CREATED:20241015T184854Z
LAST-MODIFIED:20241218T150941Z
UID:31564-1737019800-1737019800@www.mncorn.org
SUMMARY:Benton/Sherburne County Corn Growers Annual Meeting
DESCRIPTION:The Benton/Sherburne County Corn Growers’ Annual Meeting is January 16th at Jack & Jim’s in Duelm! \n  \n9:30am Registration\n10:00am East Central Irrigators Meeting\n10:30am Dave Traut – Well Maintenance\n11:00am Ag Panel of Agronomists\nAdam Johnson – Crop Advisor Centra Sota Coop\nLance Kuehl – Northern Regional Agronomy Manager Beck’s Hybrids\nMike Blaine – Field Sales Agronomist Beck’s Hybrids\nSteve Roehl – Senior Technical Representative Loveland Products Inc\n12:00pm Lunch\n1:00pm Kent Thiesse “ The Changing Dynamics of the U.S. Ag Industry ”\n2:00pm BSCG Annual Meeting \nJoin us for a day of conversation\, food\, door prizes and more! Grand prize of a Blackstone Grill!\n*Must be present to win* \n  \nLocation:\nJack & Jims’s Event Center\n11025 Duelm Rd NE\, Foley\, MN
URL:https://www.mncorn.org/single-event/benton-sherburne-county-corn-growers-annual-meeting/
LOCATION:Jack & Jim’s Event Center\, 11025 Duelm Rd NE\, Foley\, MN\, 56329\, United States
CATEGORIES:County Events
END:VEVENT
BEGIN:VEVENT
DTSTART;TZID=America/Chicago:20250108T120000
DTEND;TZID=America/Chicago:20250108T120000
DTSTAMP:20260425T095737
CREATED:20241218T204055Z
LAST-MODIFIED:20241218T204158Z
UID:32040-1736337600-1736337600@www.mncorn.org
SUMMARY:Polk County Corn & Soybean Growers Annual Meeting
DESCRIPTION:Join the Polk County Corn & Soybean Growers at their annual meeting on Wednesday\, January 8th at 12:00pm. This will be held in conjunction with the Small Grains Update meetings. \n  \nLocation: Youngquist Auditorium\, Agricultural Research Center \n2900 University Ave \nCrookston\, MN 56716 \n  \nSpeakers: \nDr. Jim Anderson – Spring Wheat Breeder\, University of Minnesota \nTopic: Spring Wheat Variety Selection for 2025 \n  \nBruce Kleven – Legislative Strategist for MN Wheat \nTopic: 2025 Minnesota Legislative Session Update \n  \nDr. Angie Peltier – Extension Crops Educator\, UMN NWROC\, Crookston \nTopic: Growing Healthier Soybeans \n  \nJim Emter – CEO\, Van Ahn & Company\, Inc. \nTopic: A Four-Step Plan to Successful Grain Marketing in Uncertain Times \n  \nDr. Maciej Kazula – Research Director\, MN Corn \nTopic: Your Corn Check-off at Work in Research
URL:https://www.mncorn.org/single-event/polk-county-corn-soybean-growers-annual-meeting-3/
LOCATION:Youngquist Auditorium\, 2900 University Ave\, Crookston\, MN\, 56716
CATEGORIES:County Events
END:VEVENT
BEGIN:VEVENT
DTSTART;TZID=America/Chicago:20250108T080000
DTEND;TZID=America/Chicago:20250108T080000
DTSTAMP:20260425T095737
CREATED:20241218T203400Z
LAST-MODIFIED:20241218T203400Z
UID:32036-1736323200-1736323200@www.mncorn.org
SUMMARY:Norman County Corn & Soybean Growers Annual Meeting
DESCRIPTION:The Norman County Corn & Soybean Growers are holding their annual meeting on Wednesday\, January 8th starting at 8:00am. This is held in conjunction with the Small Grains Update. Lunch will be served. \n  \nLocation: \nLegion Rec Center\, 580 2nd Ave W\, Halstad\, MN\, 56548 \n  \nSpeakers: \nDr. Jim Anderson – Spring Wheat Breeder\, University of Minnesota \nTopic: Spring Wheat Variety Selection for 2025 \n  \nBruce Kleven – Legislative Strategist for MN Wheat \nTopic: 2025 Minnesota Legislative Session Update \n  \nDr. Angie Peltier – Extension Crops Educator\, UMN NWROC\, Crookston \nTopic: Growing Healthier Soybeans \n  \nJim Emter – CEO\, Van Ahn & Company\, Inc. \nTopic: A Four-Step Plan to Successful Grain Marketing in Uncertain Times \n  \nDr. Maciej Kazula – Research Director\, MN Corn \nTopic: Your Corn Check-off at Work in Research
URL:https://www.mncorn.org/single-event/norman-county-corn-soybean-growers-annual-meeting-3/
LOCATION:Legion Rec Center\, 580 2nd Ave W\, Halstad\, MN\, 56548
CATEGORIES:County Events
END:VEVENT
BEGIN:VEVENT
DTSTART;TZID=America/Chicago:20250107T120000
DTEND;TZID=America/Chicago:20250107T120000
DTSTAMP:20260425T095737
CREATED:20241218T202828Z
LAST-MODIFIED:20241218T202828Z
UID:32032-1736251200-1736251200@www.mncorn.org
SUMMARY:Clay/Wilkin Corn & Soybean Growers Annual Meeting
DESCRIPTION:Join the Clay/Wilkin Corn & Soybean Growers at their annual meeting on Tuesday\, January 7th at 12:00pm. This is held in conjunction with the Small Grains Update. Lunch will be served. \n  \nLocation: TAK Music Venue \n1710 Center Ave \nDilworth\, MN\, 56529 \n  \nSpeakers: \nDr. Jim Anderson – Spring Wheat Breeder\, University of Minnesota \nTopic: Spring Wheat Variety Selection for 2025 \n  \nBruce Kleven – Legislative Strategist for MN Wheat \nTopic: 2025 Minnesota Legislative Session Update \n  \nDr. Angie Peltier – Extension Crops Educator\, UMN NWROC\, Crookston \nTopic: Growing Healthier Soybeans \n  \nJim Emter – CEO\, Van Ahn & Company\, Inc. \nTopic: A Four-Step Plan to Successful Grain Marketing in Uncertain Times \n  \nDr. Maciej Kazula – Research Director\, MN Corn \nTopic: Your Corn Check-off at Work in Research \n 
URL:https://www.mncorn.org/single-event/clay-wilkin-corn-soybean-growers-annual-meeting/
LOCATION:TAK Music Venue\, 1710 Center Ave\, Dilworth\, MN\, 56529
CATEGORIES:County Events
END:VEVENT
BEGIN:VEVENT
DTSTART;TZID=America/Chicago:20250106T180000
DTEND;TZID=America/Chicago:20250106T180000
DTSTAMP:20260425T095737
CREATED:20241217T185749Z
LAST-MODIFIED:20241217T185749Z
UID:32010-1736186400-1736186400@www.mncorn.org
SUMMARY:Olmsted-Wabasha County Corn & Soybean Growers Annual Meeting
DESCRIPTION:Olmsted-Wabasha will be holding their annual meeting on Monday\, January 6th with a 6:00pm social and 6:30pm dinner. There will be updates provided from MN Corn and MN Soybean. \n  \nLocation: The BlackTop Bar and Grill \n30 Main St E \nElgin\, MN 55932 \n 
URL:https://www.mncorn.org/single-event/olmsted-wabasha-county-corn-soybean-growers-annual-meeting-3/
LOCATION:Blacktop Bar & Grill\, 30 Main St E\, Elgin\, MN\, 55932
CATEGORIES:County Events
END:VEVENT
BEGIN:VEVENT
DTSTART;TZID=America/Chicago:20241211T090000
DTEND;TZID=America/Chicago:20241212T154500
DTSTAMP:20260425T095737
CREATED:20241024T201015Z
LAST-MODIFIED:20241024T201015Z
UID:31624-1733907600-1734018300@www.mncorn.org
SUMMARY:2024 Prairie Grains Conference
DESCRIPTION:
URL:https://www.mncorn.org/single-event/2024-prairie-grains-conference/
LOCATION:Alerus Center\, 1200 S 42nd St\, Grand Forks\, North Dakota\, 58201
CATEGORIES:General Ag Events
END:VEVENT
BEGIN:VEVENT
DTSTART;TZID=America/Chicago:20241210T090000
DTEND;TZID=America/Chicago:20241210T170000
DTSTAMP:20260425T095737
CREATED:20241104T214916Z
LAST-MODIFIED:20241104T214916Z
UID:31683-1733821200-1733850000@www.mncorn.org
SUMMARY:Green Ammonia Summit
DESCRIPTION:Minnesota Farmers Union is organizing this Summit to bring together private sector partners\, technical experts\, energy and utility companies\, researchers\, policymakers\, and farm organizations to discuss the future of green fertilizer both in Minnesota and nationally. The Summit will take place on Tuesday\, December 10\, 2024\, in Oyate Hall at the University of Minnesota\, Morris from 9:00am-5:00pm. An opening reception dinner will be held on Monday\, December 9 at the Prime Steakhouse in Morris\, MN. \nLearn more here.
URL:https://www.mncorn.org/single-event/green-ammonia-summit/
LOCATION:Oyate Hall\, 600 East 4th Street\, Morris\, MN\, 56267
CATEGORIES:General Ag Events
END:VEVENT
BEGIN:VEVENT
DTSTART;TZID=America/Chicago:20241210T083000
DTEND;TZID=America/Chicago:20241210T123000
DTSTAMP:20260425T095737
CREATED:20241024T203533Z
LAST-MODIFIED:20241024T203533Z
UID:31651-1733819400-1733833800@www.mncorn.org
SUMMARY:Ag-Focused safeTALK Training - Brooks
DESCRIPTION:Agriculture-focused safeTALK is a 4-hour training in suicide alertness skills. This training will focus on farm/ranch stress and being suicide alert. Learn four basic steps to create a life-saving connection. Widely used by professionals and the general public. \nIf you know\, work with\, or are an ag producer…this training is for you! \nSponsored by Northwest Minnesota Foundation \nRegister here.
URL:https://www.mncorn.org/single-event/ag-focused-safetalk-training-brooks/
LOCATION:BROOKS COMMUNITY CENTER\, 200 Main Street\, Brooks\, MN\, 56715
CATEGORIES:General Ag Events
END:VEVENT
BEGIN:VEVENT
DTSTART;TZID=America/Chicago:20241206T083000
DTEND;TZID=America/Chicago:20241206T083000
DTSTAMP:20260425T095737
CREATED:20241114T222748Z
LAST-MODIFIED:20241115T155916Z
UID:31774-1733473800-1733473800@www.mncorn.org
SUMMARY:Nicollet/Sibley County Corn & Soybean Growers 2024 Plot Results & Crop Management Update
DESCRIPTION:The Nicollet/Sibley County Corn & Soybean Growers are hosting a Plot Results and Crop Management Update Day with the UMN Extension on December 6! Breakfast is at 8:30am with speakers to follow. Hope to see you there! \n  \nTimes: \n8:30 am- Breakfast\n9:00am- Welcome and Plot Results\n10:00am- Brad Carlson\, UMN Extension Educator: Nitrogen\n10:30am- TJ Kartes\, Saddle Butte Ag: Cover Crops\n11:00am- Matt Pfarr and Dave Nicolai\, UMN Extension Educators: Soybeans in South Central MN \n  \nLocation: Lafayette Community Center\n540 7th St\, Lafayette\, MN \n  \nNicolletSibley County Plot Data Day Postcard (2)
URL:https://www.mncorn.org/single-event/nicollet-sibley-county-corn-soybean-growers-2024-plot-results-crop-management-update/
LOCATION:Lafayette Community Center\, 540 7th St\, Lafayette\, MN\, 56054
CATEGORIES:County Events
END:VEVENT
BEGIN:VEVENT
DTSTART;TZID=America/Chicago:20241126T080000
DTEND;TZID=America/Chicago:20241126T080000
DTSTAMP:20260425T095737
CREATED:20241029T155658Z
LAST-MODIFIED:20241107T154605Z
UID:31658-1732608000-1732608000@www.mncorn.org
SUMMARY:Renville County Corn & Soybean Growers 2024 Plot Results Meeting
DESCRIPTION:The Renville County Corn & Soybean Growers are hosting their 2024 Plot Results Meeting on Tuesday\, November 26. Breakfast starts at 8:00am with speakers to follow! \n  \nLocation: Max’s Grill \n2425 W Lincoln Ave \nOlivia\, MN 56277 \n  \nPlot Results Postcard Renville 2024 (3)
URL:https://www.mncorn.org/single-event/renville-county-corn-soybean-growers-2024-plot-results-meeting/
LOCATION:Max’s Bar and Grill\, 2425 W Lincoln Ave\, Olivia\, MN\, 56277\, United States
CATEGORIES:County Events
END:VEVENT
BEGIN:VEVENT
DTSTART;TZID=America/Chicago:20241121T083000
DTEND;TZID=America/Chicago:20241121T123000
DTSTAMP:20260425T095737
CREATED:20241024T202900Z
LAST-MODIFIED:20241024T202900Z
UID:31639-1732177800-1732192200@www.mncorn.org
SUMMARY:Ag-Focused safeTALK Training - Crookston
DESCRIPTION:Agriculture-focused safeTALK is a 4-hour training in suicide alertness skills. This training will focus on farm/ranch stress and being suicide alert. Learn four basic steps to create a life-saving connection. Widely used by professionals and the general public. \nIf you know\, work with\, or are an ag producer…this training is for you! \nSponsored by Northwest Minnesota Foundation
URL:https://www.mncorn.org/single-event/ag-focused-safetalk-training-crookston/
LOCATION:Valley Technology Park\, County Rd\, Crookston\, MN\, 56716
CATEGORIES:General Ag Events
END:VEVENT
BEGIN:VEVENT
DTSTART;TZID=America/Chicago:20241120T083000
DTEND;TZID=America/Chicago:20241120T123000
DTSTAMP:20260425T095737
CREATED:20241024T202715Z
LAST-MODIFIED:20241024T202746Z
UID:31636-1732091400-1732105800@www.mncorn.org
SUMMARY:Ag-Focused safeTALK Training - Lancaster
DESCRIPTION:Agriculture-focused safeTALK is a 4-hour training in suicide alertness skills. This training will focus on farm/ranch stress and being suicide alert. Learn four basic steps to create a life-saving connection. Widely used by professionals and the general public. \nIf you know\, work with\, or are an ag producer…this training is for you! \nSponsored by Northwest Minnesota Foundation \nLancaster Community Center\, 122 Central Ave. \nRegister here.
URL:https://www.mncorn.org/single-event/ag-focused-safetalk-training-lancaster/
LOCATION:Lancaster Community Center\, 122 Central Avenue\, Lancaster\, MN\, 56735
CATEGORIES:General Ag Events
END:VEVENT
BEGIN:VEVENT
DTSTART;TZID=America/Chicago:20241120T073000
DTEND;TZID=America/Chicago:20241120T110000
DTSTAMP:20260425T095737
CREATED:20241113T215316Z
LAST-MODIFIED:20241113T215316Z
UID:31762-1732087800-1732100400@www.mncorn.org
SUMMARY:MCGA/MCR&PC joint meeting
DESCRIPTION:See the agenda here.
URL:https://www.mncorn.org/single-event/mcga-mcrpc-joint-meeting-4/
LOCATION:Minnesota
CATEGORIES:MCGA Events
END:VEVENT
BEGIN:VEVENT
DTSTART;TZID=America/Chicago:20241119T180000
DTEND;TZID=America/Chicago:20241119T180000
DTSTAMP:20260425T095737
CREATED:20241015T182707Z
LAST-MODIFIED:20241118T210004Z
UID:31558-1732039200-1732039200@www.mncorn.org
SUMMARY:Brown County Corn & Soybean Growers Annual Meeting
DESCRIPTION:The Brown County Corn & Soybean Growers are having their 2024 Annual Meeting on November 19th at the Sleepy Eye Brewery starting at 6:00pm. Hope to see you there!
URL:https://www.mncorn.org/single-event/brown-county-corn-growers-annual-meeting/
LOCATION:Sleepy Eye Brewing Company\, 121 Main St W\, Sleepy Eye\, MN
CATEGORIES:County Events
END:VEVENT
BEGIN:VEVENT
DTSTART;TZID=America/Chicago:20241114T130000
DTEND;TZID=America/Chicago:20241114T170000
DTSTAMP:20260425T095737
CREATED:20241024T202544Z
LAST-MODIFIED:20241024T202544Z
UID:31632-1731589200-1731603600@www.mncorn.org
SUMMARY:Ag-Focused safeTALK Training - Park Rapids
DESCRIPTION:Agriculture-focused safeTALK is a 4-hour training in suicide alertness skills. This training will focus on farm/ranch stress and being suicide alert. Learn four basic steps to create a life-saving connection. Widely used by professionals and the general public. \nIf you know\, work with\, or are an ag producer…this training is for you! \nSponsored by Northwest Minnesota Foundation \nRegister here.
URL:https://www.mncorn.org/single-event/ag-focused-safetalk-training-park-rapids/
LOCATION:Northwoods Bank of MN\, 1200 1st Street East\, Park Rapids\, MN\, 56470
CATEGORIES:General Ag Events
END:VEVENT
BEGIN:VEVENT
DTSTART;TZID=America/Chicago:20241106T083000
DTEND;TZID=America/Chicago:20241106T123000
DTSTAMP:20260425T095737
CREATED:20241024T202342Z
LAST-MODIFIED:20241024T202342Z
UID:31629-1730881800-1730896200@www.mncorn.org
SUMMARY:Ag-Focused safeTALK Training - Clearbrook
DESCRIPTION:Agriculture-focused safeTALK is a 4-hour training in suicide alertness skills. This training will focus on farm/ranch stress and being suicide alert. Learn four basic steps to create a life-saving connection. Widely used by professionals and the general public. \nIf you know\, work with\, or are an ag producer…this training is for you! \nSponsored by Northwest Minnesota Foundation \nRegister here.
URL:https://www.mncorn.org/single-event/ag-focused-safetalk-training-clearbrook/
LOCATION:CLEARBROOK CITY HALL & COMMUNITY CENTER\, 200 Elm Street SW\, Clearbrook\, MN\, 56634
CATEGORIES:General Ag Events
END:VEVENT
BEGIN:VEVENT
DTSTART;TZID=America/Chicago:20240917T170000
DTEND;TZID=America/Chicago:20240917T170000
DTSTAMP:20260425T095737
CREATED:20240829T185132Z
LAST-MODIFIED:20240829T185759Z
UID:31105-1726592400-1726592400@www.mncorn.org
SUMMARY:Steele County Corn & Soybean Growers Annual Meeting
DESCRIPTION:Join the Steele County Corn & Soybean growers at their annual meeting on Tuesday\, September 17th! \n  \nLocation: Mineral Springs Brewery \n111 N Walnut Ave Owatonna\, MN 55060 \n  \nTimes: \n5:00pm – Social Hour \n5:30pm – Brewery Tour \n6:00pm – Dinner (Sponsored by Matejcek’s Imp) \n6:45pm – Annual Meeting \n  \n*RSVP by September 13th by calling/texting Matt Heers to ensure your free meal and beverage. 507-475-1015 \n  \n*Each Person in attendance will receive one Free Beverage (Sponsored by Hodgman Drainage) \n  \n*For every person in attendance Steele County Corn and Soybean Growers will be donating $10 to Steele County FFA Chapters. \n  \nSteele co an mtg fy25
URL:https://www.mncorn.org/single-event/steele-county-corn-soybean-growers-annual-meeting-2/
LOCATION:Mineral Springs Brewery\, 111 Walnut Ave N\, Owatonna\, MN\, 55060\, United States
CATEGORIES:County Events
END:VEVENT
BEGIN:VEVENT
DTSTART;TZID=America/Chicago:20240913T150000
DTEND;TZID=America/Chicago:20240913T180000
DTSTAMP:20260425T095737
CREATED:20240827T183645Z
LAST-MODIFIED:20240827T183645Z
UID:31064-1726239600-1726250400@www.mncorn.org
SUMMARY:Todd County Corn & Soybean Growers Fuel Event
DESCRIPTION:Stop by Coborn’s and Little Dukes in Long Prairie on Friday\, September 13th for a corn grocery giveaway and fuel event! The corn grocery giveaway runs from 3:00-5:00pm or until gone in Coborn’s. The fuel event will be from 4:00-6:00pm at Little Duke’s. \n  \nCoborn’s Address: \n645 Lake St S\, Long Prairie\, MN 56347 \n  \nDiscounts Offered: \nE-15 – $1.15 off/ gal\nE-30 – $1.30 off/gal\nE-85 – $0.85/gal\nBiodiesel – $1.20 off/gal \n  \nTodd County Station Event Poster Fall 2024 (1)
URL:https://www.mncorn.org/single-event/todd-county-corn-soybean-growers-fuel-event-3/
LOCATION:Coborn’s Long Prairie\, 645 Lake St S\, Long Prairie\, MN\, 56347
CATEGORIES:County Events
END:VEVENT
BEGIN:VEVENT
DTSTART;TZID=America/Chicago:20240912T170000
DTEND;TZID=America/Chicago:20240912T170000
DTSTAMP:20260425T095737
CREATED:20240827T182809Z
LAST-MODIFIED:20240827T182809Z
UID:31061-1726160400-1726160400@www.mncorn.org
SUMMARY:Nicollet/Sibley County Corn & Soybean Growers Plot Day
DESCRIPTION:The Nicollet/Sibley County Corn & Soybean growers are hosting a plot day on September 12th at Dan Widmer’s Farm. Supper will start at 5:30pm with a plot tour and speaker to follow at 6:00pm. \n  \nLocation: Dan Widmer’s Farm\n46354 310th St\nGaylord\, MN 55334 \n  \nSpeaker: Nate Firle \nKnowing the profit risk and time associated with testing on a large field scale\, Nate Firle of Gibbon\, MN designated small acres to strip trial replicated research to gain an understanding of not just how a product performs\, but why. Allocating the appropriate time and acres created opportunities to test new products as they surface\, providing practical data to area farmers\, without taking the high profitability risks of field trials. Since the first replicated trial 10 years ago\, Nate has geared up with the right equipment\, experience\, and people to explore innovative practices\, products\, and new technologies on over 400 acres known today as AgRevival Research. \n  \nNate will be presenting on a variety of topics including: \n-Tire Pressure and its impact on yield and ROI\n-Placement Matters – Practical way to “banding” nutrients\n-Product Characterization Research \n  \nNicollet Sibley County Plot Day 2024 \n 
URL:https://www.mncorn.org/single-event/nicollet-sibley-county-corn-soybean-growers-plot-day-3/
LOCATION:Dan Widmer Farm\, 46354 310th St\, Gaylord\, MN\, 55334
CATEGORIES:County Events
END:VEVENT
BEGIN:VEVENT
DTSTART;TZID=America/Chicago:20240912T110000
DTEND;TZID=America/Chicago:20240912T110000
DTSTAMP:20260425T095737
CREATED:20240814T163754Z
LAST-MODIFIED:20240814T163754Z
UID:31016-1726138800-1726138800@www.mncorn.org
SUMMARY:Mower County Corn & Soybean Growers Plot Day
DESCRIPTION:Mower County is hosting a plot day on Thursday\, September 12th! There will be a plot tour at 11:00am with a steak lunch at noon. \n  \nLocation: Corey Hansen Farm \n15588 540th Ave Austin\, MN 55912
URL:https://www.mncorn.org/single-event/mower-county-corn-soybean-growers-plot-day-2/
LOCATION:Corey Hansen Farm\, 15588 540th Ave.\, Austin\, MN\, 55912\, United States
CATEGORIES:County Events
END:VEVENT
BEGIN:VEVENT
DTSTART;TZID=America/Chicago:20240911T140000
DTEND;TZID=America/Chicago:20240911T180000
DTSTAMP:20260425T095737
CREATED:20240814T162544Z
LAST-MODIFIED:20240814T162544Z
UID:31008-1726063200-1726077600@www.mncorn.org
SUMMARY:Morrison Crow Wing County Corn Growers Plot Day - Non irrigated plot
DESCRIPTION:The Morrison Crow Wing County Corn Growers are hosting two plot days this year\, one irrigated plot and one non-irrigated plot. The second plot day will be the non-irrigated plot on September 11th from 2:00-6:00pm. \nAddress: 7351 Hwy 25\, Pierz \nTime: 2:00-6:00pm (a light meal will be provided) \nMorrison Crow Wing Plot Days 2024 (2)
URL:https://www.mncorn.org/single-event/morrison-crow-wing-county-corn-growers-plot-day-non-irrigated-plot/
LOCATION:7351 Hwy 25\, 7351 Hwy 25\, Pierz\, MN\, 56364
CATEGORIES:County Events
END:VEVENT
BEGIN:VEVENT
DTSTART;TZID=America/Chicago:20240910T110000
DTEND;TZID=America/Chicago:20240910T130000
DTSTAMP:20260425T095737
CREATED:20240814T163356Z
LAST-MODIFIED:20240814T163356Z
UID:31014-1725966000-1725973200@www.mncorn.org
SUMMARY:Filmore County Corn & Soybean Growers Plot Day and Annual Meeting
DESCRIPTION:Join Fillmore County for their Plot Day & Annual Meeting on Tuesday\, September 10th! \nTime: 11:00am-1:00pm (lunch will be provided) \nLocation: 2 miles east of Fountain on County 8. Corner of Jade Rd/Co 8\, across the road from 27355 County 8
URL:https://www.mncorn.org/single-event/filmore-county-corn-soybean-growers-plot-day-and-annual-meeting/
LOCATION:Minnesota
CATEGORIES:County Events
END:VEVENT
BEGIN:VEVENT
DTSTART;TZID=America/Chicago:20240909T110000
DTEND;TZID=America/Chicago:20240909T110000
DTSTAMP:20260425T095737
CREATED:20240821T155043Z
LAST-MODIFIED:20240821T155043Z
UID:31027-1725879600-1725879600@www.mncorn.org
SUMMARY:Fairbault County Corn & Soybean Growers Plot Day
DESCRIPTION:Join the Faribault County Corn & Soybean Growers for their plot day on September 9th! \n  \nTime: 11:00am plot tour\, lunch to follow \nLocation: Jeff Ignaszewski Farm \n61385 270th St Wells\, MN 56097
URL:https://www.mncorn.org/single-event/fairbault-county-corn-soybean-growers-plot-day/
LOCATION:Jeff Ignaszewski Farm\, 61385 270th Street\, Wells\, MN\, 56097\, United States
CATEGORIES:County Events
END:VEVENT
END:VCALENDAR